BEGIN:VCALENDAR
VERSION:2.0
PRODID:-//The Ethel Walker School - ECPv6.15.12//NONSGML v1.0//EN
CALSCALE:GREGORIAN
METHOD:PUBLISH
X-WR-CALNAME:The Ethel Walker School
X-ORIGINAL-URL:https://www.ethelwalker.org
X-WR-CALDESC:Events for The Ethel Walker School
REFRESH-INTERVAL;VALUE=DURATION:PT1H
X-Robots-Tag:noindex
X-PUBLISHED-TTL:PT1H
BEGIN:VTIMEZONE
TZID:America/New_York
BEGIN:DAYLIGHT
TZOFFSETFROM:-0500
TZOFFSETTO:-0400
TZNAME:EDT
DTSTART:20250309T070000
END:DAYLIGHT
BEGIN:STANDARD
TZOFFSETFROM:-0400
TZOFFSETTO:-0500
TZNAME:EST
DTSTART:20251102T060000
END:STANDARD
BEGIN:DAYLIGHT
TZOFFSETFROM:-0500
TZOFFSETTO:-0400
TZNAME:EDT
DTSTART:20260308T070000
END:DAYLIGHT
BEGIN:STANDARD
TZOFFSETFROM:-0400
TZOFFSETTO:-0500
TZNAME:EST
DTSTART:20261101T060000
END:STANDARD
BEGIN:DAYLIGHT
TZOFFSETFROM:-0500
TZOFFSETTO:-0400
TZNAME:EDT
DTSTART:20270314T070000
END:DAYLIGHT
BEGIN:STANDARD
TZOFFSETFROM:-0400
TZOFFSETTO:-0500
TZNAME:EST
DTSTART:20271107T060000
END:STANDARD
END:VTIMEZONE
BEGIN:VEVENT
DTSTART;TZID=America/New_York:20260407T190000
DTEND;TZID=America/New_York:20260407T194500
DTSTAMP:20260422T115414
CREATED:20260306T203416Z
LAST-MODIFIED:20260316T143028Z
UID:23334-1775588400-1775591100@www.ethelwalker.org
SUMMARY:Affinity Group Virtual Welcome 
DESCRIPTION:Students who are offered admission on Tuesday\, March 10 are invited back to campus for our Revisit Experience. \n\n\n\nReady to find your “home within a home?” Join us for an exclusive virtual hangout designed for newly accepted students to dive into our vibrant affinity groups! This event will give you an opportunity to meet affinity group leaders\, ask questions\, and connect with your future classmates. You will hear from the main affinity groups on campus\, including the Asian Student Collective\, Black Student Union\, Jewish Student Union\, Latin American Student Organization\, and Wings\, our LGBTQ+ group. \n\n\n\nVisit your accepted student portal to register!
URL:https://www.ethelwalker.org/event/affinity-group-virtual-welcome/
CATEGORIES:Admission
END:VEVENT
END:VCALENDAR