BEGIN:VCALENDAR
VERSION:2.0
PRODID:-//The Ethel Walker School - ECPv6.15.12//NONSGML v1.0//EN
CALSCALE:GREGORIAN
METHOD:PUBLISH
X-WR-CALNAME:The Ethel Walker School
X-ORIGINAL-URL:https://www.ethelwalker.org
X-WR-CALDESC:Events for The Ethel Walker School
REFRESH-INTERVAL;VALUE=DURATION:PT1H
X-Robots-Tag:noindex
X-PUBLISHED-TTL:PT1H
BEGIN:VTIMEZONE
TZID:America/New_York
BEGIN:DAYLIGHT
TZOFFSETFROM:-0500
TZOFFSETTO:-0400
TZNAME:EDT
DTSTART:20230312T070000
END:DAYLIGHT
BEGIN:STANDARD
TZOFFSETFROM:-0400
TZOFFSETTO:-0500
TZNAME:EST
DTSTART:20231105T060000
END:STANDARD
BEGIN:DAYLIGHT
TZOFFSETFROM:-0500
TZOFFSETTO:-0400
TZNAME:EDT
DTSTART:20240310T070000
END:DAYLIGHT
BEGIN:STANDARD
TZOFFSETFROM:-0400
TZOFFSETTO:-0500
TZNAME:EST
DTSTART:20241103T060000
END:STANDARD
BEGIN:DAYLIGHT
TZOFFSETFROM:-0500
TZOFFSETTO:-0400
TZNAME:EDT
DTSTART:20250309T070000
END:DAYLIGHT
BEGIN:STANDARD
TZOFFSETFROM:-0400
TZOFFSETTO:-0500
TZNAME:EST
DTSTART:20251102T060000
END:STANDARD
END:VTIMEZONE
BEGIN:VEVENT
DTSTART;TZID=America/New_York:20240624T000000
DTEND;TZID=America/New_York:20240628T235959
DTSTAMP:20260422T060543
CREATED:20240614T163223Z
LAST-MODIFIED:20240614T163224Z
UID:19272-1719187200-1719619199@www.ethelwalker.org
SUMMARY:Khalil Dukes Elite Basketball Camp
DESCRIPTION:learn more
URL:https://www.ethelwalker.org/event/khalil-dukes-elite-basketball-camp/
CATEGORIES:Summer Programs
ORGANIZER;CN="Mimi Duran%2C Director of Summer Programs":MAILTO:mduran@ethelwalker.org
END:VEVENT
END:VCALENDAR