BEGIN:VCALENDAR
VERSION:2.0
PRODID:-//The Ethel Walker School - ECPv6.15.12//NONSGML v1.0//EN
CALSCALE:GREGORIAN
METHOD:PUBLISH
X-WR-CALNAME:The Ethel Walker School
X-ORIGINAL-URL:https://www.ethelwalker.org
X-WR-CALDESC:Events for The Ethel Walker School
REFRESH-INTERVAL;VALUE=DURATION:PT1H
X-Robots-Tag:noindex
X-PUBLISHED-TTL:PT1H
BEGIN:VTIMEZONE
TZID:America/New_York
BEGIN:DAYLIGHT
TZOFFSETFROM:-0500
TZOFFSETTO:-0400
TZNAME:EDT
DTSTART:20230312T070000
END:DAYLIGHT
BEGIN:STANDARD
TZOFFSETFROM:-0400
TZOFFSETTO:-0500
TZNAME:EST
DTSTART:20231105T060000
END:STANDARD
BEGIN:DAYLIGHT
TZOFFSETFROM:-0500
TZOFFSETTO:-0400
TZNAME:EDT
DTSTART:20240310T070000
END:DAYLIGHT
BEGIN:STANDARD
TZOFFSETFROM:-0400
TZOFFSETTO:-0500
TZNAME:EST
DTSTART:20241103T060000
END:STANDARD
BEGIN:DAYLIGHT
TZOFFSETFROM:-0500
TZOFFSETTO:-0400
TZNAME:EDT
DTSTART:20250309T070000
END:DAYLIGHT
BEGIN:STANDARD
TZOFFSETFROM:-0400
TZOFFSETTO:-0500
TZNAME:EST
DTSTART:20251102T060000
END:STANDARD
END:VTIMEZONE
BEGIN:VEVENT
DTSTART;TZID=America/New_York:20240930T160000
DTEND;TZID=America/New_York:20240930T173000
DTSTAMP:20260423T191655
CREATED:20240923T181209Z
LAST-MODIFIED:20240923T181210Z
UID:20043-1727712000-1727717400@www.ethelwalker.org
SUMMARY:Meet and Greet with Author Mary Melvin Fleming '75
DESCRIPTION:Please join the Walker’s community on September 30 from 4:00-5:30 p.m. for a reading\, book signing\, and a wine and cheese reception with author and Walker’s alumna Mary Melvin Fleming ‘75. We will gather in the Constance Lavino Bell ’48 Library on The Ethel Walker School campus. \n\n\n\nOriginally from Chicago\, Mary graduated from Walker’s in 1975 and moved to Paris in 1981\, where she worked as a freelance journalist and consultant before turning full-time to writing fiction. Her novel Someone Else was published in 2014 and The Art of Regret in 2019. A new novel\, Civilisation Française\, was recently released this July. Also a talented photographer\, Mary chronicles her French life between Paris and the Perche (Normandy) in the photo essay A Paris-Perche Diary. Be sure to check out all of her work on her website. \n\n\n\n\nRegister
URL:https://www.ethelwalker.org/event/meet-and-greet-with-author-mary-melvin-fleming-75/
CATEGORIES:Alumnae,Parent Events
END:VEVENT
END:VCALENDAR