BEGIN:VCALENDAR
VERSION:2.0
PRODID:-//The Ethel Walker School - ECPv6.15.12//NONSGML v1.0//EN
CALSCALE:GREGORIAN
METHOD:PUBLISH
X-WR-CALNAME:The Ethel Walker School
X-ORIGINAL-URL:https://www.ethelwalker.org
X-WR-CALDESC:Events for The Ethel Walker School
REFRESH-INTERVAL;VALUE=DURATION:PT1H
X-Robots-Tag:noindex
X-PUBLISHED-TTL:PT1H
BEGIN:VTIMEZONE
TZID:America/New_York
BEGIN:DAYLIGHT
TZOFFSETFROM:-0500
TZOFFSETTO:-0400
TZNAME:EDT
DTSTART:20230312T070000
END:DAYLIGHT
BEGIN:STANDARD
TZOFFSETFROM:-0400
TZOFFSETTO:-0500
TZNAME:EST
DTSTART:20231105T060000
END:STANDARD
BEGIN:DAYLIGHT
TZOFFSETFROM:-0500
TZOFFSETTO:-0400
TZNAME:EDT
DTSTART:20240310T070000
END:DAYLIGHT
BEGIN:STANDARD
TZOFFSETFROM:-0400
TZOFFSETTO:-0500
TZNAME:EST
DTSTART:20241103T060000
END:STANDARD
BEGIN:DAYLIGHT
TZOFFSETFROM:-0500
TZOFFSETTO:-0400
TZNAME:EDT
DTSTART:20250309T070000
END:DAYLIGHT
BEGIN:STANDARD
TZOFFSETFROM:-0400
TZOFFSETTO:-0500
TZNAME:EST
DTSTART:20251102T060000
END:STANDARD
END:VTIMEZONE
BEGIN:VEVENT
DTSTART;TZID=America/New_York:20241002T143000
DTEND;TZID=America/New_York:20241002T160000
DTSTAMP:20260421T153231
CREATED:20240802T161032Z
LAST-MODIFIED:20241007T152853Z
UID:19467-1727879400-1727884800@www.ethelwalker.org
SUMMARY:Varsity Volleyball @ Loomis Chaffee School
DESCRIPTION:
URL:https://www.ethelwalker.org/event/varsity-volleyball-loomis-chaffee-school/
LOCATION:Loomis Chaffee School\, 4 Batchelder Rd\, Windsor\, Connecticut\, 06095\, United States
CATEGORIES:Athletic Games
END:VEVENT
END:VCALENDAR