BEGIN:VCALENDAR
VERSION:2.0
PRODID:-//The Ethel Walker School - ECPv6.15.12//NONSGML v1.0//EN
CALSCALE:GREGORIAN
METHOD:PUBLISH
X-WR-CALNAME:The Ethel Walker School
X-ORIGINAL-URL:https://www.ethelwalker.org
X-WR-CALDESC:Events for The Ethel Walker School
REFRESH-INTERVAL;VALUE=DURATION:PT1H
X-Robots-Tag:noindex
X-PUBLISHED-TTL:PT1H
BEGIN:VTIMEZONE
TZID:America/New_York
BEGIN:DAYLIGHT
TZOFFSETFROM:-0500
TZOFFSETTO:-0400
TZNAME:EDT
DTSTART:20240310T070000
END:DAYLIGHT
BEGIN:STANDARD
TZOFFSETFROM:-0400
TZOFFSETTO:-0500
TZNAME:EST
DTSTART:20241103T060000
END:STANDARD
BEGIN:DAYLIGHT
TZOFFSETFROM:-0500
TZOFFSETTO:-0400
TZNAME:EDT
DTSTART:20250309T070000
END:DAYLIGHT
BEGIN:STANDARD
TZOFFSETFROM:-0400
TZOFFSETTO:-0500
TZNAME:EST
DTSTART:20251102T060000
END:STANDARD
BEGIN:DAYLIGHT
TZOFFSETFROM:-0500
TZOFFSETTO:-0400
TZNAME:EDT
DTSTART:20260308T070000
END:DAYLIGHT
BEGIN:STANDARD
TZOFFSETFROM:-0400
TZOFFSETTO:-0500
TZNAME:EST
DTSTART:20261101T060000
END:STANDARD
END:VTIMEZONE
BEGIN:VEVENT
DTSTART;TZID=America/New_York:20250210T160000
DTEND;TZID=America/New_York:20250210T170000
DTSTAMP:20260423T130132
CREATED:20241115T183255Z
LAST-MODIFIED:20250211T205826Z
UID:10004359-1739203200-1739206800@www.ethelwalker.org
SUMMARY:Middle School Basketball vs. Grace Academy
DESCRIPTION:
URL:https://www.ethelwalker.org/event/middle-school-basketball-vs-grace-academy/
LOCATION:The Ethel Walker School\, 230 Bushy Hill Road\, Simsbury\, 06070\, United States
CATEGORIES:Athletic Games
END:VEVENT
BEGIN:VEVENT
DTSTART;TZID=America/New_York:20250210T164500
DTEND;TZID=America/New_York:20250210T181500
DTSTAMP:20260423T130132
CREATED:20241115T182949Z
LAST-MODIFIED:20250222T143851Z
UID:10004358-1739205900-1739211300@www.ethelwalker.org
SUMMARY:JV Basketball @ The Master's School
DESCRIPTION:
URL:https://www.ethelwalker.org/event/jv-basketball-the-masters-school-2/
LOCATION:The Master’s School\, 36 Westledge Road\, West Simsbury\, Connecticut\, 06092\, United States
CATEGORIES:Athletic Games
END:VEVENT
END:VCALENDAR