BEGIN:VCALENDAR
VERSION:2.0
PRODID:-//The Ethel Walker School - ECPv6.15.12//NONSGML v1.0//EN
CALSCALE:GREGORIAN
METHOD:PUBLISH
X-WR-CALNAME:The Ethel Walker School
X-ORIGINAL-URL:https://www.ethelwalker.org
X-WR-CALDESC:Events for The Ethel Walker School
REFRESH-INTERVAL;VALUE=DURATION:PT1H
X-Robots-Tag:noindex
X-PUBLISHED-TTL:PT1H
BEGIN:VTIMEZONE
TZID:America/New_York
BEGIN:DAYLIGHT
TZOFFSETFROM:-0500
TZOFFSETTO:-0400
TZNAME:EDT
DTSTART:20240310T070000
END:DAYLIGHT
BEGIN:STANDARD
TZOFFSETFROM:-0400
TZOFFSETTO:-0500
TZNAME:EST
DTSTART:20241103T060000
END:STANDARD
BEGIN:DAYLIGHT
TZOFFSETFROM:-0500
TZOFFSETTO:-0400
TZNAME:EDT
DTSTART:20250309T070000
END:DAYLIGHT
BEGIN:STANDARD
TZOFFSETFROM:-0400
TZOFFSETTO:-0500
TZNAME:EST
DTSTART:20251102T060000
END:STANDARD
BEGIN:DAYLIGHT
TZOFFSETFROM:-0500
TZOFFSETTO:-0400
TZNAME:EDT
DTSTART:20260308T070000
END:DAYLIGHT
BEGIN:STANDARD
TZOFFSETFROM:-0400
TZOFFSETTO:-0500
TZNAME:EST
DTSTART:20261101T060000
END:STANDARD
END:VTIMEZONE
BEGIN:VEVENT
DTSTART;TZID=America/New_York:20250414T082500
DTEND;TZID=America/New_York:20250414T153000
DTSTAMP:20260423T101933
CREATED:20250407T155002Z
LAST-MODIFIED:20250407T155004Z
UID:10004509-1744619100-1744644600@www.ethelwalker.org
SUMMARY:10th Grade College Trip (R/10)
DESCRIPTION:
URL:https://www.ethelwalker.org/event/10th-grade-college-trip-r-10-3/
LOCATION:Connecticut
CATEGORIES:College Counseling
ORGANIZER;CN="Clarissa Basch%2C Director of College Counseling":MAILTO:cbasch@ethelwalker.org
END:VEVENT
BEGIN:VEVENT
DTSTART;TZID=America/New_York:20250414T163000
DTEND;TZID=America/New_York:20250414T174500
DTSTAMP:20260423T101933
CREATED:20250226T194658Z
LAST-MODIFIED:20250422T135443Z
UID:10004452-1744648200-1744652700@www.ethelwalker.org
SUMMARY:Varsity Tennis vs. The Hotchkiss School
DESCRIPTION:
URL:https://www.ethelwalker.org/event/varsity-tennis-vs-the-hotchkiss-school/
LOCATION:The Ethel Walker School\, 230 Bushy Hill Road\, Simsbury\, 06070\, United States
CATEGORIES:Athletic Games
END:VEVENT
BEGIN:VEVENT
DTSTART;TZID=America/New_York:20250414T163000
DTEND;TZID=America/New_York:20250414T183000
DTSTAMP:20260423T101933
CREATED:20250224T191929Z
LAST-MODIFIED:20250414T120742Z
UID:10004434-1744648200-1744655400@www.ethelwalker.org
SUMMARY:Varsity Softball vs. Choate Rosemary Hall
DESCRIPTION:
URL:https://www.ethelwalker.org/event/varsity-softball-vs-choate-rosemary-hall-2/
LOCATION:The Ethel Walker School\, 230 Bushy Hill Road\, Simsbury\, 06070\, United States
CATEGORIES:Athletic Games
END:VEVENT
END:VCALENDAR