BEGIN:VCALENDAR
VERSION:2.0
PRODID:-//The Ethel Walker School - ECPv6.15.12//NONSGML v1.0//EN
CALSCALE:GREGORIAN
METHOD:PUBLISH
X-ORIGINAL-URL:https://www.ethelwalker.org
X-WR-CALDESC:Events for The Ethel Walker School
REFRESH-INTERVAL;VALUE=DURATION:PT1H
X-Robots-Tag:noindex
X-PUBLISHED-TTL:PT1H
BEGIN:VTIMEZONE
TZID:America/New_York
BEGIN:DAYLIGHT
TZOFFSETFROM:-0500
TZOFFSETTO:-0400
TZNAME:EDT
DTSTART:20240310T070000
END:DAYLIGHT
BEGIN:STANDARD
TZOFFSETFROM:-0400
TZOFFSETTO:-0500
TZNAME:EST
DTSTART:20241103T060000
END:STANDARD
BEGIN:DAYLIGHT
TZOFFSETFROM:-0500
TZOFFSETTO:-0400
TZNAME:EDT
DTSTART:20250309T070000
END:DAYLIGHT
BEGIN:STANDARD
TZOFFSETFROM:-0400
TZOFFSETTO:-0500
TZNAME:EST
DTSTART:20251102T060000
END:STANDARD
BEGIN:DAYLIGHT
TZOFFSETFROM:-0500
TZOFFSETTO:-0400
TZNAME:EDT
DTSTART:20260308T070000
END:DAYLIGHT
BEGIN:STANDARD
TZOFFSETFROM:-0400
TZOFFSETTO:-0500
TZNAME:EST
DTSTART:20261101T060000
END:STANDARD
END:VTIMEZONE
BEGIN:VEVENT
DTSTART;TZID=America/New_York:20250415T163000
DTEND;TZID=America/New_York:20250415T174500
DTSTAMP:20260419T125325
CREATED:20250224T162137Z
LAST-MODIFIED:20250416T181823Z
UID:10004425-1744734600-1744739100@www.ethelwalker.org
SUMMARY:Middle School Lacrosse vs. Rumsey Hall School
DESCRIPTION:
URL:https://www.ethelwalker.org/event/middle-school-lacrosse-vs-rumsey-hall-school-2/
LOCATION:The Ethel Walker School JV/Varsity Lacrosse Fields\, 96 Sand Hill Road\, Simsbury\, Connecticut\, 06070\, United States
CATEGORIES:Athletic Games
END:VEVENT
BEGIN:VEVENT
DTSTART;TZID=America/New_York:20250415T183000
DTEND;TZID=America/New_York:20250415T203000
DTSTAMP:20260419T125325
CREATED:20240614T144935Z
LAST-MODIFIED:20240614T144936Z
UID:10004069-1744741800-1744749000@www.ethelwalker.org
SUMMARY:Hartford Area Independent Secondary School College Counselors Association College Fair (R/11)
DESCRIPTION:This event is required for all Juniors.
URL:https://www.ethelwalker.org/event/hartford-area-independent-secondary-school-college-counselors-association-college-fair-r-11/
LOCATION:Connecticut
CATEGORIES:College Counseling,Upper School
ORGANIZER;CN="Clarissa Basch%2C Director of College Counseling":MAILTO:cbasch@ethelwalker.org
END:VEVENT
END:VCALENDAR