BEGIN:VCALENDAR
VERSION:2.0
PRODID:-//The Ethel Walker School - ECPv6.15.12//NONSGML v1.0//EN
CALSCALE:GREGORIAN
METHOD:PUBLISH
X-WR-CALNAME:The Ethel Walker School
X-ORIGINAL-URL:https://www.ethelwalker.org
X-WR-CALDESC:Events for The Ethel Walker School
REFRESH-INTERVAL;VALUE=DURATION:PT1H
X-Robots-Tag:noindex
X-PUBLISHED-TTL:PT1H
BEGIN:VTIMEZONE
TZID:America/New_York
BEGIN:DAYLIGHT
TZOFFSETFROM:-0500
TZOFFSETTO:-0400
TZNAME:EDT
DTSTART:20240310T070000
END:DAYLIGHT
BEGIN:STANDARD
TZOFFSETFROM:-0400
TZOFFSETTO:-0500
TZNAME:EST
DTSTART:20241103T060000
END:STANDARD
BEGIN:DAYLIGHT
TZOFFSETFROM:-0500
TZOFFSETTO:-0400
TZNAME:EDT
DTSTART:20250309T070000
END:DAYLIGHT
BEGIN:STANDARD
TZOFFSETFROM:-0400
TZOFFSETTO:-0500
TZNAME:EST
DTSTART:20251102T060000
END:STANDARD
BEGIN:DAYLIGHT
TZOFFSETFROM:-0500
TZOFFSETTO:-0400
TZNAME:EDT
DTSTART:20260308T070000
END:DAYLIGHT
BEGIN:STANDARD
TZOFFSETFROM:-0400
TZOFFSETTO:-0500
TZNAME:EST
DTSTART:20261101T060000
END:STANDARD
END:VTIMEZONE
BEGIN:VEVENT
DTSTART;TZID=America/New_York:20250502T163000
DTEND;TZID=America/New_York:20250502T174500
DTSTAMP:20260424T104442
CREATED:20250224T161316Z
LAST-MODIFIED:20250512T185407Z
UID:10004420-1746203400-1746207900@www.ethelwalker.org
SUMMARY:JV Lacrosse vs. Westminster School
DESCRIPTION:
URL:https://www.ethelwalker.org/event/jv-lacrosse-vs-westminster-school/
LOCATION:The Ethel Walker School JV/Varsity Lacrosse Fields\, 96 Sand Hill Road\, Simsbury\, Connecticut\, 06070\, United States
CATEGORIES:Athletic Games
END:VEVENT
BEGIN:VEVENT
DTSTART;TZID=America/New_York:20250502T163000
DTEND;TZID=America/New_York:20250502T180000
DTSTAMP:20260424T104442
CREATED:20250302T185136Z
LAST-MODIFIED:20250302T185210Z
UID:10004475-1746203400-1746208800@www.ethelwalker.org
SUMMARY:Varsity Lacrosse vs. Westminster School
DESCRIPTION:
URL:https://www.ethelwalker.org/event/varsity-lacrosse-vs-westminster-school-2/
LOCATION:The Ethel Walker School JV/Varsity Lacrosse Fields\, 96 Sand Hill Road\, Simsbury\, Connecticut\, 06070\, United States
CATEGORIES:Athletic Games
END:VEVENT
BEGIN:VEVENT
DTSTART;TZID=America/New_York:20250502T164500
DTEND;TZID=America/New_York:20250502T181500
DTSTAMP:20260424T104442
CREATED:20250226T194124Z
LAST-MODIFIED:20250410T160136Z
UID:10004449-1746204300-1746209700@www.ethelwalker.org
SUMMARY:Varsity Tennis @ Westminster School
DESCRIPTION:
URL:https://www.ethelwalker.org/event/varsity-tennis-westminster-school-2/
LOCATION:Westminster School\, 995 Hopmeadow Street\, Simsbury\, Connecticut\, 06070\, United States
CATEGORIES:Athletic Games
END:VEVENT
END:VCALENDAR