BEGIN:VCALENDAR
VERSION:2.0
PRODID:-//The Ethel Walker School - ECPv6.15.12//NONSGML v1.0//EN
CALSCALE:GREGORIAN
METHOD:PUBLISH
X-WR-CALNAME:The Ethel Walker School
X-ORIGINAL-URL:https://www.ethelwalker.org
X-WR-CALDESC:Events for The Ethel Walker School
REFRESH-INTERVAL;VALUE=DURATION:PT1H
X-Robots-Tag:noindex
X-PUBLISHED-TTL:PT1H
BEGIN:VTIMEZONE
TZID:America/New_York
BEGIN:DAYLIGHT
TZOFFSETFROM:-0500
TZOFFSETTO:-0400
TZNAME:EDT
DTSTART:20240310T070000
END:DAYLIGHT
BEGIN:STANDARD
TZOFFSETFROM:-0400
TZOFFSETTO:-0500
TZNAME:EST
DTSTART:20241103T060000
END:STANDARD
BEGIN:DAYLIGHT
TZOFFSETFROM:-0500
TZOFFSETTO:-0400
TZNAME:EDT
DTSTART:20250309T070000
END:DAYLIGHT
BEGIN:STANDARD
TZOFFSETFROM:-0400
TZOFFSETTO:-0500
TZNAME:EST
DTSTART:20251102T060000
END:STANDARD
BEGIN:DAYLIGHT
TZOFFSETFROM:-0500
TZOFFSETTO:-0400
TZNAME:EDT
DTSTART:20260308T070000
END:DAYLIGHT
BEGIN:STANDARD
TZOFFSETFROM:-0400
TZOFFSETTO:-0500
TZNAME:EST
DTSTART:20261101T060000
END:STANDARD
END:VTIMEZONE
BEGIN:VEVENT
DTSTART;TZID=America/New_York:20251025T120000
DTEND;TZID=America/New_York:20251025T133000
DTSTAMP:20260425T163045
CREATED:20250730T123348Z
LAST-MODIFIED:20251027T191516Z
UID:10004677-1761393600-1761399000@www.ethelwalker.org
SUMMARY:Varsity Volleyball @ Miss Porter's School
DESCRIPTION:
URL:https://www.ethelwalker.org/event/varsity-volleyball-miss-porters-school-3/
LOCATION:Miss Porter’s School\, 60 Main Street\, Farmington\, Connecticut\, 06032
CATEGORIES:Athletic Games
END:VEVENT
BEGIN:VEVENT
DTSTART;TZID=America/New_York:20251025T133000
DTEND;TZID=America/New_York:20251025T144500
DTSTAMP:20260425T163045
CREATED:20250729T151451Z
LAST-MODIFIED:20251030T135419Z
UID:10004616-1761399000-1761403500@www.ethelwalker.org
SUMMARY:Varsity Field Hockey @ Miss Porter's School
DESCRIPTION:
URL:https://www.ethelwalker.org/event/varsity-field-hockey-miss-porters-school-3/
LOCATION:Miss Porter’s School\, 60 Main Street\, Farmington\, Connecticut\, 06032
CATEGORIES:Athletic Games
END:VEVENT
BEGIN:VEVENT
DTSTART;TZID=America/New_York:20251025T140000
DTEND;TZID=America/New_York:20251025T150000
DTSTAMP:20260425T163045
CREATED:20250730T131337Z
LAST-MODIFIED:20250730T131408Z
UID:10004692-1761400800-1761404400@www.ethelwalker.org
SUMMARY:JV Volleyball @ Miss Porter's School
DESCRIPTION:
URL:https://www.ethelwalker.org/event/jv-volleyball-miss-porters-school-3/
LOCATION:Miss Porter’s School\, 60 Main Street\, Farmington\, Connecticut\, 06032
CATEGORIES:Athletic Games
END:VEVENT
BEGIN:VEVENT
DTSTART;TZID=America/New_York:20251025T140000
DTEND;TZID=America/New_York:20251025T153000
DTSTAMP:20260425T163045
CREATED:20250729T185143Z
LAST-MODIFIED:20251027T125910Z
UID:10004639-1761400800-1761406200@www.ethelwalker.org
SUMMARY:Varsity Soccer @ Miss Porter's School
DESCRIPTION:
URL:https://www.ethelwalker.org/event/varsity-soccer-miss-porters-school-2/
LOCATION:Miss Porter’s School\, 60 Main Street\, Farmington\, Connecticut\, 06032
CATEGORIES:Athletic Games
END:VEVENT
BEGIN:VEVENT
DTSTART;TZID=America/New_York:20251025T140000
DTEND;TZID=America/New_York:20251025T153000
DTSTAMP:20260425T163045
CREATED:20250729T191811Z
LAST-MODIFIED:20251103T192236Z
UID:10004651-1761400800-1761406200@www.ethelwalker.org
SUMMARY:JV Soccer @ Miss Porter's School
DESCRIPTION:
URL:https://www.ethelwalker.org/event/jv-soccer-miss-porters-school-3/
LOCATION:Miss Porter’s School\, 60 Main Street\, Farmington\, Connecticut\, 06032
CATEGORIES:Athletic Games
END:VEVENT
BEGIN:VEVENT
DTSTART;TZID=America/New_York:20251025T140000
DTEND;TZID=America/New_York:20251025T170000
DTSTAMP:20260425T163045
CREATED:20250730T134349Z
LAST-MODIFIED:20251027T130638Z
UID:10004698-1761400800-1761411600@www.ethelwalker.org
SUMMARY:Cross Country @ The Williston Northampton School
DESCRIPTION:
URL:https://www.ethelwalker.org/event/cross-country-the-williston-northampton-school/
LOCATION:Williston Northampton School\, 19 Payson Ave\, Easthampton\, Massachusetts\, 01027\, United States
CATEGORIES:Athletic Games
END:VEVENT
END:VCALENDAR