BEGIN:VCALENDAR
VERSION:2.0
PRODID:-//The Ethel Walker School - ECPv6.15.12//NONSGML v1.0//EN
CALSCALE:GREGORIAN
METHOD:PUBLISH
X-WR-CALNAME:The Ethel Walker School
X-ORIGINAL-URL:https://www.ethelwalker.org
X-WR-CALDESC:Events for The Ethel Walker School
REFRESH-INTERVAL;VALUE=DURATION:PT1H
X-Robots-Tag:noindex
X-PUBLISHED-TTL:PT1H
BEGIN:VTIMEZONE
TZID:America/New_York
BEGIN:DAYLIGHT
TZOFFSETFROM:-0500
TZOFFSETTO:-0400
TZNAME:EDT
DTSTART:20240310T070000
END:DAYLIGHT
BEGIN:STANDARD
TZOFFSETFROM:-0400
TZOFFSETTO:-0500
TZNAME:EST
DTSTART:20241103T060000
END:STANDARD
BEGIN:DAYLIGHT
TZOFFSETFROM:-0500
TZOFFSETTO:-0400
TZNAME:EDT
DTSTART:20250309T070000
END:DAYLIGHT
BEGIN:STANDARD
TZOFFSETFROM:-0400
TZOFFSETTO:-0500
TZNAME:EST
DTSTART:20251102T060000
END:STANDARD
BEGIN:DAYLIGHT
TZOFFSETFROM:-0500
TZOFFSETTO:-0400
TZNAME:EDT
DTSTART:20260308T070000
END:DAYLIGHT
BEGIN:STANDARD
TZOFFSETFROM:-0400
TZOFFSETTO:-0500
TZNAME:EST
DTSTART:20261101T060000
END:STANDARD
END:VTIMEZONE
BEGIN:VEVENT
DTSTART;TZID=America/New_York:20251101T143000
DTEND;TZID=America/New_York:20251101T160000
DTSTAMP:20260423T053224
CREATED:20250729T185506Z
LAST-MODIFIED:20251103T145755Z
UID:10004641-1762007400-1762012800@www.ethelwalker.org
SUMMARY:Varsity Soccer @ The Taft School
DESCRIPTION:
URL:https://www.ethelwalker.org/event/varsity-soccer-the-taft-school-2/
LOCATION:The Taft School\, 110 Woodbury Road\, Watertown\, Connecticut\, 06795\, United States
CATEGORIES:Athletic Games
END:VEVENT
BEGIN:VEVENT
DTSTART;TZID=America/New_York:20251101T143000
DTEND;TZID=America/New_York:20251101T160000
DTSTAMP:20260423T053224
CREATED:20250729T192119Z
LAST-MODIFIED:20251103T192523Z
UID:10004653-1762007400-1762012800@www.ethelwalker.org
SUMMARY:JV Soccer @ The Taft School
DESCRIPTION:
URL:https://www.ethelwalker.org/event/jv-soccer-the-taft-school-2/
LOCATION:The Taft School\, 110 Woodbury Road\, Watertown\, Connecticut\, 06795\, United States
CATEGORIES:Athletic Games
END:VEVENT
BEGIN:VEVENT
DTSTART;TZID=America/New_York:20251101T150000
DTEND;TZID=America/New_York:20251101T160000
DTSTAMP:20260423T053224
CREATED:20250730T131528Z
LAST-MODIFIED:20250730T131606Z
UID:10004693-1762009200-1762012800@www.ethelwalker.org
SUMMARY:JV Volleyball @ The Williston Northampton School
DESCRIPTION:
URL:https://www.ethelwalker.org/event/jv-volleyball-the-williston-northampton-school/
LOCATION:Williston Northampton School\, 19 Payson Ave\, Easthampton\, Massachusetts\, 01027\, United States
CATEGORIES:Athletic Games
END:VEVENT
BEGIN:VEVENT
DTSTART;TZID=America/New_York:20251101T150000
DTEND;TZID=America/New_York:20251101T161500
DTSTAMP:20260423T053224
CREATED:20250729T151821Z
LAST-MODIFIED:20251103T162611Z
UID:10004618-1762009200-1762013700@www.ethelwalker.org
SUMMARY:Varsity Field Hockey @ Wilbraham & Monson Academy
DESCRIPTION:
URL:https://www.ethelwalker.org/event/varsity-field-hockey-wilbraham-monson-academy/
LOCATION:Wilbraham & Monson Academy\, 423 Main St\, Wilbraham\, Massachusetts\, 01095
CATEGORIES:Athletic Games
END:VEVENT
BEGIN:VEVENT
DTSTART;TZID=America/New_York:20251101T150000
DTEND;TZID=America/New_York:20251101T163000
DTSTAMP:20260423T053224
CREATED:20250730T123843Z
LAST-MODIFIED:20251103T145518Z
UID:10004679-1762009200-1762014600@www.ethelwalker.org
SUMMARY:Varsity Volleyball @ The Williston Northampton School
DESCRIPTION:
URL:https://www.ethelwalker.org/event/varsity-volleyball-the-williston-northampton-school/
LOCATION:Williston Northampton School\, 19 Payson Ave\, Easthampton\, Massachusetts\, 01027\, United States
CATEGORIES:Athletic Games
END:VEVENT
BEGIN:VEVENT
DTSTART;TZID=America/New_York:20251101T150000
DTEND;TZID=America/New_York:20251101T180000
DTSTAMP:20260423T053224
CREATED:20250730T134654Z
LAST-MODIFIED:20251103T150746Z
UID:10004699-1762009200-1762020000@www.ethelwalker.org
SUMMARY:Cross Country @ The Founders League Championship
DESCRIPTION:
URL:https://www.ethelwalker.org/event/cross-country-the-founders-league-championship/
LOCATION:Avon Old Farms School\, 500 Old Farms Road\, Avon\, Connecticut\, 06001
CATEGORIES:Athletic Games
END:VEVENT
END:VCALENDAR