BEGIN:VCALENDAR
VERSION:2.0
PRODID:-//The Ethel Walker School - ECPv6.15.12//NONSGML v1.0//EN
CALSCALE:GREGORIAN
METHOD:PUBLISH
X-ORIGINAL-URL:https://www.ethelwalker.org
X-WR-CALDESC:Events for The Ethel Walker School
REFRESH-INTERVAL;VALUE=DURATION:PT1H
X-Robots-Tag:noindex
X-PUBLISHED-TTL:PT1H
BEGIN:VTIMEZONE
TZID:America/New_York
BEGIN:DAYLIGHT
TZOFFSETFROM:-0500
TZOFFSETTO:-0400
TZNAME:EDT
DTSTART:20240310T070000
END:DAYLIGHT
BEGIN:STANDARD
TZOFFSETFROM:-0400
TZOFFSETTO:-0500
TZNAME:EST
DTSTART:20241103T060000
END:STANDARD
BEGIN:DAYLIGHT
TZOFFSETFROM:-0500
TZOFFSETTO:-0400
TZNAME:EDT
DTSTART:20250309T070000
END:DAYLIGHT
BEGIN:STANDARD
TZOFFSETFROM:-0400
TZOFFSETTO:-0500
TZNAME:EST
DTSTART:20251102T060000
END:STANDARD
BEGIN:DAYLIGHT
TZOFFSETFROM:-0500
TZOFFSETTO:-0400
TZNAME:EDT
DTSTART:20260308T070000
END:DAYLIGHT
BEGIN:STANDARD
TZOFFSETFROM:-0400
TZOFFSETTO:-0500
TZNAME:EST
DTSTART:20261101T060000
END:STANDARD
END:VTIMEZONE
BEGIN:VEVENT
DTSTART;TZID=America/New_York:20251114T083000
DTEND;TZID=America/New_York:20251114T131500
DTSTAMP:20260423T142044
CREATED:20251021T182031Z
LAST-MODIFIED:20251027T150816Z
UID:10004748-1763109000-1763126100@www.ethelwalker.org
SUMMARY:Shadow Day
DESCRIPTION:Spend the morning on campus and discover what makes Walker’s such a vibrant place to learn and grow. Prospective students will be paired with a current student host\, attend classes\, and take part in our twice-weekly Morning Meeting — our signature all-school gathering that builds connection and community. Tours and/or in-person interviews are available following the program. Priority scheduling will be given to families traveling from a distance. \n\n\n\n\n\n\n\nAt this time\, we have reached our attendance capacity. Please reach out to the Admission Office via email or phone with questions or if you would like to be added to our waitlist.
URL:https://www.ethelwalker.org/event/shadow-day-5/
LOCATION:Connecticut
CATEGORIES:Admission
ATTACH;FMTTYPE=image/jpeg:https://www.ethelwalker.org/wp-content/uploads/2025/07/9-23-24EthW22779-edited.jpg
END:VEVENT
END:VCALENDAR