BEGIN:VCALENDAR
VERSION:2.0
PRODID:-//The Ethel Walker School - ECPv6.15.12//NONSGML v1.0//EN
CALSCALE:GREGORIAN
METHOD:PUBLISH
X-ORIGINAL-URL:https://www.ethelwalker.org
X-WR-CALDESC:Events for The Ethel Walker School
REFRESH-INTERVAL;VALUE=DURATION:PT1H
X-Robots-Tag:noindex
X-PUBLISHED-TTL:PT1H
BEGIN:VTIMEZONE
TZID:America/New_York
BEGIN:DAYLIGHT
TZOFFSETFROM:-0500
TZOFFSETTO:-0400
TZNAME:EDT
DTSTART:20240310T070000
END:DAYLIGHT
BEGIN:STANDARD
TZOFFSETFROM:-0400
TZOFFSETTO:-0500
TZNAME:EST
DTSTART:20241103T060000
END:STANDARD
BEGIN:DAYLIGHT
TZOFFSETFROM:-0500
TZOFFSETTO:-0400
TZNAME:EDT
DTSTART:20250309T070000
END:DAYLIGHT
BEGIN:STANDARD
TZOFFSETFROM:-0400
TZOFFSETTO:-0500
TZNAME:EST
DTSTART:20251102T060000
END:STANDARD
BEGIN:DAYLIGHT
TZOFFSETFROM:-0500
TZOFFSETTO:-0400
TZNAME:EDT
DTSTART:20260308T070000
END:DAYLIGHT
BEGIN:STANDARD
TZOFFSETFROM:-0400
TZOFFSETTO:-0500
TZNAME:EST
DTSTART:20261101T060000
END:STANDARD
END:VTIMEZONE
BEGIN:VEVENT
DTSTART;TZID=America/New_York:20251213T130000
DTEND;TZID=America/New_York:20251213T143000
DTSTAMP:20260423T045806
CREATED:20251028T165840Z
LAST-MODIFIED:20251215T134452Z
UID:10004815-1765630800-1765636200@www.ethelwalker.org
SUMMARY:Varsity Basketball @ King School
DESCRIPTION:
URL:https://www.ethelwalker.org/event/varsity-basketball-king-school/
LOCATION:King School\, 1450 Newfield Avenue\, Stamford\, Connecticut\, 06905\, United States
CATEGORIES:Athletic Games
END:VEVENT
BEGIN:VEVENT
DTSTART;TZID=America/New_York:20251213T140000
DTEND;TZID=America/New_York:20251213T151500
DTSTAMP:20260423T045806
CREATED:20251024T174323Z
LAST-MODIFIED:20260109T140243Z
UID:10004754-1765634400-1765638900@www.ethelwalker.org
SUMMARY:Middle School Basketball vs. The Frederick Gunn School
DESCRIPTION:
URL:https://www.ethelwalker.org/event/middle-school-basketball-vs-the-fredrick-gunn-school/
LOCATION:The Ethel Walker School\, 230 Bushy Hill Road\, Simsbury\, 06070\, United States
CATEGORIES:Athletic Games
END:VEVENT
BEGIN:VEVENT
DTSTART;TZID=America/New_York:20251213T140000
DTEND;TZID=America/New_York:20251213T153000
DTSTAMP:20260423T045806
CREATED:20251027T184452Z
LAST-MODIFIED:20260112T180710Z
UID:10004780-1765634400-1765639800@www.ethelwalker.org
SUMMARY:JV Basketball vs. The Frederick Gunn School
DESCRIPTION:
URL:https://www.ethelwalker.org/event/jv-basketball-vs-the-frederick-gunn-school-3/
LOCATION:The Ethel Walker School\, 230 Bushy Hill Road\, Simsbury\, 06070\, United States
CATEGORIES:Athletic Games
END:VEVENT
BEGIN:VEVENT
DTSTART;TZID=America/New_York:20251213T153000
DTEND;TZID=America/New_York:20251213T170000
DTSTAMP:20260423T045806
CREATED:20251028T143955Z
LAST-MODIFIED:20251215T134256Z
UID:10004794-1765639800-1765645200@www.ethelwalker.org
SUMMARY:Varsity Squash @ The Williston Northampton School
DESCRIPTION:
URL:https://www.ethelwalker.org/event/varsity-squash-williston-northampton-school/
LOCATION:Williston Northampton School\, 19 Payson Ave\, Easthampton\, Massachusetts\, 01027\, United States
CATEGORIES:Athletic Games
END:VEVENT
END:VCALENDAR