BEGIN:VCALENDAR
VERSION:2.0
PRODID:-//The Ethel Walker School - ECPv6.15.12//NONSGML v1.0//EN
CALSCALE:GREGORIAN
METHOD:PUBLISH
X-ORIGINAL-URL:https://www.ethelwalker.org
X-WR-CALDESC:Events for The Ethel Walker School
REFRESH-INTERVAL;VALUE=DURATION:PT1H
X-Robots-Tag:noindex
X-PUBLISHED-TTL:PT1H
BEGIN:VTIMEZONE
TZID:America/New_York
BEGIN:DAYLIGHT
TZOFFSETFROM:-0500
TZOFFSETTO:-0400
TZNAME:EDT
DTSTART:20250309T070000
END:DAYLIGHT
BEGIN:STANDARD
TZOFFSETFROM:-0400
TZOFFSETTO:-0500
TZNAME:EST
DTSTART:20251102T060000
END:STANDARD
BEGIN:DAYLIGHT
TZOFFSETFROM:-0500
TZOFFSETTO:-0400
TZNAME:EDT
DTSTART:20260308T070000
END:DAYLIGHT
BEGIN:STANDARD
TZOFFSETFROM:-0400
TZOFFSETTO:-0500
TZNAME:EST
DTSTART:20261101T060000
END:STANDARD
BEGIN:DAYLIGHT
TZOFFSETFROM:-0500
TZOFFSETTO:-0400
TZNAME:EDT
DTSTART:20270314T070000
END:DAYLIGHT
BEGIN:STANDARD
TZOFFSETFROM:-0400
TZOFFSETTO:-0500
TZNAME:EST
DTSTART:20271107T060000
END:STANDARD
END:VTIMEZONE
BEGIN:VEVENT
DTSTART;TZID=America/New_York:20260213T160000
DTEND;TZID=America/New_York:20260213T180000
DTSTAMP:20260421T193741
CREATED:20251202T194417Z
LAST-MODIFIED:20260217T145426Z
UID:10004852-1770998400-1771005600@www.ethelwalker.org
SUMMARY:Skiing @ Sundown
DESCRIPTION:JV Giant Slalom
URL:https://www.ethelwalker.org/event/skiing-sundown-12/
LOCATION:Ski Sundown\, 126 Ratlum Road\, New Hartford\, Connecticut\, 06057\, United States
CATEGORIES:Athletic Games
END:VEVENT
BEGIN:VEVENT
DTSTART;TZID=America/New_York:20260213T164500
DTEND;TZID=America/New_York:20260213T174500
DTSTAMP:20260421T193741
CREATED:20251028T144831Z
LAST-MODIFIED:20260205T194407Z
UID:10004799-1771001100-1771004700@www.ethelwalker.org
SUMMARY:Varsity Squash @ The Taft School
DESCRIPTION:
URL:https://www.ethelwalker.org/event/varsity-squash-the-taft-school-2/
LOCATION:The Taft School\, 110 Woodbury Road\, Watertown\, Connecticut\, 06795\, United States
CATEGORIES:Athletic Games
END:VEVENT
BEGIN:VEVENT
DTSTART;TZID=America/New_York:20260213T190000
DTEND;TZID=America/New_York:20260213T203000
DTSTAMP:20260421T193741
CREATED:20250626T145528Z
LAST-MODIFIED:20260130T153147Z
UID:10004555-1771009200-1771014600@www.ethelwalker.org
SUMMARY:Dance Concert (R/9\, 10\, and MSB)
DESCRIPTION:
URL:https://www.ethelwalker.org/event/dance-concert-r-9-10-and-msb/
LOCATION:Connecticut
CATEGORIES:Arts,Middle School,Upper School
END:VEVENT
END:VCALENDAR