BEGIN:VCALENDAR
VERSION:2.0
PRODID:-//The Ethel Walker School - ECPv6.15.12//NONSGML v1.0//EN
CALSCALE:GREGORIAN
METHOD:PUBLISH
X-ORIGINAL-URL:https://www.ethelwalker.org
X-WR-CALDESC:Events for The Ethel Walker School
REFRESH-INTERVAL;VALUE=DURATION:PT1H
X-Robots-Tag:noindex
X-PUBLISHED-TTL:PT1H
BEGIN:VTIMEZONE
TZID:America/New_York
BEGIN:DAYLIGHT
TZOFFSETFROM:-0500
TZOFFSETTO:-0400
TZNAME:EDT
DTSTART:20250309T070000
END:DAYLIGHT
BEGIN:STANDARD
TZOFFSETFROM:-0400
TZOFFSETTO:-0500
TZNAME:EST
DTSTART:20251102T060000
END:STANDARD
BEGIN:DAYLIGHT
TZOFFSETFROM:-0500
TZOFFSETTO:-0400
TZNAME:EDT
DTSTART:20260308T070000
END:DAYLIGHT
BEGIN:STANDARD
TZOFFSETFROM:-0400
TZOFFSETTO:-0500
TZNAME:EST
DTSTART:20261101T060000
END:STANDARD
BEGIN:DAYLIGHT
TZOFFSETFROM:-0500
TZOFFSETTO:-0400
TZNAME:EDT
DTSTART:20270314T070000
END:DAYLIGHT
BEGIN:STANDARD
TZOFFSETFROM:-0400
TZOFFSETTO:-0500
TZNAME:EST
DTSTART:20271107T060000
END:STANDARD
END:VTIMEZONE
BEGIN:VEVENT
DTSTART;TZID=America/New_York:20260228T080000
DTEND;TZID=America/New_York:20260228T170000
DTSTAMP:20260424T064721
CREATED:20251028T151037Z
LAST-MODIFIED:20251028T164048Z
UID:10004809-1772265600-1772298000@www.ethelwalker.org
SUMMARY:Varsity Squash @ NEPSAC Class E Tournament
DESCRIPTION:
URL:https://www.ethelwalker.org/event/varsity-squash-new-englands/
LOCATION:TBD
CATEGORIES:Athletic Games
END:VEVENT
BEGIN:VEVENT
DTSTART;TZID=America/New_York:20260228T110000
DTEND;TZID=America/New_York:20260228T170000
DTSTAMP:20260424T064721
CREATED:20251027T181818Z
LAST-MODIFIED:20260219T181802Z
UID:10004778-1772276400-1772298000@www.ethelwalker.org
SUMMARY:Varsity Swimming @ Founders League Championships
DESCRIPTION:
URL:https://www.ethelwalker.org/event/varsity-swimming-the-founders-league-championship/
LOCATION:The Hotchkiss School\, 11 Interlaken Road\, Lakeville\, Connecticut\, 06039
CATEGORIES:Athletic Games
END:VEVENT
BEGIN:VEVENT
DTSTART;TZID=America/New_York:20260228T143000
DTEND;TZID=America/New_York:20260228T160000
DTSTAMP:20260424T064721
CREATED:20251028T184403Z
LAST-MODIFIED:20260305T204253Z
UID:10004832-1772289000-1772294400@www.ethelwalker.org
SUMMARY:Varsity Basketball @ Millbrook School
DESCRIPTION:
URL:https://www.ethelwalker.org/event/varsity-basketball-millbrook-school/
LOCATION:Millbrook School\, 131 Millbrook School Road\, Millbrook\, New York\, 12545
CATEGORIES:Athletic Games
END:VEVENT
END:VCALENDAR