BEGIN:VCALENDAR
VERSION:2.0
PRODID:-//The Ethel Walker School - ECPv6.15.12//NONSGML v1.0//EN
CALSCALE:GREGORIAN
METHOD:PUBLISH
X-WR-CALNAME:The Ethel Walker School
X-ORIGINAL-URL:https://www.ethelwalker.org
X-WR-CALDESC:Events for The Ethel Walker School
REFRESH-INTERVAL;VALUE=DURATION:PT1H
X-Robots-Tag:noindex
X-PUBLISHED-TTL:PT1H
BEGIN:VTIMEZONE
TZID:America/New_York
BEGIN:DAYLIGHT
TZOFFSETFROM:-0500
TZOFFSETTO:-0400
TZNAME:EDT
DTSTART:20220313T070000
END:DAYLIGHT
BEGIN:STANDARD
TZOFFSETFROM:-0400
TZOFFSETTO:-0500
TZNAME:EST
DTSTART:20221106T060000
END:STANDARD
BEGIN:DAYLIGHT
TZOFFSETFROM:-0500
TZOFFSETTO:-0400
TZNAME:EDT
DTSTART:20230312T070000
END:DAYLIGHT
BEGIN:STANDARD
TZOFFSETFROM:-0400
TZOFFSETTO:-0500
TZNAME:EST
DTSTART:20231105T060000
END:STANDARD
BEGIN:DAYLIGHT
TZOFFSETFROM:-0500
TZOFFSETTO:-0400
TZNAME:EDT
DTSTART:20240310T070000
END:DAYLIGHT
BEGIN:STANDARD
TZOFFSETFROM:-0400
TZOFFSETTO:-0500
TZNAME:EST
DTSTART:20241103T060000
END:STANDARD
END:VTIMEZONE
BEGIN:VEVENT
DTSTART;TZID=America/New_York:20231018T150000
DTEND;TZID=America/New_York:20231018T163000
DTSTAMP:20260420T055426
CREATED:20230708T124407Z
LAST-MODIFIED:20231019T133504Z
UID:10003660-1697641200-1697646600@www.ethelwalker.org
SUMMARY:Varsity Field Hockey vs. Millbrook School
DESCRIPTION:
URL:https://www.ethelwalker.org/event/varsity-field-hockey-vs-millbrook-school/
LOCATION:The Ethel Walker School Turf Fields\, 96 Sand Hill Road\, Simsbury\, Connecticut\, 06070
CATEGORIES:Athletic Games
END:VEVENT
BEGIN:VEVENT
DTSTART;TZID=America/New_York:20231018T150000
DTEND;TZID=America/New_York:20231018T163000
DTSTAMP:20260420T055427
CREATED:20230708T125012Z
LAST-MODIFIED:20240121T173053Z
UID:10003657-1697641200-1697646600@www.ethelwalker.org
SUMMARY:Varsity Volleyball @ Marianapolis Preparatory School
DESCRIPTION:Varsity Volleyball
URL:https://www.ethelwalker.org/event/varsity-volleyball-marianapolis-preparatory-school/
LOCATION:Marianapolis Preparatory School\, 26 Chase Road\, Thompson\, Connecticut\, 06277-0304
CATEGORIES:Athletic Games
END:VEVENT
BEGIN:VEVENT
DTSTART;TZID=America/New_York:20231018T160000
DTEND;TZID=America/New_York:20231018T173000
DTSTAMP:20260420T055427
CREATED:20230708T124615Z
LAST-MODIFIED:20240121T170939Z
UID:10003659-1697644800-1697650200@www.ethelwalker.org
SUMMARY:Varsity Soccer vs. Pomfret School
DESCRIPTION:
URL:https://www.ethelwalker.org/event/varsity-soccer-vs-pomfret-school/
LOCATION:The Ethel Walker School JV/Varsity Soccer Fields\, 96 Sand Hill Road\, Simsbury\, Connecticut\, 06070\, United States
CATEGORIES:Athletic Games
END:VEVENT
BEGIN:VEVENT
DTSTART;TZID=America/New_York:20231018T164500
DTEND;TZID=America/New_York:20231018T174500
DTSTAMP:20260420T055427
CREATED:20230907T153845Z
LAST-MODIFIED:20230907T153947Z
UID:10003731-1697647500-1697651100@www.ethelwalker.org
SUMMARY:JV Field Hockey vs. Glastonbury Youth Team
DESCRIPTION:JV Field Hockey Game
URL:https://www.ethelwalker.org/event/jv-field-hockey-vs-glastonbury-youth-team/
LOCATION:The Ethel Walker School Turf Fields\, 96 Sand Hill Road\, Simsbury\, Connecticut\, 06070
CATEGORIES:Athletic Games
END:VEVENT
BEGIN:VEVENT
DTSTART;TZID=America/New_York:20231020T163000
DTEND;TZID=America/New_York:20231020T173000
DTSTAMP:20260420T055427
CREATED:20230708T125657Z
LAST-MODIFIED:20230816T181308Z
UID:10003670-1697819400-1697823000@www.ethelwalker.org
SUMMARY:JV Volleyball vs. Loomis Chaffee School
DESCRIPTION:
URL:https://www.ethelwalker.org/event/jv-volleyball-vs-loomis-chaffee-school-2/
LOCATION:The Ethel Walker School\, 230 Bushy Hill Road\, Simsbury\, 06070\, United States
CATEGORIES:Athletic Games
END:VEVENT
BEGIN:VEVENT
DTSTART;TZID=America/New_York:20231020T163000
DTEND;TZID=America/New_York:20231020T180000
DTSTAMP:20260420T055427
CREATED:20230708T125524Z
LAST-MODIFIED:20240121T173124Z
UID:10003671-1697819400-1697824800@www.ethelwalker.org
SUMMARY:Varsity Volleyball vs. Loomis Chaffee School
DESCRIPTION:Varsity Volleyball
URL:https://www.ethelwalker.org/event/varsity-volleyball-vs-loomis-chaffee-school/
LOCATION:The Ethel Walker School\, 230 Bushy Hill Road\, Simsbury\, 06070\, United States
CATEGORIES:Athletic Games
END:VEVENT
BEGIN:VEVENT
DTSTART;TZID=America/New_York:20231021T140000
DTEND;TZID=America/New_York:20231021T153000
DTSTAMP:20260420T055427
CREATED:20230708T130246Z
LAST-MODIFIED:20231026T184654Z
UID:10003668-1697896800-1697902200@www.ethelwalker.org
SUMMARY:JV Soccer vs. Marianapolis Preparatory School
DESCRIPTION:
URL:https://www.ethelwalker.org/event/jv-soccer-vs-marianapolis-preparatory-school/
LOCATION:The Ethel Walker School JV/Varsity Soccer Fields\, 96 Sand Hill Road\, Simsbury\, Connecticut\, 06070\, United States
CATEGORIES:Athletic Games
END:VEVENT
BEGIN:VEVENT
DTSTART;TZID=America/New_York:20231021T150000
DTEND;TZID=America/New_York:20231021T163000
DTSTAMP:20260420T055427
CREATED:20230708T130505Z
LAST-MODIFIED:20231026T184756Z
UID:10003667-1697900400-1697905800@www.ethelwalker.org
SUMMARY:Varsity Field Hockey vs. Kent School
DESCRIPTION:
URL:https://www.ethelwalker.org/event/varsity-field-hockey-vs-kent-school-2/
LOCATION:The Ethel Walker School Turf Fields\, 96 Sand Hill Road\, Simsbury\, Connecticut\, 06070
CATEGORIES:Athletic Games
END:VEVENT
BEGIN:VEVENT
DTSTART;TZID=America/New_York:20231021T153000
DTEND;TZID=America/New_York:20231021T170000
DTSTAMP:20260420T055427
CREATED:20230708T125927Z
LAST-MODIFIED:20231029T122824Z
UID:10003669-1697902200-1697907600@www.ethelwalker.org
SUMMARY:Varsity Soccer vs. Marianapolis Preparatory School
DESCRIPTION:Varsity Soccer
URL:https://www.ethelwalker.org/event/varsity-soccer-vs-marianapolis-preparatory-school-2/
LOCATION:The Ethel Walker School JV/Varsity Soccer Fields\, 96 Sand Hill Road\, Simsbury\, Connecticut\, 06070\, United States
CATEGORIES:Athletic Games
END:VEVENT
BEGIN:VEVENT
DTSTART;TZID=America/New_York:20231025T143000
DTEND;TZID=America/New_York:20231025T160000
DTSTAMP:20260420T055427
CREATED:20230708T131349Z
LAST-MODIFIED:20240121T173157Z
UID:10003700-1698244200-1698249600@www.ethelwalker.org
SUMMARY:Varsity Volleyball vs. Kent School
DESCRIPTION:Varsity Volleyball
URL:https://www.ethelwalker.org/event/varsity-volleyball-vs-kent-school-2/
LOCATION:The Ethel Walker School\, 230 Bushy Hill Road\, Simsbury\, 06070\, United States
CATEGORIES:Athletic Games
END:VEVENT
BEGIN:VEVENT
DTSTART;TZID=America/New_York:20231025T143000
DTEND;TZID=America/New_York:20231025T163000
DTSTAMP:20260420T055427
CREATED:20230708T130911Z
LAST-MODIFIED:20231029T122904Z
UID:10003665-1698244200-1698251400@www.ethelwalker.org
SUMMARY:Varsity Soccer @ Westminster School
DESCRIPTION:
URL:https://www.ethelwalker.org/event/varsity-soccer-westminster-school/
LOCATION:Westminster School\, 995 Hopmeadow Street\, Simsbury\, Connecticut\, 06070\, United States
CATEGORIES:Athletic Games
END:VEVENT
BEGIN:VEVENT
DTSTART;TZID=America/New_York:20231025T150000
DTEND;TZID=America/New_York:20231025T160000
DTSTAMP:20260420T055427
CREATED:20230708T131101Z
LAST-MODIFIED:20230913T150212Z
UID:10003664-1698246000-1698249600@www.ethelwalker.org
SUMMARY:JV Soccer @ Williston Northampton School
DESCRIPTION:
URL:https://www.ethelwalker.org/event/jv-soccer-williston-northampton-school-2/
LOCATION:Williston Northampton School\, 19 Payson Ave\, Easthampton\, Massachusetts\, 01027\, United States
CATEGORIES:Athletic Games
END:VEVENT
BEGIN:VEVENT
DTSTART;TZID=America/New_York:20231025T150000
DTEND;TZID=America/New_York:20231025T163000
DTSTAMP:20260420T055427
CREATED:20230708T130647Z
LAST-MODIFIED:20231026T184729Z
UID:10003666-1698246000-1698251400@www.ethelwalker.org
SUMMARY:Varsity Field Hockey @ Taft School
DESCRIPTION:
URL:https://www.ethelwalker.org/event/varsity-field-hockey-taft-school-2/
LOCATION:The Taft School\, 110 Woodbury Road\, Watertown\, Connecticut\, 06795\, United States
CATEGORIES:Athletic Games
END:VEVENT
BEGIN:VEVENT
DTSTART;TZID=America/New_York:20231025T153000
DTEND;TZID=America/New_York:20231025T163000
DTSTAMP:20260420T055427
CREATED:20230708T131753Z
LAST-MODIFIED:20230708T131840Z
UID:10003690-1698247800-1698251400@www.ethelwalker.org
SUMMARY:Middle School Soccer vs. Rectory School
DESCRIPTION:
URL:https://www.ethelwalker.org/event/middle-school-soccer-vs-rectory-school-3/
LOCATION:The Ethel Walker School JV/Varsity Soccer Fields\, 96 Sand Hill Road\, Simsbury\, Connecticut\, 06070\, United States
CATEGORIES:Athletic Games
END:VEVENT
BEGIN:VEVENT
DTSTART;TZID=America/New_York:20231025T160000
DTEND;TZID=America/New_York:20231025T173000
DTSTAMP:20260420T055427
CREATED:20230708T131521Z
LAST-MODIFIED:20231012T192544Z
UID:10003709-1698249600-1698255000@www.ethelwalker.org
SUMMARY:JV Volleyball vs. Kent School
DESCRIPTION:
URL:https://www.ethelwalker.org/event/jv-volleyball-vs-kent-school/
LOCATION:The Ethel Walker School\, 230 Bushy Hill Road\, Simsbury\, 06070\, United States
CATEGORIES:Athletic Games
END:VEVENT
BEGIN:VEVENT
DTSTART;TZID=America/New_York:20231026T163000
DTEND;TZID=America/New_York:20231026T173000
DTSTAMP:20260420T055427
CREATED:20230918T233037Z
LAST-MODIFIED:20231029T124139Z
UID:10003747-1698337800-1698341400@www.ethelwalker.org
SUMMARY:Varsity Field Hockey vs. Simsbury
DESCRIPTION:JV Field Hockey
URL:https://www.ethelwalker.org/event/jv-field-hockey-vs-simsbury/
LOCATION:The Ethel Walker School Turf Fields\, 96 Sand Hill Road\, Simsbury\, Connecticut\, 06070
CATEGORIES:Athletic Games
END:VEVENT
BEGIN:VEVENT
DTSTART;TZID=America/New_York:20231028T130000
DTEND;TZID=America/New_York:20231028T143000
DTSTAMP:20260420T055427
CREATED:20230708T131953Z
LAST-MODIFIED:20231029T124229Z
UID:10003680-1698498000-1698503400@www.ethelwalker.org
SUMMARY:Varsity Field Hockey @ Miss Porter's School
DESCRIPTION:
URL:https://www.ethelwalker.org/event/varsity-field-hockey-miss-porters-school/
LOCATION:Miss Porter’s School\, 60 Main Street\, Farmington\, Connecticut\, 06032
CATEGORIES:Athletic Games
END:VEVENT
BEGIN:VEVENT
DTSTART;TZID=America/New_York:20231028T140000
DTEND;TZID=America/New_York:20231028T150000
DTSTAMP:20260420T055427
CREATED:20230708T132342Z
LAST-MODIFIED:20231031T131311Z
UID:10003678-1698501600-1698505200@www.ethelwalker.org
SUMMARY:JV Soccer @ Miss Porter's School
DESCRIPTION:
URL:https://www.ethelwalker.org/event/jv-soccer-miss-porters-school-2/
LOCATION:Miss Porter’s School\, 60 Main Street\, Farmington\, Connecticut\, 06032
CATEGORIES:Athletic Games
END:VEVENT
BEGIN:VEVENT
DTSTART;TZID=America/New_York:20231028T140000
DTEND;TZID=America/New_York:20231028T160000
DTSTAMP:20260420T055427
CREATED:20230708T132159Z
LAST-MODIFIED:20231029T122941Z
UID:10003679-1698501600-1698508800@www.ethelwalker.org
SUMMARY:Varsity Soccer @ Miss Porter's School
DESCRIPTION:
URL:https://www.ethelwalker.org/event/varsity-soccer-miss-porters-school/
LOCATION:Miss Porter’s School\, 60 Main Street\, Farmington\, Connecticut\, 06032
CATEGORIES:Athletic Games
END:VEVENT
BEGIN:VEVENT
DTSTART;TZID=America/New_York:20231028T143000
DTEND;TZID=America/New_York:20231028T153000
DTSTAMP:20260420T055427
CREATED:20230708T132534Z
LAST-MODIFIED:20230816T180124Z
UID:10003677-1698503400-1698507000@www.ethelwalker.org
SUMMARY:JV Volleyball @ Hopkins School
DESCRIPTION:JV Volleyball
URL:https://www.ethelwalker.org/event/jv-volleyball-hopkins-school-2/
LOCATION:Hopkins School\, 986 Forest Rd\, New Haven\, Connecticut\, 06515\, United States
CATEGORIES:Athletic Games
END:VEVENT
BEGIN:VEVENT
DTSTART;TZID=America/New_York:20231028T143000
DTEND;TZID=America/New_York:20231028T163000
DTSTAMP:20260420T055427
CREATED:20230817T155957Z
LAST-MODIFIED:20230817T160026Z
UID:10003722-1698503400-1698510600@www.ethelwalker.org
SUMMARY:Cross Country @ Williston Northampton School
DESCRIPTION:Shaler Invitational
URL:https://www.ethelwalker.org/event/cross-country-williston-northampton-school/
LOCATION:Williston Northampton School\, 19 Payson Ave\, Easthampton\, Massachusetts\, 01027\, United States
CATEGORIES:Athletic Games
END:VEVENT
BEGIN:VEVENT
DTSTART;TZID=America/New_York:20231030T160000
DTEND;TZID=America/New_York:20231030T170000
DTSTAMP:20260420T055427
CREATED:20230918T233400Z
LAST-MODIFIED:20230919T162639Z
UID:10003746-1698681600-1698685200@www.ethelwalker.org
SUMMARY:Varsity Field Hockey vs. Renbrook School
DESCRIPTION:JV Field Hockey
URL:https://www.ethelwalker.org/event/varsity-field-hockey-vs-renbrook-school/
LOCATION:The Ethel Walker School Turf Fields\, 96 Sand Hill Road\, Simsbury\, Connecticut\, 06070
CATEGORIES:Athletic Games
END:VEVENT
BEGIN:VEVENT
DTSTART;TZID=America/New_York:20231101T143000
DTEND;TZID=America/New_York:20231101T153000
DTSTAMP:20260420T055427
CREATED:20230708T133912Z
LAST-MODIFIED:20231102T135358Z
UID:10003674-1698849000-1698852600@www.ethelwalker.org
SUMMARY:JV Soccer vs. Miss Hall's School
DESCRIPTION:
URL:https://www.ethelwalker.org/event/jv-soccer-vs-miss-halls-school-4/
LOCATION:The Ethel Walker School JV/Varsity Soccer Fields\, 96 Sand Hill Road\, Simsbury\, Connecticut\, 06070\, United States
CATEGORIES:Athletic Games
END:VEVENT
BEGIN:VEVENT
DTSTART;TZID=America/New_York:20231101T143000
DTEND;TZID=America/New_York:20231101T160000
DTSTAMP:20260420T055427
CREATED:20230708T133721Z
LAST-MODIFIED:20231102T140121Z
UID:10003675-1698849000-1698854400@www.ethelwalker.org
SUMMARY:Varsity Soccer vs. Miss Hall's School
DESCRIPTION:
URL:https://www.ethelwalker.org/event/varsity-soccer-vs-miss-halls-school/
LOCATION:The Ethel Walker School JV/Varsity Soccer Fields\, 96 Sand Hill Road\, Simsbury\, Connecticut\, 06070\, United States
CATEGORIES:Athletic Games
END:VEVENT
BEGIN:VEVENT
DTSTART;TZID=America/New_York:20231101T150000
DTEND;TZID=America/New_York:20231101T163000
DTSTAMP:20260420T055427
CREATED:20230708T133425Z
LAST-MODIFIED:20231102T135437Z
UID:10003676-1698850800-1698856200@www.ethelwalker.org
SUMMARY:Varsity Field Hockey @ The Frederick Gunn School
DESCRIPTION:
URL:https://www.ethelwalker.org/event/varsity-field-hockey-the-frederick-gunn-school-2/
LOCATION:The Frederick Gunn School\, 99 Green Hill Rd\, Washington\, Connecticut\, 06793\, United States
CATEGORIES:Athletic Games
END:VEVENT
BEGIN:VEVENT
DTSTART;TZID=America/New_York:20231101T160000
DTEND;TZID=America/New_York:20231101T170000
DTSTAMP:20260420T055427
CREATED:20230708T134121Z
LAST-MODIFIED:20230816T180048Z
UID:10003689-1698854400-1698858000@www.ethelwalker.org
SUMMARY:JV Volleyball vs. The Master's School
DESCRIPTION:JV Volleyball
URL:https://www.ethelwalker.org/event/jv-volleyball-vs-the-masters-school/
LOCATION:The Ethel Walker School\, 230 Bushy Hill Road\, Simsbury\, 06070\, United States
CATEGORIES:Athletic Games
END:VEVENT
BEGIN:VEVENT
DTSTART;TZID=America/New_York:20231102T154500
DTEND;TZID=America/New_York:20231102T173000
DTSTAMP:20260420T055427
CREATED:20230708T134526Z
LAST-MODIFIED:20231109T144329Z
UID:10003688-1698939900-1698946200@www.ethelwalker.org
SUMMARY:JV Soccer vs. Rumsey Hall School
DESCRIPTION:
URL:https://www.ethelwalker.org/event/jv-soccer-vs-rumsey-hall-2/
LOCATION:The Ethel Walker School JV/Varsity Soccer Fields\, 96 Sand Hill Road\, Simsbury\, Connecticut\, 06070\, United States
CATEGORIES:Athletic Games
END:VEVENT
BEGIN:VEVENT
DTSTART;TZID=America/New_York:20231103T164500
DTEND;TZID=America/New_York:20231103T181500
DTSTAMP:20260420T055427
CREATED:20231026T185305Z
LAST-MODIFIED:20231026T185353Z
UID:10003774-1699029900-1699035300@www.ethelwalker.org
SUMMARY:JV Volleyball @ Loomis Chaffee School
DESCRIPTION:
URL:https://www.ethelwalker.org/event/jv-volleyball-loomis-chaffee-school-2/
LOCATION:Loomis Chaffee School\, 4 Batchelder Rd\, Windsor\, Connecticut\, 06095\, United States
CATEGORIES:Athletic Games
END:VEVENT
BEGIN:VEVENT
DTSTART;TZID=America/New_York:20231104T130000
DTEND;TZID=America/New_York:20231104T143000
DTSTAMP:20260420T055427
CREATED:20230708T134751Z
LAST-MODIFIED:20231106T182025Z
UID:10003687-1699102800-1699108200@www.ethelwalker.org
SUMMARY:Varsity Field Hockey @ Wilbraham & Monson Academy
DESCRIPTION:
URL:https://www.ethelwalker.org/event/varsity-field-hockey-wilbraham-monson-academy-2/
LOCATION:Wilbraham & Monson Academy\, 423 Main St\, Wilbraham\, Massachusetts\, 01095
CATEGORIES:Athletic Games
END:VEVENT
BEGIN:VEVENT
DTSTART;TZID=America/New_York:20231104T140000
DTEND;TZID=America/New_York:20231104T150000
DTSTAMP:20260420T055427
CREATED:20230708T135147Z
LAST-MODIFIED:20231025T123130Z
UID:10003685-1699106400-1699110000@www.ethelwalker.org
SUMMARY:JV Soccer @ The Taft School
DESCRIPTION:
URL:https://www.ethelwalker.org/event/jv-soccer-the-taft-school/
LOCATION:The Taft School\, 110 Woodbury Road\, Watertown\, Connecticut\, 06795\, United States
CATEGORIES:Athletic Games
END:VEVENT
END:VCALENDAR