BEGIN:VCALENDAR
VERSION:2.0
PRODID:-//The Ethel Walker School - ECPv6.15.12//NONSGML v1.0//EN
CALSCALE:GREGORIAN
METHOD:PUBLISH
X-WR-CALNAME:The Ethel Walker School
X-ORIGINAL-URL:https://www.ethelwalker.org
X-WR-CALDESC:Events for The Ethel Walker School
REFRESH-INTERVAL;VALUE=DURATION:PT1H
X-Robots-Tag:noindex
X-PUBLISHED-TTL:PT1H
BEGIN:VTIMEZONE
TZID:America/New_York
BEGIN:DAYLIGHT
TZOFFSETFROM:-0500
TZOFFSETTO:-0400
TZNAME:EDT
DTSTART:20230312T070000
END:DAYLIGHT
BEGIN:STANDARD
TZOFFSETFROM:-0400
TZOFFSETTO:-0500
TZNAME:EST
DTSTART:20231105T060000
END:STANDARD
BEGIN:DAYLIGHT
TZOFFSETFROM:-0500
TZOFFSETTO:-0400
TZNAME:EDT
DTSTART:20240310T070000
END:DAYLIGHT
BEGIN:STANDARD
TZOFFSETFROM:-0400
TZOFFSETTO:-0500
TZNAME:EST
DTSTART:20241103T060000
END:STANDARD
BEGIN:DAYLIGHT
TZOFFSETFROM:-0500
TZOFFSETTO:-0400
TZNAME:EDT
DTSTART:20250309T070000
END:DAYLIGHT
BEGIN:STANDARD
TZOFFSETFROM:-0400
TZOFFSETTO:-0500
TZNAME:EST
DTSTART:20251102T060000
END:STANDARD
END:VTIMEZONE
BEGIN:VEVENT
DTSTART;TZID=America/New_York:20240207T140000
DTEND;TZID=America/New_York:20240207T163000
DTSTAMP:20260424T051705
CREATED:20231029T202706Z
LAST-MODIFIED:20240208T154057Z
UID:10003871-1707314400-1707323400@www.ethelwalker.org
SUMMARY:Varsity Squash @ Miss Porter's School
DESCRIPTION:
URL:https://www.ethelwalker.org/event/varsity-squash-miss-porters-school/
LOCATION:Miss Porter’s School\, 60 Main Street\, Farmington\, Connecticut\, 06032
CATEGORIES:Athletic Games
END:VEVENT
BEGIN:VEVENT
DTSTART;TZID=America/New_York:20240207T140000
DTEND;TZID=America/New_York:20240207T163000
DTSTAMP:20260424T051705
CREATED:20231029T202909Z
LAST-MODIFIED:20240208T154356Z
UID:10003844-1707314400-1707323400@www.ethelwalker.org
SUMMARY:Varsity Squash vs. Canterbury School
DESCRIPTION:
URL:https://www.ethelwalker.org/event/varsity-squash-miss-porters-school-2/
LOCATION:Miss Porter’s School\, 60 Main Street\, Farmington\, Connecticut\, 06032
CATEGORIES:Athletic Games
END:VEVENT
BEGIN:VEVENT
DTSTART;TZID=America/New_York:20240207T140000
DTEND;TZID=America/New_York:20240207T170000
DTSTAMP:20260424T051705
CREATED:20231114T180645Z
LAST-MODIFIED:20240213T151229Z
UID:10003874-1707314400-1707325200@www.ethelwalker.org
SUMMARY:Skiing @ Ski Sundown
DESCRIPTION:
URL:https://www.ethelwalker.org/event/skiing-sundown-7/
LOCATION:Ski Sundown\, 126 Ratlum Road\, New Hartford\, Connecticut\, 06057\, United States
CATEGORIES:Athletic Games
END:VEVENT
BEGIN:VEVENT
DTSTART;TZID=America/New_York:20240207T150000
DTEND;TZID=America/New_York:20240207T163000
DTSTAMP:20260424T051705
CREATED:20231029T202351Z
LAST-MODIFIED:20240214T182159Z
UID:10003829-1707318000-1707323400@www.ethelwalker.org
SUMMARY:Varsity Basketball vs. The Taft School
DESCRIPTION:
URL:https://www.ethelwalker.org/event/varsity-basketball-vs-the-taft-school/
LOCATION:The Ethel Walker School\, 230 Bushy Hill Road\, Simsbury\, 06070\, United States
CATEGORIES:Athletic Games
END:VEVENT
BEGIN:VEVENT
DTSTART;TZID=America/New_York:20240207T150000
DTEND;TZID=America/New_York:20240207T163000
DTSTAMP:20260424T051705
CREATED:20231029T202517Z
LAST-MODIFIED:20240208T153449Z
UID:10003828-1707318000-1707323400@www.ethelwalker.org
SUMMARY:JV Basketball vs. The Taft School
DESCRIPTION:
URL:https://www.ethelwalker.org/event/jv-basketball-vs-the-taft-school/
LOCATION:The Ethel Walker School\, 230 Bushy Hill Road\, Simsbury\, 06070\, United States
CATEGORIES:Athletic Games
END:VEVENT
BEGIN:VEVENT
DTSTART;TZID=America/New_York:20240207T160000
DTEND;TZID=America/New_York:20240207T180000
DTSTAMP:20260424T051705
CREATED:20240130T180358Z
LAST-MODIFIED:20240208T153654Z
UID:10003922-1707321600-1707328800@www.ethelwalker.org
SUMMARY:Swimming vs. Wilbraham & Monson Academy
DESCRIPTION:
URL:https://www.ethelwalker.org/event/swimming-vs-wilbraham-monson-academy-5/
LOCATION:The Ethel Walker School\, 230 Bushy Hill Road\, Simsbury\, 06070\, United States
CATEGORIES:Athletic Games
END:VEVENT
BEGIN:VEVENT
DTSTART;TZID=America/New_York:20240207T160000
DTEND;TZID=America/New_York:20240207T180000
DTSTAMP:20260424T051705
CREATED:20240130T181159Z
LAST-MODIFIED:20240208T153608Z
UID:10003923-1707321600-1707328800@www.ethelwalker.org
SUMMARY:Swimming vs. Hamden Hall Country Day School
DESCRIPTION:
URL:https://www.ethelwalker.org/event/swimming-vs-hamden-hall-country-day-school-4/
LOCATION:The Ethel Walker School\, 230 Bushy Hill Road\, Simsbury\, 06070\, United States
CATEGORIES:Athletic Games
END:VEVENT
BEGIN:VEVENT
DTSTART;TZID=America/New_York:20240208T153000
DTEND;TZID=America/New_York:20240208T170000
DTSTAMP:20260424T051705
CREATED:20231103T164106Z
LAST-MODIFIED:20231212T161235Z
UID:10003866-1707406200-1707411600@www.ethelwalker.org
SUMMARY:Middle School Basketball vs. The Master's School
DESCRIPTION:
URL:https://www.ethelwalker.org/event/middle-school-basketball-vs-watkinson-school/
LOCATION:The Ethel Walker School\, 230 Bushy Hill Road\, Simsbury\, 06070\, United States
CATEGORIES:Athletic Games
END:VEVENT
BEGIN:VEVENT
DTSTART;TZID=America/New_York:20240209T160000
DTEND;TZID=America/New_York:20240209T190000
DTSTAMP:20260424T051705
CREATED:20231114T182631Z
LAST-MODIFIED:20231114T183938Z
UID:10003873-1707494400-1707505200@www.ethelwalker.org
SUMMARY:Skiing @ Ski Sundown
DESCRIPTION:JV Slalom
URL:https://www.ethelwalker.org/event/skiing-ski-sundown-9/
LOCATION:Ski Sundown\, 126 Ratlum Road\, New Hartford\, Connecticut\, 06057\, United States
CATEGORIES:Athletic Games
END:VEVENT
BEGIN:VEVENT
DTSTART;TZID=America/New_York:20240210T100000
DTEND;TZID=America/New_York:20240210T170000
DTSTAMP:20260424T051705
CREATED:20240130T181557Z
LAST-MODIFIED:20240212T160105Z
UID:10003924-1707559200-1707584400@www.ethelwalker.org
SUMMARY:Squash @ NEPSAC TOURNAMENT
DESCRIPTION:
URL:https://www.ethelwalker.org/event/squash-nepsac-tournament-class-e/
LOCATION:Pomfret School\, 398 Pomfret Street\, Pomfret Center\, Connecticut\, 06259
CATEGORIES:Athletic Games
END:VEVENT
BEGIN:VEVENT
DTSTART;TZID=America/New_York:20240210T133000
DTEND;TZID=America/New_York:20240210T150000
DTSTAMP:20260424T051705
CREATED:20231030T144347Z
LAST-MODIFIED:20240216T155523Z
UID:10003854-1707571800-1707577200@www.ethelwalker.org
SUMMARY:JV Basketball @ Suffield Academy
DESCRIPTION:
URL:https://www.ethelwalker.org/event/jv-basketball-suffield-academy/
LOCATION:Suffield Academy\, 185 North Main Street\, Suffield\, Connecticut
CATEGORIES:Athletic Games
END:VEVENT
BEGIN:VEVENT
DTSTART;TZID=America/New_York:20240210T143000
DTEND;TZID=America/New_York:20240210T173000
DTSTAMP:20260424T051705
CREATED:20231029T203148Z
LAST-MODIFIED:20240213T204217Z
UID:10003843-1707575400-1707586200@www.ethelwalker.org
SUMMARY:Swimming vs. Kingswood Oxford School
DESCRIPTION:
URL:https://www.ethelwalker.org/event/swimming-vs-hamden-hall-country-day-school-3/
LOCATION:The Ethel Walker School\, 230 Bushy Hill Road\, Simsbury\, 06070\, United States
CATEGORIES:Athletic Games
END:VEVENT
BEGIN:VEVENT
DTSTART;TZID=America/New_York:20240210T143000
DTEND;TZID=America/New_York:20240210T173000
DTSTAMP:20260424T051705
CREATED:20231029T203330Z
LAST-MODIFIED:20240213T204137Z
UID:10003842-1707575400-1707586200@www.ethelwalker.org
SUMMARY:Swimming vs. Westover School
DESCRIPTION:
URL:https://www.ethelwalker.org/event/swimming-vs-canterbury-school-2/
LOCATION:The Ethel Walker School\, 230 Bushy Hill Road\, Simsbury\, 06070\, United States
CATEGORIES:Athletic Games
END:VEVENT
BEGIN:VEVENT
DTSTART;TZID=America/New_York:20240210T143000
DTEND;TZID=America/New_York:20240210T173000
DTSTAMP:20260424T051705
CREATED:20231029T204444Z
LAST-MODIFIED:20240213T204303Z
UID:10003840-1707575400-1707586200@www.ethelwalker.org
SUMMARY:Swimming vs. Northfield Mount Hermon School
DESCRIPTION:
URL:https://www.ethelwalker.org/event/swimming-vs-northfield-mount-hermon-school-2/
LOCATION:The Ethel Walker School\, 230 Bushy Hill Road\, Simsbury\, 06070\, United States
CATEGORIES:Athletic Games
END:VEVENT
BEGIN:VEVENT
DTSTART;TZID=America/New_York:20240210T150000
DTEND;TZID=America/New_York:20240210T163000
DTSTAMP:20260424T051705
CREATED:20231029T203652Z
LAST-MODIFIED:20240214T182246Z
UID:10003841-1707577200-1707582600@www.ethelwalker.org
SUMMARY:Varsity Basketball vs. Greens Farms Academy
DESCRIPTION:
URL:https://www.ethelwalker.org/event/varsity-basketball-vs-greens-farms-academy/
LOCATION:The Ethel Walker School\, 230 Bushy Hill Road\, Simsbury\, 06070\, United States
CATEGORIES:Athletic Games
END:VEVENT
BEGIN:VEVENT
DTSTART;TZID=America/New_York:20240210T150000
DTEND;TZID=America/New_York:20240210T170000
DTSTAMP:20260424T051705
CREATED:20240212T160226Z
LAST-MODIFIED:20240212T160345Z
UID:10003930-1707577200-1707584400@www.ethelwalker.org
SUMMARY:Squash @ NEPSAC Class E Tournament
DESCRIPTION:
URL:https://www.ethelwalker.org/event/squash-nepsac-class-e-tournament/
LOCATION:Pomfret School\, 398 Pomfret Street\, Pomfret Center\, Connecticut\, 06259
CATEGORIES:Athletic Games
END:VEVENT
BEGIN:VEVENT
DTSTART;TZID=America/New_York:20240211T080000
DTEND;TZID=America/New_York:20240211T170000
DTSTAMP:20260424T051705
CREATED:20240130T184045Z
LAST-MODIFIED:20240212T160517Z
UID:10003925-1707638400-1707670800@www.ethelwalker.org
SUMMARY:Squash @ NEPSAC Tournament
DESCRIPTION:Class E Tournament
URL:https://www.ethelwalker.org/event/squash-nepsac-tournament/
LOCATION:Pomfret School\, 398 Pomfret Street\, Pomfret Center\, Connecticut\, 06259
CATEGORIES:Athletic Games
END:VEVENT
BEGIN:VEVENT
DTSTART;TZID=America/New_York:20240212T163000
DTEND;TZID=America/New_York:20240212T183000
DTSTAMP:20260424T051705
CREATED:20240130T201257Z
LAST-MODIFIED:20240213T151145Z
UID:10003926-1707755400-1707762600@www.ethelwalker.org
SUMMARY:Skiing @ Ski Sundown
DESCRIPTION:
URL:https://www.ethelwalker.org/event/ski-sundown/
LOCATION:Ski Sundown\, 126 Ratlum Road\, New Hartford\, Connecticut\, 06057\, United States
CATEGORIES:Athletic Games
END:VEVENT
BEGIN:VEVENT
DTSTART;TZID=America/New_York:20240214T080000
DTEND;TZID=America/New_York:20240214T170000
DTSTAMP:20260424T051705
CREATED:20231114T183234Z
LAST-MODIFIED:20240130T184803Z
UID:10003872-1707897600-1707930000@www.ethelwalker.org
SUMMARY:Skiing @ NEPSAC Class B Championship
DESCRIPTION:
URL:https://www.ethelwalker.org/event/skiing-nepsac-class-b-championship-3/
LOCATION:Berkshire East Mountain Resort\, 66 Thunder Mountain Rd\, Charlemont\, MA\, 01339\, United States
CATEGORIES:Athletic Games
END:VEVENT
BEGIN:VEVENT
DTSTART;TZID=America/New_York:20240214T143000
DTEND;TZID=America/New_York:20240214T154500
DTSTAMP:20260424T051705
CREATED:20231029T205221Z
LAST-MODIFIED:20231116T190245Z
UID:10003837-1707921000-1707925500@www.ethelwalker.org
SUMMARY:Varsity Squash vs. Choate Rosemary Hall School
DESCRIPTION:
URL:https://www.ethelwalker.org/event/varsity-squash-vs-choate-rosemary-hall-school/
LOCATION:The Ethel Walker School\, 230 Bushy Hill Road\, Simsbury\, 06070\, United States
CATEGORIES:Athletic Games
END:VEVENT
BEGIN:VEVENT
DTSTART;TZID=America/New_York:20240214T150000
DTEND;TZID=America/New_York:20240214T163000
DTSTAMP:20260424T051705
CREATED:20231029T204654Z
LAST-MODIFIED:20231029T204723Z
UID:10003839-1707922800-1707928200@www.ethelwalker.org
SUMMARY:Varsity Basketball @ Kingswood Oxford School
DESCRIPTION:
URL:https://www.ethelwalker.org/event/varsity-basketball-kingswood-oxford-school/
LOCATION:Kingswood Oxford School\, 170 Kingswood Road\, West Hartford\, Connecticut\, 06119
CATEGORIES:Athletic Games
END:VEVENT
BEGIN:VEVENT
DTSTART;TZID=America/New_York:20240214T150000
DTEND;TZID=America/New_York:20240214T163000
DTSTAMP:20260424T051705
CREATED:20231029T204820Z
LAST-MODIFIED:20240216T155636Z
UID:10003838-1707922800-1707928200@www.ethelwalker.org
SUMMARY:JV Basketball @ Kingswood Oxford School
DESCRIPTION:
URL:https://www.ethelwalker.org/event/jv-basketball-kingswood-oxford-school/
LOCATION:Kingswood Oxford School\, 170 Kingswood Road\, West Hartford\, Connecticut\, 06119
CATEGORIES:Athletic Games
END:VEVENT
BEGIN:VEVENT
DTSTART;TZID=America/New_York:20240214T150000
DTEND;TZID=America/New_York:20240214T180000
DTSTAMP:20260424T051705
CREATED:20231029T205628Z
LAST-MODIFIED:20240217T233907Z
UID:10003888-1707922800-1707933600@www.ethelwalker.org
SUMMARY:Swimming @ Williston Northampton School
DESCRIPTION:
URL:https://www.ethelwalker.org/event/swimming-williston-northampton-school-3/
LOCATION:Williston Northampton School\, 19 Payson Ave\, Easthampton\, Massachusetts\, 01027\, United States
CATEGORIES:Athletic Games
END:VEVENT
BEGIN:VEVENT
DTSTART;TZID=America/New_York:20240214T150000
DTEND;TZID=America/New_York:20240214T180000
DTSTAMP:20260424T051705
CREATED:20231029T205758Z
LAST-MODIFIED:20240217T233939Z
UID:10003860-1707922800-1707933600@www.ethelwalker.org
SUMMARY:Swimming vs. Wilbraham and Monson Academy
DESCRIPTION:
URL:https://www.ethelwalker.org/event/swimming-williston-northampton-school-4/
LOCATION:Williston Northampton School\, 19 Payson Ave\, Easthampton\, Massachusetts\, 01027\, United States
CATEGORIES:Athletic Games
END:VEVENT
BEGIN:VEVENT
DTSTART;TZID=America/New_York:20240214T170000
DTEND;TZID=America/New_York:20240214T181500
DTSTAMP:20260424T051705
CREATED:20231029T205355Z
LAST-MODIFIED:20231116T190407Z
UID:10003879-1707930000-1707934500@www.ethelwalker.org
SUMMARY:Varsity Squash vs. Westover School
DESCRIPTION:
URL:https://www.ethelwalker.org/event/varsity-squash-vs-westover-school/
LOCATION:The Ethel Walker School\, 230 Bushy Hill Road\, Simsbury\, 06070\, United States
CATEGORIES:Athletic Games
END:VEVENT
BEGIN:VEVENT
DTSTART;TZID=America/New_York:20240216T161500
DTEND;TZID=America/New_York:20240216T174500
DTSTAMP:20260424T051705
CREATED:20231113T181741Z
LAST-MODIFIED:20240130T140737Z
UID:10003864-1708100100-1708105500@www.ethelwalker.org
SUMMARY:Varsity Basketball vs. Choate Rosemary Hall
DESCRIPTION:
URL:https://www.ethelwalker.org/event/varsity-basketball-vs-choate-rosemary-hall-2/
LOCATION:The Ethel Walker School\, 230 Bushy Hill Road\, Simsbury\, 06070\, United States
CATEGORIES:Athletic Games
END:VEVENT
BEGIN:VEVENT
DTSTART;TZID=America/New_York:20240216T163000
DTEND;TZID=America/New_York:20240216T183000
DTSTAMP:20260424T051705
CREATED:20240130T201554Z
LAST-MODIFIED:20240130T201712Z
UID:10003927-1708101000-1708108200@www.ethelwalker.org
SUMMARY:Ski @ Sundown
DESCRIPTION:JV Ski Event
URL:https://www.ethelwalker.org/event/ski-sundown-2/
LOCATION:Ski Sundown\, 126 Ratlum Road\, New Hartford\, Connecticut\, 06057\, United States
CATEGORIES:Athletic Games
END:VEVENT
BEGIN:VEVENT
DTSTART;TZID=America/New_York:20240217T143000
DTEND;TZID=America/New_York:20240217T163000
DTSTAMP:20260424T051705
CREATED:20231029T210857Z
LAST-MODIFIED:20240217T233808Z
UID:10003849-1708180200-1708187400@www.ethelwalker.org
SUMMARY:Swimming @ Westover School
DESCRIPTION:
URL:https://www.ethelwalker.org/event/swimming-westover-school/
LOCATION:Kennedy High School\, 422 Highland Ave\, Waterbury\, CT\, 06078\, United States
CATEGORIES:Athletic Games
END:VEVENT
BEGIN:VEVENT
DTSTART;TZID=America/New_York:20240217T151500
DTEND;TZID=America/New_York:20240217T171500
DTSTAMP:20260424T051705
CREATED:20231029T210020Z
LAST-MODIFIED:20240217T233520Z
UID:10003851-1708182900-1708190100@www.ethelwalker.org
SUMMARY:Varsity Squash @ Suffield Academy
DESCRIPTION:
URL:https://www.ethelwalker.org/event/varsity-squash-suffield-academy/
LOCATION:Suffield Academy\, 185 North Main Street\, Suffield\, Connecticut
CATEGORIES:Athletic Games
END:VEVENT
BEGIN:VEVENT
DTSTART;TZID=America/New_York:20240217T151500
DTEND;TZID=America/New_York:20240217T171500
DTSTAMP:20260424T051705
CREATED:20231029T210221Z
LAST-MODIFIED:20240217T233423Z
UID:10003850-1708182900-1708190100@www.ethelwalker.org
SUMMARY:Varsity Squash vs. Williston Northampton School
DESCRIPTION:
URL:https://www.ethelwalker.org/event/varsity-squash-suffield-academy-2/
LOCATION:Suffield Academy\, 185 North Main Street\, Suffield\, Connecticut
CATEGORIES:Athletic Games
END:VEVENT
END:VCALENDAR