BEGIN:VCALENDAR
VERSION:2.0
PRODID:-//The Ethel Walker School - ECPv6.15.12//NONSGML v1.0//EN
CALSCALE:GREGORIAN
METHOD:PUBLISH
X-WR-CALNAME:The Ethel Walker School
X-ORIGINAL-URL:https://www.ethelwalker.org
X-WR-CALDESC:Events for The Ethel Walker School
REFRESH-INTERVAL;VALUE=DURATION:PT1H
X-Robots-Tag:noindex
X-PUBLISHED-TTL:PT1H
BEGIN:VTIMEZONE
TZID:America/New_York
BEGIN:DAYLIGHT
TZOFFSETFROM:-0500
TZOFFSETTO:-0400
TZNAME:EDT
DTSTART:20240310T070000
END:DAYLIGHT
BEGIN:STANDARD
TZOFFSETFROM:-0400
TZOFFSETTO:-0500
TZNAME:EST
DTSTART:20241103T060000
END:STANDARD
BEGIN:DAYLIGHT
TZOFFSETFROM:-0500
TZOFFSETTO:-0400
TZNAME:EDT
DTSTART:20250309T070000
END:DAYLIGHT
BEGIN:STANDARD
TZOFFSETFROM:-0400
TZOFFSETTO:-0500
TZNAME:EST
DTSTART:20251102T060000
END:STANDARD
BEGIN:DAYLIGHT
TZOFFSETFROM:-0500
TZOFFSETTO:-0400
TZNAME:EDT
DTSTART:20260308T070000
END:DAYLIGHT
BEGIN:STANDARD
TZOFFSETFROM:-0400
TZOFFSETTO:-0500
TZNAME:EST
DTSTART:20261101T060000
END:STANDARD
BEGIN:DAYLIGHT
TZOFFSETFROM:-0500
TZOFFSETTO:-0400
TZNAME:EDT
DTSTART:20270314T070000
END:DAYLIGHT
BEGIN:STANDARD
TZOFFSETFROM:-0400
TZOFFSETTO:-0500
TZNAME:EST
DTSTART:20271107T060000
END:STANDARD
END:VTIMEZONE
BEGIN:VEVENT
DTSTART;TZID=America/New_York:20251216T111500
DTEND;TZID=America/New_York:20251216T124500
DTSTAMP:20260419T155259
CREATED:20250626T141021Z
LAST-MODIFIED:20251208T184323Z
UID:10004546-1765883700-1765889100@www.ethelwalker.org
SUMMARY:Middle School Holiday Party
DESCRIPTION:
URL:https://www.ethelwalker.org/event/middle-school-holiday-party-3/
CATEGORIES:Arts,Holidays,Middle School,Student Life
END:VEVENT
BEGIN:VEVENT
DTSTART;TZID=America/New_York:20251219T000000
DTEND;TZID=America/New_York:20251219T235959
DTSTAMP:20260419T155259
CREATED:20250626T143109Z
LAST-MODIFIED:20250626T143111Z
UID:10004547-1766102400-1766188799@www.ethelwalker.org
SUMMARY:Semester 1 Closes
DESCRIPTION:
URL:https://www.ethelwalker.org/event/semester-1-closes/
CATEGORIES:Academics,All-School Events,Middle School,Student Life,Upper School
END:VEVENT
BEGIN:VEVENT
DTSTART;TZID=America/New_York:20251219T150000
DTEND;TZID=America/New_York:20251219T150000
DTSTAMP:20260419T155259
CREATED:20250626T143204Z
LAST-MODIFIED:20250626T143533Z
UID:10004548-1766156400-1766156400@www.ethelwalker.org
SUMMARY:Dorms Close at 3:00 p.m.
DESCRIPTION:
URL:https://www.ethelwalker.org/event/dorms-close-at-300-p-m-4/
CATEGORIES:Middle School,Student Life,Upper School
END:VEVENT
BEGIN:VEVENT
DTSTART;TZID=America/New_York:20251220T000000
DTEND;TZID=America/New_York:20260105T235959
DTSTAMP:20260419T155259
CREATED:20250626T143337Z
LAST-MODIFIED:20250626T153705Z
UID:10004549-1766188800-1767657599@www.ethelwalker.org
SUMMARY:Winter Break
DESCRIPTION:
URL:https://www.ethelwalker.org/event/winter-break-5/
CATEGORIES:Middle School,School Breaks,Upper School
END:VEVENT
END:VCALENDAR