BEGIN:VCALENDAR
VERSION:2.0
PRODID:-//The Ethel Walker School - ECPv6.15.12//NONSGML v1.0//EN
CALSCALE:GREGORIAN
METHOD:PUBLISH
X-ORIGINAL-URL:https://www.ethelwalker.org
X-WR-CALDESC:Events for The Ethel Walker School
REFRESH-INTERVAL;VALUE=DURATION:PT1H
X-Robots-Tag:noindex
X-PUBLISHED-TTL:PT1H
BEGIN:VTIMEZONE
TZID:America/New_York
BEGIN:DAYLIGHT
TZOFFSETFROM:-0500
TZOFFSETTO:-0400
TZNAME:EDT
DTSTART:20240310T070000
END:DAYLIGHT
BEGIN:STANDARD
TZOFFSETFROM:-0400
TZOFFSETTO:-0500
TZNAME:EST
DTSTART:20241103T060000
END:STANDARD
BEGIN:DAYLIGHT
TZOFFSETFROM:-0500
TZOFFSETTO:-0400
TZNAME:EDT
DTSTART:20250309T070000
END:DAYLIGHT
BEGIN:STANDARD
TZOFFSETFROM:-0400
TZOFFSETTO:-0500
TZNAME:EST
DTSTART:20251102T060000
END:STANDARD
BEGIN:DAYLIGHT
TZOFFSETFROM:-0500
TZOFFSETTO:-0400
TZNAME:EDT
DTSTART:20260308T070000
END:DAYLIGHT
BEGIN:STANDARD
TZOFFSETFROM:-0400
TZOFFSETTO:-0500
TZNAME:EST
DTSTART:20261101T060000
END:STANDARD
END:VTIMEZONE
BEGIN:VEVENT
DTSTART;TZID=America/New_York:20251203T173000
DTEND;TZID=America/New_York:20251203T190000
DTSTAMP:20260423T100440
CREATED:20251124T193305Z
LAST-MODIFIED:20251202T201216Z
UID:10004844-1764783000-1764788400@www.ethelwalker.org
SUMMARY:EWSPA Meeting and Chocolate Tasting
DESCRIPTION:The December EWSPA meeting will take place both via Zoom and in person. We’re delighted to welcome two speakers: Spanish Faculty Nilda Legassa P’23\, who will highlight Walker’s International Perspective Program\, and Director of College Counseling Clarissa Basch P’15\, who will discuss how students can make the most of opportunities that enrich their college applications. To follow\, we will explore the world of chocolate\, whose scientific name\, Theobroma\, fittingly means “food of the gods.” Did you know that Montezuma\, the last Aztec ruler\, is said to have consumed 50 pitchers of it a day? Stay after the meeting to participate in an interactive chocolate tasting! \n\n\n\n\nRVSP Here
URL:https://www.ethelwalker.org/event/ewspa-meeting-and-chocolate-tasting/
CATEGORIES:All-School Events,Parent Events
END:VEVENT
END:VCALENDAR