BEGIN:VCALENDAR
VERSION:2.0
PRODID:-//The Ethel Walker School - ECPv6.15.12//NONSGML v1.0//EN
CALSCALE:GREGORIAN
METHOD:PUBLISH
X-ORIGINAL-URL:https://www.ethelwalker.org
X-WR-CALDESC:Events for The Ethel Walker School
REFRESH-INTERVAL;VALUE=DURATION:PT1H
X-Robots-Tag:noindex
X-PUBLISHED-TTL:PT1H
BEGIN:VTIMEZONE
TZID:America/New_York
BEGIN:DAYLIGHT
TZOFFSETFROM:-0500
TZOFFSETTO:-0400
TZNAME:EDT
DTSTART:20230312T070000
END:DAYLIGHT
BEGIN:STANDARD
TZOFFSETFROM:-0400
TZOFFSETTO:-0500
TZNAME:EST
DTSTART:20231105T060000
END:STANDARD
BEGIN:DAYLIGHT
TZOFFSETFROM:-0500
TZOFFSETTO:-0400
TZNAME:EDT
DTSTART:20240310T070000
END:DAYLIGHT
BEGIN:STANDARD
TZOFFSETFROM:-0400
TZOFFSETTO:-0500
TZNAME:EST
DTSTART:20241103T060000
END:STANDARD
BEGIN:DAYLIGHT
TZOFFSETFROM:-0500
TZOFFSETTO:-0400
TZNAME:EDT
DTSTART:20250309T070000
END:DAYLIGHT
BEGIN:STANDARD
TZOFFSETFROM:-0400
TZOFFSETTO:-0500
TZNAME:EST
DTSTART:20251102T060000
END:STANDARD
BEGIN:DAYLIGHT
TZOFFSETFROM:-0500
TZOFFSETTO:-0400
TZNAME:EDT
DTSTART:20260308T070000
END:DAYLIGHT
BEGIN:STANDARD
TZOFFSETFROM:-0400
TZOFFSETTO:-0500
TZNAME:EST
DTSTART:20261101T060000
END:STANDARD
END:VTIMEZONE
BEGIN:VEVENT
DTSTART;TZID=America/New_York:20241027T000000
DTEND;TZID=America/New_York:20241029T235959
DTSTAMP:20260424T090628
CREATED:20240306T163520Z
LAST-MODIFIED:20240306T163521Z
UID:10004017-1729987200-1730246399@www.ethelwalker.org
SUMMARY:Fall Long Weekend - No Classes
DESCRIPTION:
URL:https://www.ethelwalker.org/event/fall-long-weekend-no-classes-2/
CATEGORIES:Middle School,Parent Events,School Breaks,Upper School
END:VEVENT
BEGIN:VEVENT
DTSTART;TZID=America/New_York:20241029T160000
DTEND;TZID=America/New_York:20241029T160000
DTSTAMP:20260424T090628
CREATED:20240614T153530Z
LAST-MODIFIED:20240614T162702Z
UID:10004081-1730217600-1730217600@www.ethelwalker.org
SUMMARY:Dorms Open at 4:00 p.m.
DESCRIPTION:
URL:https://www.ethelwalker.org/event/dorms-open-at-400-p-m-5/
CATEGORIES:Middle School,Parent Events,School Breaks,Student Life,Upper School
ORGANIZER;CN="Mallory Pasquariello%2C Director of Residential Life and Student Activities":MAILTO:mpasquariello@ethelwalker.org
END:VEVENT
BEGIN:VEVENT
DTSTART;TZID=America/New_York:20241030T000000
DTEND;TZID=America/New_York:20241030T235959
DTSTAMP:20260424T090628
CREATED:20240306T163557Z
LAST-MODIFIED:20240306T163559Z
UID:10004018-1730246400-1730332799@www.ethelwalker.org
SUMMARY:Classes Resume
DESCRIPTION:
URL:https://www.ethelwalker.org/event/classes-resume-10/
CATEGORIES:Academics,All-School Events,Middle School,Parent Events,Upper School
END:VEVENT
BEGIN:VEVENT
DTSTART;TZID=America/New_York:20241101T000000
DTEND;TZID=America/New_York:20241103T235959
DTSTAMP:20260424T090628
CREATED:20240624T134728Z
LAST-MODIFIED:20240624T134730Z
UID:10004142-1730419200-1730678399@www.ethelwalker.org
SUMMARY:Closed Weekend for Boarders
DESCRIPTION:
URL:https://www.ethelwalker.org/event/closed-weekend-for-boarders-11/
CATEGORIES:Middle School,Parent Events,Student Life,Upper School
ORGANIZER;CN="Mallory Pasquariello%2C Director of Residential Life and Student Activities":MAILTO:mpasquariello@ethelwalker.org
END:VEVENT
BEGIN:VEVENT
DTSTART;TZID=America/New_York:20241113T190000
DTEND;TZID=America/New_York:20241113T200000
DTSTAMP:20260424T090628
CREATED:20240614T141528Z
LAST-MODIFIED:20240614T154210Z
UID:10004064-1731524400-1731528000@www.ethelwalker.org
SUMMARY:College Money Method Featuring Paul Martin
DESCRIPTION:“Evaluating Loans and Borrowing for Your College Investment”Suggested for parents of students in Grades 11 and 12
URL:https://www.ethelwalker.org/event/college-money-method-featuring-paul-martin-7/
CATEGORIES:College Counseling,Parent Events
ORGANIZER;CN="Clarissa Basch%2C Director of College Counseling":MAILTO:cbasch@ethelwalker.org
END:VEVENT
BEGIN:VEVENT
DTSTART;TZID=America/New_York:20241118T173000
DTEND;TZID=America/New_York:20241118T183000
DTSTAMP:20260424T090628
CREATED:20241118T195541Z
LAST-MODIFIED:20241118T195543Z
UID:10004390-1731951000-1731954600@www.ethelwalker.org
SUMMARY:Middle School Parent Wine and Cheese Hour
DESCRIPTION:Current Walker’s 8th grade parents are invited to join us for a gathering at the Deck House from 5:30-6:30 p.m. for conversation and community while your students are enjoying a pizza dinner across the street.
URL:https://www.ethelwalker.org/event/middle-school-parent-wine-and-cheese-hour/
LOCATION:Deck House\, 230 Bushy Hill Road\, Simsbury\, Connecticut\, 06070\, United States
CATEGORIES:Parent Events
END:VEVENT
BEGIN:VEVENT
DTSTART;TZID=America/New_York:20241122T170000
DTEND;TZID=America/New_York:20241122T170000
DTSTAMP:20260424T090628
CREATED:20240614T154612Z
LAST-MODIFIED:20240614T162615Z
UID:10004086-1732294800-1732294800@www.ethelwalker.org
SUMMARY:Dorms Close at 5:00 p.m.
DESCRIPTION:
URL:https://www.ethelwalker.org/event/dorms-close-at-500-p-m-6/
CATEGORIES:Middle School,Parent Events,School Breaks,Student Life,Upper School
ORGANIZER;CN="Mallory Pasquariello%2C Director of Residential Life and Student Activities":MAILTO:mpasquariello@ethelwalker.org
END:VEVENT
BEGIN:VEVENT
DTSTART;TZID=America/New_York:20241123T000000
DTEND;TZID=America/New_York:20241202T235959
DTSTAMP:20260424T090628
CREATED:20240306T163640Z
LAST-MODIFIED:20240306T163643Z
UID:10004019-1732320000-1733183999@www.ethelwalker.org
SUMMARY:Thanksgiving Break
DESCRIPTION:
URL:https://www.ethelwalker.org/event/thanksgiving-break/
CATEGORIES:Middle School,Parent Events,School Breaks,Upper School
END:VEVENT
BEGIN:VEVENT
DTSTART;TZID=America/New_York:20241202T160000
DTEND;TZID=America/New_York:20241202T160000
DTSTAMP:20260424T090628
CREATED:20240614T154707Z
LAST-MODIFIED:20240614T162653Z
UID:10004087-1733155200-1733155200@www.ethelwalker.org
SUMMARY:Dorms Open at 4:00 p.m.
DESCRIPTION:
URL:https://www.ethelwalker.org/event/dorms-open-at-400-p-m-6/
CATEGORIES:Middle School,Parent Events,School Breaks,Student Life,Upper School
ORGANIZER;CN="Mallory Pasquariello%2C Director of Residential Life and Student Activities":MAILTO:mpasquariello@ethelwalker.org
END:VEVENT
BEGIN:VEVENT
DTSTART;TZID=America/New_York:20241203T000000
DTEND;TZID=America/New_York:20241203T235959
DTSTAMP:20260424T090628
CREATED:20240306T163729Z
LAST-MODIFIED:20240306T163731Z
UID:10004020-1733184000-1733270399@www.ethelwalker.org
SUMMARY:Classes Resume
DESCRIPTION:
URL:https://www.ethelwalker.org/event/classes-resume-12/
CATEGORIES:Academics,All-School Events,Middle School,Parent Events,Upper School
END:VEVENT
BEGIN:VEVENT
DTSTART;TZID=America/New_York:20241220T170000
DTEND;TZID=America/New_York:20241220T170000
DTSTAMP:20260424T090628
CREATED:20240614T155426Z
LAST-MODIFIED:20240614T155445Z
UID:10004092-1734714000-1734714000@www.ethelwalker.org
SUMMARY:Dorms Close at 5:00 p.m.
DESCRIPTION:
URL:https://www.ethelwalker.org/event/dorms-close-at-500-p-m-7/
CATEGORIES:Middle School,Parent Events,School Breaks,Student Life,Upper School
ORGANIZER;CN="Mallory Pasquariello%2C Director of Residential Life and Student Activities":MAILTO:mpasquariello@ethelwalker.org
END:VEVENT
BEGIN:VEVENT
DTSTART;TZID=America/New_York:20241221T000000
DTEND;TZID=America/New_York:20250106T235959
DTSTAMP:20260424T090628
CREATED:20240306T163916Z
LAST-MODIFIED:20240306T163917Z
UID:10004022-1734739200-1736207999@www.ethelwalker.org
SUMMARY:Winter Break
DESCRIPTION:
URL:https://www.ethelwalker.org/event/winter-break/
CATEGORIES:All-School Events,Middle School,Parent Events,School Breaks,Upper School
END:VEVENT
BEGIN:VEVENT
DTSTART;TZID=America/New_York:20250106T160000
DTEND;TZID=America/New_York:20250106T160000
DTSTAMP:20260424T090628
CREATED:20240614T155623Z
LAST-MODIFIED:20240614T155624Z
UID:10004093-1736179200-1736179200@www.ethelwalker.org
SUMMARY:Dorms Open at 4:00 p.m.
DESCRIPTION:
URL:https://www.ethelwalker.org/event/dorms-open-at-400-p-m-7/
CATEGORIES:Middle School,Parent Events,School Breaks,Student Life,Upper School
ORGANIZER;CN="Mallory Pasquariello%2C Director of Residential Life and Student Activities":MAILTO:mpasquariello@ethelwalker.org
END:VEVENT
BEGIN:VEVENT
DTSTART;TZID=America/New_York:20250107T000000
DTEND;TZID=America/New_York:20250107T235959
DTSTAMP:20260424T090628
CREATED:20240306T163952Z
LAST-MODIFIED:20240306T165208Z
UID:10004023-1736208000-1736294399@www.ethelwalker.org
SUMMARY:Classes Resume
DESCRIPTION:
URL:https://www.ethelwalker.org/event/classes-resume-13/
CATEGORIES:Academics,All-School Events,Middle School,Parent Events,Upper School
END:VEVENT
BEGIN:VEVENT
DTSTART;TZID=America/New_York:20250110T000000
DTEND;TZID=America/New_York:20250112T235959
DTSTAMP:20260424T090628
CREATED:20240614T155712Z
LAST-MODIFIED:20240614T155715Z
UID:10004094-1736467200-1736726399@www.ethelwalker.org
SUMMARY:Closed Weekend for Boarders
DESCRIPTION:
URL:https://www.ethelwalker.org/event/closed-weekend-for-boarders-9/
CATEGORIES:Middle School,Parent Events,Student Life,Upper School
ORGANIZER;CN="Mallory Pasquariello%2C Director of Residential Life and Student Activities":MAILTO:mpasquariello@ethelwalker.org
END:VEVENT
BEGIN:VEVENT
DTSTART;TZID=America/New_York:20250115T190000
DTEND;TZID=America/New_York:20250115T200000
DTSTAMP:20260424T090628
CREATED:20240614T141626Z
LAST-MODIFIED:20240614T154202Z
UID:10004065-1736967600-1736971200@www.ethelwalker.org
SUMMARY:College Money Method Featuring Paul Martin
DESCRIPTION:“Navigating the New System of College Pricing and Financial Aid”Suggested for parents of students in Grades 9 and 10
URL:https://www.ethelwalker.org/event/college-money-method-featuring-paul-martin-8/
CATEGORIES:College Counseling,Parent Events
ORGANIZER;CN="Clarissa Basch%2C Director of College Counseling":MAILTO:cbasch@ethelwalker.org
END:VEVENT
BEGIN:VEVENT
DTSTART;TZID=America/New_York:20250130T170000
DTEND;TZID=America/New_York:20250130T170000
DTSTAMP:20260424T090628
CREATED:20240614T160048Z
LAST-MODIFIED:20240614T160147Z
UID:10004098-1738256400-1738256400@www.ethelwalker.org
SUMMARY:Dorms Close at 5:00 p.m.
DESCRIPTION:
URL:https://www.ethelwalker.org/event/dorms-close-at-500-p-m-8/
CATEGORIES:Middle School,Parent Events,School Breaks,Student Life,Upper School
ORGANIZER;CN="Mallory Pasquariello%2C Director of Residential Life and Student Activities":MAILTO:mpasquariello@ethelwalker.org
END:VEVENT
BEGIN:VEVENT
DTSTART;TZID=America/New_York:20250131T000000
DTEND;TZID=America/New_York:20250203T235959
DTSTAMP:20260424T090628
CREATED:20240306T164035Z
LAST-MODIFIED:20240306T164038Z
UID:10004024-1738281600-1738627199@www.ethelwalker.org
SUMMARY:Winter Long Weekend - No Classes
DESCRIPTION:
URL:https://www.ethelwalker.org/event/winter-long-weekend-no-classes-2/
CATEGORIES:All-School Events,Middle School,Parent Events,School Breaks,Upper School
END:VEVENT
BEGIN:VEVENT
DTSTART;TZID=America/New_York:20250203T160000
DTEND;TZID=America/New_York:20250203T160000
DTSTAMP:20260424T090628
CREATED:20240614T160211Z
LAST-MODIFIED:20240614T160212Z
UID:10004099-1738598400-1738598400@www.ethelwalker.org
SUMMARY:Dorms Open at 4:00 p.m.
DESCRIPTION:
URL:https://www.ethelwalker.org/event/dorms-open-at-400-p-m-8/
CATEGORIES:Middle School,Parent Events,School Breaks,Student Life,Upper School
ORGANIZER;CN="Mallory Pasquariello%2C Director of Residential Life and Student Activities":MAILTO:mpasquariello@ethelwalker.org
END:VEVENT
BEGIN:VEVENT
DTSTART;TZID=America/New_York:20250206T190000
DTEND;TZID=America/New_York:20250206T203000
DTSTAMP:20260424T090628
CREATED:20240614T160340Z
LAST-MODIFIED:20250206T183451Z
UID:10004100-1738868400-1738873800@www.ethelwalker.org
SUMMARY:Winter Dance Concert - CANCELED
DESCRIPTION:
URL:https://www.ethelwalker.org/event/winter-dance-concert-r-11-12/
CATEGORIES:Arts,Parent Events,Upper School
ORGANIZER;CN="Cheri Soule%2C Director of Dance":MAILTO:csoule@ethelwalker.org
END:VEVENT
BEGIN:VEVENT
DTSTART;TZID=America/New_York:20250207T190000
DTEND;TZID=America/New_York:20250207T203000
DTSTAMP:20260424T090628
CREATED:20240614T160429Z
LAST-MODIFIED:20250206T183501Z
UID:10004101-1738954800-1738960200@www.ethelwalker.org
SUMMARY:Winter Dance Concert (R/All)
DESCRIPTION:
URL:https://www.ethelwalker.org/event/winter-dance-concert-r-9-10-msb/
CATEGORIES:Arts,Middle School,Parent Events,Upper School
ORGANIZER;CN="Cheri Soule%2C Director of Dance":MAILTO:csoule@ethelwalker.org
END:VEVENT
BEGIN:VEVENT
DTSTART;TZID=America/New_York:20250219T190000
DTEND;TZID=America/New_York:20250219T200000
DTSTAMP:20260424T090628
CREATED:20240614T141713Z
LAST-MODIFIED:20240624T153304Z
UID:10004066-1739991600-1739995200@www.ethelwalker.org
SUMMARY:College Money Method Featuring Paul Martin
DESCRIPTION:“Understanding How Colleges Assess Your Ability to Pay and Aid Eligibility”Suggested for parents of students in Grade 10
URL:https://www.ethelwalker.org/event/college-money-method-featuring-paul-martin-9/
CATEGORIES:College Counseling,Parent Events
ORGANIZER;CN="Clarissa Basch%2C Director of College Counseling":MAILTO:cbasch@ethelwalker.org
END:VEVENT
BEGIN:VEVENT
DTSTART;TZID=America/New_York:20250220T190000
DTEND;TZID=America/New_York:20250220T210000
DTSTAMP:20260424T090628
CREATED:20240614T160601Z
LAST-MODIFIED:20240614T160602Z
UID:10004103-1740078000-1740085200@www.ethelwalker.org
SUMMARY:Winter Play (R/11 & 12)
DESCRIPTION:
URL:https://www.ethelwalker.org/event/winter-play-r-11-12/
CATEGORIES:Arts,Parent Events,Upper School
END:VEVENT
BEGIN:VEVENT
DTSTART;TZID=America/New_York:20250221T190000
DTEND;TZID=America/New_York:20250221T210000
DTSTAMP:20260424T090628
CREATED:20240614T160638Z
LAST-MODIFIED:20240614T160640Z
UID:10004104-1740164400-1740171600@www.ethelwalker.org
SUMMARY:Winter Play (R/9\, 10 & MSB)
DESCRIPTION:
URL:https://www.ethelwalker.org/event/winter-play-r-9-10-msb/
CATEGORIES:Arts,Middle School,Parent Events,Upper School
END:VEVENT
BEGIN:VEVENT
DTSTART;TZID=America/New_York:20250307T170000
DTEND;TZID=America/New_York:20250307T170000
DTSTAMP:20260424T090628
CREATED:20240614T160800Z
LAST-MODIFIED:20240614T162559Z
UID:10004106-1741366800-1741366800@www.ethelwalker.org
SUMMARY:Dorms Close at 5:00 p.m.
DESCRIPTION:
URL:https://www.ethelwalker.org/event/dorms-close-at-500-p-m-9/
CATEGORIES:Middle School,Parent Events,School Breaks,Student Life,Upper School
ORGANIZER;CN="Mallory Pasquariello%2C Director of Residential Life and Student Activities":MAILTO:mpasquariello@ethelwalker.org
END:VEVENT
BEGIN:VEVENT
DTSTART;TZID=America/New_York:20250308T000000
DTEND;TZID=America/New_York:20250324T235959
DTSTAMP:20260424T090628
CREATED:20240306T164233Z
LAST-MODIFIED:20240306T164235Z
UID:10004026-1741392000-1742860799@www.ethelwalker.org
SUMMARY:Spring Break
DESCRIPTION:
URL:https://www.ethelwalker.org/event/spring-break-2/
CATEGORIES:All-School Events,Middle School,Parent Events,School Breaks,Upper School
END:VEVENT
BEGIN:VEVENT
DTSTART;TZID=America/New_York:20250315T160000
DTEND;TZID=America/New_York:20250315T180000
DTSTAMP:20260424T090628
CREATED:20250301T230811Z
LAST-MODIFIED:20250301T230814Z
UID:10004464-1742054400-1742061600@www.ethelwalker.org
SUMMARY:Walker's in Wellington
DESCRIPTION:Join us in Wellington as we celebrate Walker’s at WEF 2025! \n\n\n\nMeet current and former Walker’s equestrians as we gather to support our students competing in the Winter Equestrian Festival. \n\n\n\nThe reception will be held from 4:00-6:00 p.m. at Kelianda South\, 13796 Gracida Street\, Wellington. \n\n\n\n\nRegister
URL:https://www.ethelwalker.org/event/walkers-in-wellington/
CATEGORIES:Alumnae,Parent Events
ORGANIZER;CN="Marion Paterson P'17%2C '19%2C Director of Alumnae Relations and Major Giving":MAILTO:mpaterson@ethelwalker.org
END:VEVENT
BEGIN:VEVENT
DTSTART;TZID=America/New_York:20250324T160000
DTEND;TZID=America/New_York:20250324T160000
DTSTAMP:20260424T090628
CREATED:20240614T160841Z
LAST-MODIFIED:20240614T160843Z
UID:10004107-1742832000-1742832000@www.ethelwalker.org
SUMMARY:Dorms Open at 4:00 p.m.
DESCRIPTION:
URL:https://www.ethelwalker.org/event/dorms-open-at-400-p-m-9/
CATEGORIES:Middle School,Parent Events,School Breaks,Student Life,Upper School
ORGANIZER;CN="Mallory Pasquariello%2C Director of Residential Life and Student Activities":MAILTO:mpasquariello@ethelwalker.org
END:VEVENT
BEGIN:VEVENT
DTSTART;TZID=America/New_York:20250325T000000
DTEND;TZID=America/New_York:20250325T235959
DTSTAMP:20260424T090628
CREATED:20240306T164400Z
LAST-MODIFIED:20240306T164401Z
UID:10004027-1742860800-1742947199@www.ethelwalker.org
SUMMARY:Classes Resume
DESCRIPTION:
URL:https://www.ethelwalker.org/event/classes-resume-14/
CATEGORIES:Academics,All-School Events,Middle School,Parent Events,Upper School
END:VEVENT
BEGIN:VEVENT
DTSTART;TZID=America/New_York:20250326T190000
DTEND;TZID=America/New_York:20250326T200000
DTSTAMP:20260424T090628
CREATED:20240614T141804Z
LAST-MODIFIED:20240614T154144Z
UID:10004067-1743015600-1743019200@www.ethelwalker.org
SUMMARY:College Money Method Featuring Paul Martin
DESCRIPTION:“Comparing Offers and Considering Appeals”Suggested for parents of students in Grade 12
URL:https://www.ethelwalker.org/event/college-money-method-featuring-paul-martin-10/
CATEGORIES:College Counseling,Parent Events
ORGANIZER;CN="Clarissa Basch%2C Director of College Counseling":MAILTO:cbasch@ethelwalker.org
END:VEVENT
END:VCALENDAR