BEGIN:VCALENDAR
VERSION:2.0
PRODID:-//The Ethel Walker School - ECPv6.15.12//NONSGML v1.0//EN
CALSCALE:GREGORIAN
METHOD:PUBLISH
X-ORIGINAL-URL:https://www.ethelwalker.org
X-WR-CALDESC:Events for The Ethel Walker School
REFRESH-INTERVAL;VALUE=DURATION:PT1H
X-Robots-Tag:noindex
X-PUBLISHED-TTL:PT1H
BEGIN:VTIMEZONE
TZID:America/New_York
BEGIN:DAYLIGHT
TZOFFSETFROM:-0500
TZOFFSETTO:-0400
TZNAME:EDT
DTSTART:20200308T070000
END:DAYLIGHT
BEGIN:STANDARD
TZOFFSETFROM:-0400
TZOFFSETTO:-0500
TZNAME:EST
DTSTART:20201101T060000
END:STANDARD
BEGIN:DAYLIGHT
TZOFFSETFROM:-0500
TZOFFSETTO:-0400
TZNAME:EDT
DTSTART:20210314T070000
END:DAYLIGHT
BEGIN:STANDARD
TZOFFSETFROM:-0400
TZOFFSETTO:-0500
TZNAME:EST
DTSTART:20211107T060000
END:STANDARD
BEGIN:DAYLIGHT
TZOFFSETFROM:-0500
TZOFFSETTO:-0400
TZNAME:EDT
DTSTART:20220313T070000
END:DAYLIGHT
BEGIN:STANDARD
TZOFFSETFROM:-0400
TZOFFSETTO:-0500
TZNAME:EST
DTSTART:20221106T060000
END:STANDARD
BEGIN:DAYLIGHT
TZOFFSETFROM:-0500
TZOFFSETTO:-0400
TZNAME:EDT
DTSTART:20230312T070000
END:DAYLIGHT
BEGIN:STANDARD
TZOFFSETFROM:-0400
TZOFFSETTO:-0500
TZNAME:EST
DTSTART:20231105T060000
END:STANDARD
BEGIN:DAYLIGHT
TZOFFSETFROM:-0500
TZOFFSETTO:-0400
TZNAME:EDT
DTSTART:20240310T070000
END:DAYLIGHT
BEGIN:STANDARD
TZOFFSETFROM:-0400
TZOFFSETTO:-0500
TZNAME:EST
DTSTART:20241103T060000
END:STANDARD
BEGIN:DAYLIGHT
TZOFFSETFROM:-0500
TZOFFSETTO:-0400
TZNAME:EDT
DTSTART:20250309T070000
END:DAYLIGHT
BEGIN:STANDARD
TZOFFSETFROM:-0400
TZOFFSETTO:-0500
TZNAME:EST
DTSTART:20251102T060000
END:STANDARD
END:VTIMEZONE
BEGIN:VEVENT
DTSTART;TZID=America/New_York:20211120T000000
DTEND;TZID=America/New_York:20211129T235959
DTSTAMP:20260424T112824
CREATED:20210607T143702Z
LAST-MODIFIED:20211012T154551Z
UID:10002665-1637366400-1638230399@www.ethelwalker.org
SUMMARY:Thanksgiving/November Break
DESCRIPTION:
URL:https://www.ethelwalker.org/event/thanksgiving-break-2/
CATEGORIES:School Breaks
END:VEVENT
BEGIN:VEVENT
DTSTART;TZID=America/New_York:20220204T000000
DTEND;TZID=America/New_York:20220207T235959
DTSTAMP:20260424T112824
CREATED:20210607T150758Z
LAST-MODIFIED:20210607T150759Z
UID:10002627-1643932800-1644278399@www.ethelwalker.org
SUMMARY:Winter Long Weekend
DESCRIPTION:
URL:https://www.ethelwalker.org/event/winter-long-weekend/
CATEGORIES:School Breaks
END:VEVENT
BEGIN:VEVENT
DTSTART;TZID=America/New_York:20220415T000000
DTEND;TZID=America/New_York:20220418T235959
DTSTAMP:20260424T112824
CREATED:20210607T152636Z
LAST-MODIFIED:20210607T152637Z
UID:10002673-1649980800-1650326399@www.ethelwalker.org
SUMMARY:Spring Long Weekend
DESCRIPTION:
URL:https://www.ethelwalker.org/event/spring-long-weekend/
CATEGORIES:School Breaks
END:VEVENT
BEGIN:VEVENT
DTSTART;TZID=America/New_York:20220926T000000
DTEND;TZID=America/New_York:20220926T235959
DTSTAMP:20260424T112824
CREATED:20220712T151051Z
LAST-MODIFIED:20220712T152556Z
UID:10003126-1664150400-1664236799@www.ethelwalker.org
SUMMARY:Rosh Hashanah - No Classes
DESCRIPTION:
URL:https://www.ethelwalker.org/event/rosh-hashanah-no-classes/
CATEGORIES:Academics,All-School Events,Middle School,School Breaks,Upper School
END:VEVENT
BEGIN:VEVENT
DTSTART;TZID=America/New_York:20221030T000000
DTEND;TZID=America/New_York:20221101T235959
DTSTAMP:20260424T112824
CREATED:20220712T152732Z
LAST-MODIFIED:20220808T134627Z
UID:10003139-1667088000-1667347199@www.ethelwalker.org
SUMMARY:Long Weekend - No Classes
DESCRIPTION:
URL:https://www.ethelwalker.org/event/long-weekend/
CATEGORIES:Middle School,School Breaks,Student Life,Upper School
END:VEVENT
BEGIN:VEVENT
DTSTART;TZID=America/New_York:20221118T170000
DTEND;TZID=America/New_York:20221118T170000
DTSTAMP:20260424T112824
CREATED:20220805T144845Z
LAST-MODIFIED:20220805T145038Z
UID:10003219-1668790800-1668790800@www.ethelwalker.org
SUMMARY:Dorms Close
DESCRIPTION:
URL:https://www.ethelwalker.org/event/dorms-close-6/
CATEGORIES:Middle School,School Breaks,Student Life,Upper School
ORGANIZER;CN="Mallory Pasquariello%2C Director of Residential Life and Student Activities":MAILTO:mpasquariello@ethelwalker.org
END:VEVENT
BEGIN:VEVENT
DTSTART;TZID=America/New_York:20221119T000000
DTEND;TZID=America/New_York:20221128T235959
DTSTAMP:20260424T112824
CREATED:20220712T152918Z
LAST-MODIFIED:20220805T145119Z
UID:10003138-1668816000-1669679999@www.ethelwalker.org
SUMMARY:Thanksgiving Break
DESCRIPTION:
URL:https://www.ethelwalker.org/event/thanksgiving-break-3/
CATEGORIES:All-School Events,Middle School,School Breaks,Upper School
END:VEVENT
BEGIN:VEVENT
DTSTART;TZID=America/New_York:20221128T160000
DTEND;TZID=America/New_York:20221128T160000
DTSTAMP:20260424T112824
CREATED:20220805T145011Z
LAST-MODIFIED:20220805T145059Z
UID:10003218-1669651200-1669651200@www.ethelwalker.org
SUMMARY:Dorms Open
DESCRIPTION:
URL:https://www.ethelwalker.org/event/dorms-open-8/
CATEGORIES:Middle School,School Breaks,Student Life,Upper School
ORGANIZER;CN="Mallory Pasquariello%2C Director of Residential Life and Student Activities":MAILTO:mpasquariello@ethelwalker.org
END:VEVENT
BEGIN:VEVENT
DTSTART;TZID=America/New_York:20221216T170000
DTEND;TZID=America/New_York:20221216T170000
DTSTAMP:20260424T112824
CREATED:20220805T145954Z
LAST-MODIFIED:20220805T145955Z
UID:10003230-1671210000-1671210000@www.ethelwalker.org
SUMMARY:Dorms Close
DESCRIPTION:
URL:https://www.ethelwalker.org/event/dorms-close-7/
CATEGORIES:Middle School,School Breaks,Student Life,Upper School
ORGANIZER;CN="Mallory Pasquariello%2C Director of Residential Life and Student Activities":MAILTO:mpasquariello@ethelwalker.org
END:VEVENT
BEGIN:VEVENT
DTSTART;TZID=America/New_York:20221217T000000
DTEND;TZID=America/New_York:20230103T235959
DTSTAMP:20260424T112824
CREATED:20220805T145917Z
LAST-MODIFIED:20220805T150016Z
UID:10003231-1671235200-1672790399@www.ethelwalker.org
SUMMARY:Winter Break
DESCRIPTION:
URL:https://www.ethelwalker.org/event/winter-break-3/
CATEGORIES:Middle School,School Breaks,Student Life,Upper School
END:VEVENT
BEGIN:VEVENT
DTSTART;TZID=America/New_York:20230103T160000
DTEND;TZID=America/New_York:20230103T160000
DTSTAMP:20260424T112824
CREATED:20220805T150048Z
LAST-MODIFIED:20220805T150049Z
UID:10003229-1672761600-1672761600@www.ethelwalker.org
SUMMARY:Dorms Open
DESCRIPTION:
URL:https://www.ethelwalker.org/event/dorms-open-9/
CATEGORIES:Middle School,School Breaks,Student Life,Upper School
ORGANIZER;CN="Mallory Pasquariello%2C Director of Residential Life and Student Activities":MAILTO:mpasquariello@ethelwalker.org
END:VEVENT
BEGIN:VEVENT
DTSTART;TZID=America/New_York:20230202T170000
DTEND;TZID=America/New_York:20230202T170000
DTSTAMP:20260424T112824
CREATED:20220805T150653Z
LAST-MODIFIED:20220805T150654Z
UID:10003251-1675357200-1675357200@www.ethelwalker.org
SUMMARY:Dorms Close
DESCRIPTION:
URL:https://www.ethelwalker.org/event/dorms-close-8/
CATEGORIES:Middle School,School Breaks,Student Life,Upper School
ORGANIZER;CN="Mallory Pasquariello%2C Director of Residential Life and Student Activities":MAILTO:mpasquariello@ethelwalker.org
END:VEVENT
BEGIN:VEVENT
DTSTART;TZID=America/New_York:20230203T000000
DTEND;TZID=America/New_York:20230206T235959
DTSTAMP:20260424T112824
CREATED:20220805T150618Z
LAST-MODIFIED:20220805T150619Z
UID:10003270-1675382400-1675727999@www.ethelwalker.org
SUMMARY:Winter Long Weekend
DESCRIPTION:
URL:https://www.ethelwalker.org/event/winter-long-weekend-2/
CATEGORIES:All-School Events,Middle School,School Breaks,Upper School
END:VEVENT
BEGIN:VEVENT
DTSTART;TZID=America/New_York:20230206T160000
DTEND;TZID=America/New_York:20230206T160000
DTSTAMP:20260424T112824
CREATED:20220805T150721Z
LAST-MODIFIED:20220805T150722Z
UID:10003241-1675699200-1675699200@www.ethelwalker.org
SUMMARY:Dorms Open
DESCRIPTION:
URL:https://www.ethelwalker.org/event/dorms-open-10/
CATEGORIES:Middle School,School Breaks,Student Life,Upper School
END:VEVENT
BEGIN:VEVENT
DTSTART;TZID=America/New_York:20230303T170000
DTEND;TZID=America/New_York:20230303T170000
DTSTAMP:20260424T112824
CREATED:20220805T151607Z
LAST-MODIFIED:20220805T151608Z
UID:10003250-1677862800-1677862800@www.ethelwalker.org
SUMMARY:Dorms Close
DESCRIPTION:
URL:https://www.ethelwalker.org/event/dorms-close-9/
CATEGORIES:Middle School,School Breaks,Student Life,Upper School
ORGANIZER;CN="Mallory Pasquariello%2C Director of Residential Life and Student Activities":MAILTO:mpasquariello@ethelwalker.org
END:VEVENT
BEGIN:VEVENT
DTSTART;TZID=America/New_York:20230304T000000
DTEND;TZID=America/New_York:20230320T235959
DTSTAMP:20260424T112824
CREATED:20220805T151515Z
LAST-MODIFIED:20220805T151517Z
UID:10003235-1677888000-1679356799@www.ethelwalker.org
SUMMARY:March Break
DESCRIPTION:
URL:https://www.ethelwalker.org/event/march-break/
CATEGORIES:Middle School,School Breaks,Student Life,Upper School
END:VEVENT
BEGIN:VEVENT
DTSTART;TZID=America/New_York:20230320T160000
DTEND;TZID=America/New_York:20230320T160000
DTSTAMP:20260424T112824
CREATED:20220805T151640Z
LAST-MODIFIED:20220805T151641Z
UID:10003249-1679328000-1679328000@www.ethelwalker.org
SUMMARY:Dorms Open
DESCRIPTION:
URL:https://www.ethelwalker.org/event/dorms-open-11/
CATEGORIES:Middle School,School Breaks,Student Life,Upper School
ORGANIZER;CN="Mallory Pasquariello%2C Director of Residential Life and Student Activities":MAILTO:mpasquariello@ethelwalker.org
END:VEVENT
BEGIN:VEVENT
DTSTART;TZID=America/New_York:20230424T000000
DTEND;TZID=America/New_York:20230424T235959
DTSTAMP:20260424T112824
CREATED:20220805T152443Z
LAST-MODIFIED:20220805T152444Z
UID:10003276-1682294400-1682380799@www.ethelwalker.org
SUMMARY:Spring Term Holiday - No Classes
DESCRIPTION:
URL:https://www.ethelwalker.org/event/spring-term-holiday-no-classes/
CATEGORIES:All-School Events,Middle School,School Breaks,Student Life,Upper School
END:VEVENT
BEGIN:VEVENT
DTSTART;TZID=America/New_York:20230529T000000
DTEND;TZID=America/New_York:20230529T235959
DTSTAMP:20260424T112824
CREATED:20220805T153639Z
LAST-MODIFIED:20220805T153640Z
UID:10003305-1685318400-1685404799@www.ethelwalker.org
SUMMARY:Memorial Day - No Classes
DESCRIPTION:
URL:https://www.ethelwalker.org/event/memorial-day-no-classes/
CATEGORIES:Academics,All-School Events,Middle School,School Breaks,Upper School
END:VEVENT
BEGIN:VEVENT
DTSTART;TZID=America/New_York:20230602T170000
DTEND;TZID=America/New_York:20230602T170000
DTSTAMP:20260424T112824
CREATED:20230410T145424Z
LAST-MODIFIED:20230410T145426Z
UID:10003549-1685725200-1685725200@www.ethelwalker.org
SUMMARY:Dorms Close
DESCRIPTION:
URL:https://www.ethelwalker.org/event/dorms-close-10/
CATEGORIES:All-School Events,Middle School,Parent Events,School Breaks,Upper School
END:VEVENT
BEGIN:VEVENT
DTSTART;TZID=America/New_York:20231021T170000
DTEND;TZID=America/New_York:20231021T170000
DTSTAMP:20260424T112824
CREATED:20231004T144446Z
LAST-MODIFIED:20231004T144447Z
UID:10003754-1697907600-1697907600@www.ethelwalker.org
SUMMARY:Dorms Close
DESCRIPTION:
URL:https://www.ethelwalker.org/event/dorms-close-11/
CATEGORIES:All-School Events,School Breaks
END:VEVENT
BEGIN:VEVENT
DTSTART;TZID=America/New_York:20231022T000000
DTEND;TZID=America/New_York:20231024T235959
DTSTAMP:20260424T112824
CREATED:20230503T202144Z
LAST-MODIFIED:20230503T202145Z
UID:10003569-1697932800-1698191999@www.ethelwalker.org
SUMMARY:Fall Long Weekend - No Classes
DESCRIPTION:
URL:https://www.ethelwalker.org/event/fall-long-weekend-no-classes/
CATEGORIES:School Breaks,Student Life
END:VEVENT
BEGIN:VEVENT
DTSTART;TZID=America/New_York:20231024T160000
DTEND;TZID=America/New_York:20231024T160000
DTSTAMP:20260424T112824
CREATED:20231004T144511Z
LAST-MODIFIED:20231004T144513Z
UID:10003795-1698163200-1698163200@www.ethelwalker.org
SUMMARY:Dorms Open
DESCRIPTION:
URL:https://www.ethelwalker.org/event/dorms-open-12/
CATEGORIES:All-School Events,School Breaks
END:VEVENT
BEGIN:VEVENT
DTSTART;TZID=America/New_York:20231117T170000
DTEND;TZID=America/New_York:20231117T170000
DTSTAMP:20260424T112824
CREATED:20231027T002506Z
LAST-MODIFIED:20231027T002508Z
UID:10003772-1700240400-1700240400@www.ethelwalker.org
SUMMARY:Dorms Close at 5:00 p.m.
DESCRIPTION:
URL:https://www.ethelwalker.org/event/dorms-close-at-500-p-m/
CATEGORIES:School Breaks
END:VEVENT
BEGIN:VEVENT
DTSTART;TZID=America/New_York:20231118T000000
DTEND;TZID=America/New_York:20231127T235959
DTSTAMP:20260424T112824
CREATED:20230503T202349Z
LAST-MODIFIED:20230503T202350Z
UID:10003567-1700265600-1701129599@www.ethelwalker.org
SUMMARY:Thanksgiving Break
DESCRIPTION:
URL:https://www.ethelwalker.org/event/thanksgiving-break-4/
CATEGORIES:All-School Events,Middle School,School Breaks,Upper School
END:VEVENT
BEGIN:VEVENT
DTSTART;TZID=America/New_York:20231127T160000
DTEND;TZID=America/New_York:20231127T160000
DTSTAMP:20260424T112824
CREATED:20231027T002629Z
LAST-MODIFIED:20231027T002631Z
UID:10003771-1701100800-1701100800@www.ethelwalker.org
SUMMARY:Dorms Open at 4:00 p.m.
DESCRIPTION:
URL:https://www.ethelwalker.org/event/dorms-open-at-400-p-m/
CATEGORIES:All-School Events,School Breaks
END:VEVENT
BEGIN:VEVENT
DTSTART;TZID=America/New_York:20231215T170000
DTEND;TZID=America/New_York:20231215T170000
DTSTAMP:20260424T112824
CREATED:20231027T004209Z
LAST-MODIFIED:20231027T004211Z
UID:10003784-1702659600-1702659600@www.ethelwalker.org
SUMMARY:Dorms Close at 5:00 p.m.
DESCRIPTION:
URL:https://www.ethelwalker.org/event/dorms-close-at-500-p-m-2/
CATEGORIES:School Breaks
END:VEVENT
BEGIN:VEVENT
DTSTART;TZID=America/New_York:20231216T000000
DTEND;TZID=America/New_York:20240102T235959
DTSTAMP:20260424T112824
CREATED:20230503T203950Z
LAST-MODIFIED:20230503T203951Z
UID:10003583-1702684800-1704239999@www.ethelwalker.org
SUMMARY:Winter Break
DESCRIPTION:
URL:https://www.ethelwalker.org/event/winter-break-4/
CATEGORIES:All-School Events,Middle School,School Breaks,Upper School
END:VEVENT
BEGIN:VEVENT
DTSTART;TZID=America/New_York:20240102T160000
DTEND;TZID=America/New_York:20240102T160000
DTSTAMP:20260424T112824
CREATED:20231027T004245Z
LAST-MODIFIED:20231027T004246Z
UID:10003783-1704211200-1704211200@www.ethelwalker.org
SUMMARY:Dorms Open at 4:00 p.m.
DESCRIPTION:
URL:https://www.ethelwalker.org/event/dorms-open-at-400-p-m-2/
CATEGORIES:School Breaks
END:VEVENT
BEGIN:VEVENT
DTSTART;TZID=America/New_York:20240201T170000
DTEND;TZID=America/New_York:20240201T170000
DTSTAMP:20260424T112824
CREATED:20231027T005654Z
LAST-MODIFIED:20231027T005656Z
UID:10003820-1706806800-1706806800@www.ethelwalker.org
SUMMARY:Dorms Close at 5:00 p.m.
DESCRIPTION:
URL:https://www.ethelwalker.org/event/dorms-close-at-500-p-m-3/
CATEGORIES:All-School Events,School Breaks
END:VEVENT
END:VCALENDAR