BEGIN:VCALENDAR
VERSION:2.0
PRODID:-//The Ethel Walker School - ECPv6.15.12//NONSGML v1.0//EN
CALSCALE:GREGORIAN
METHOD:PUBLISH
X-ORIGINAL-URL:https://www.ethelwalker.org
X-WR-CALDESC:Events for The Ethel Walker School
REFRESH-INTERVAL;VALUE=DURATION:PT1H
X-Robots-Tag:noindex
X-PUBLISHED-TTL:PT1H
BEGIN:VTIMEZONE
TZID:America/New_York
BEGIN:DAYLIGHT
TZOFFSETFROM:-0500
TZOFFSETTO:-0400
TZNAME:EDT
DTSTART:20250309T070000
END:DAYLIGHT
BEGIN:STANDARD
TZOFFSETFROM:-0400
TZOFFSETTO:-0500
TZNAME:EST
DTSTART:20251102T060000
END:STANDARD
BEGIN:DAYLIGHT
TZOFFSETFROM:-0500
TZOFFSETTO:-0400
TZNAME:EDT
DTSTART:20260308T070000
END:DAYLIGHT
BEGIN:STANDARD
TZOFFSETFROM:-0400
TZOFFSETTO:-0500
TZNAME:EST
DTSTART:20261101T060000
END:STANDARD
BEGIN:DAYLIGHT
TZOFFSETFROM:-0500
TZOFFSETTO:-0400
TZNAME:EDT
DTSTART:20270314T070000
END:DAYLIGHT
BEGIN:STANDARD
TZOFFSETFROM:-0400
TZOFFSETTO:-0500
TZNAME:EST
DTSTART:20271107T060000
END:STANDARD
END:VTIMEZONE
BEGIN:VEVENT
DTSTART;TZID=America/New_York:20260218T150000
DTEND;TZID=America/New_York:20260218T170000
DTSTAMP:20260424T042432
CREATED:20251027T181427Z
LAST-MODIFIED:20260219T180936Z
UID:10004776-1771426800-1771434000@www.ethelwalker.org
SUMMARY:Varsity Swimming @ The Williston Northampton School
DESCRIPTION:
URL:https://www.ethelwalker.org/event/varsity-swimming-the-williston-northampton-school/
LOCATION:Williston Northampton School\, 19 Payson Ave\, Easthampton\, Massachusetts\, 01027\, United States
CATEGORIES:Athletic Games
END:VEVENT
BEGIN:VEVENT
DTSTART;TZID=America/New_York:20260218T150000
DTEND;TZID=America/New_York:20260218T170000
DTSTAMP:20260424T042432
CREATED:20251027T181553Z
LAST-MODIFIED:20260219T181027Z
UID:10004777-1771426800-1771434000@www.ethelwalker.org
SUMMARY:Varsity Swimming vs. Wilbraham & Monson Academy
DESCRIPTION:
URL:https://www.ethelwalker.org/event/varsity-swimming-vs-wilbraham-monson-academy-3/
LOCATION:Williston Northampton School\, 19 Payson Ave\, Easthampton\, Massachusetts\, 01027\, United States
CATEGORIES:Athletic Games
END:VEVENT
BEGIN:VEVENT
DTSTART;TZID=America/New_York:20260218T153000
DTEND;TZID=America/New_York:20260218T164500
DTSTAMP:20260424T042432
CREATED:20251024T173945Z
LAST-MODIFIED:20260223T140725Z
UID:10004753-1771428600-1771433100@www.ethelwalker.org
SUMMARY:Middle School Basketball vs. Rectory School
DESCRIPTION:
URL:https://www.ethelwalker.org/event/middle-school-basketball-vs-rectory-school-3/
LOCATION:The Ethel Walker School\, 230 Bushy Hill Road\, Simsbury\, 06070\, United States
CATEGORIES:Athletic Games
END:VEVENT
BEGIN:VEVENT
DTSTART;TZID=America/New_York:20260218T160000
DTEND;TZID=America/New_York:20260218T170000
DTSTAMP:20260424T042432
CREATED:20251028T150339Z
LAST-MODIFIED:20260219T180605Z
UID:10004804-1771430400-1771434000@www.ethelwalker.org
SUMMARY:Varsity Squash vs. Westover School
DESCRIPTION:
URL:https://www.ethelwalker.org/event/varsity-squash-vs-westover-school-3/
LOCATION:The Ethel Walker School\, 230 Bushy Hill Road\, Simsbury\, 06070\, United States
CATEGORIES:Athletic Games
END:VEVENT
BEGIN:VEVENT
DTSTART;TZID=America/New_York:20260220T180000
DTEND;TZID=America/New_York:20260220T193000
DTSTAMP:20260424T042432
CREATED:20251028T182708Z
LAST-MODIFIED:20260223T140344Z
UID:10004826-1771610400-1771615800@www.ethelwalker.org
SUMMARY:Varsity Basketball vs. Choate Rosemary Hall
DESCRIPTION:
URL:https://www.ethelwalker.org/event/varsity-basketball-vs-choate-rosemary-hall-4/
LOCATION:The Ethel Walker School\, 230 Bushy Hill Road\, Simsbury\, 06070\, United States
CATEGORIES:Athletic Games
END:VEVENT
BEGIN:VEVENT
DTSTART;TZID=America/New_York:20260221T133000
DTEND;TZID=America/New_York:20260221T163000
DTSTAMP:20260424T042432
CREATED:20251028T150625Z
LAST-MODIFIED:20251028T150651Z
UID:10004806-1771680600-1771691400@www.ethelwalker.org
SUMMARY:Varsity Squash vs. Suffield Academy
DESCRIPTION:
URL:https://www.ethelwalker.org/event/varsity-squash-vs-suffield-academy/
LOCATION:The Ethel Walker School\, 230 Bushy Hill Road\, Simsbury\, 06070\, United States
CATEGORIES:Athletic Games
END:VEVENT
BEGIN:VEVENT
DTSTART;TZID=America/New_York:20260221T150000
DTEND;TZID=America/New_York:20260221T160000
DTSTAMP:20260424T042432
CREATED:20251028T150512Z
LAST-MODIFIED:20251110T184106Z
UID:10004805-1771686000-1771689600@www.ethelwalker.org
SUMMARY:Varsity Squash vs. Williston Northampton School
DESCRIPTION:
URL:https://www.ethelwalker.org/event/varsity-squash-vs-williston-northampton-school-4/
LOCATION:The Ethel Walker School\, 230 Bushy Hill Road\, Simsbury\, 06070\, United States
CATEGORIES:Athletic Games
END:VEVENT
BEGIN:VEVENT
DTSTART;TZID=America/New_York:20260221T160000
DTEND;TZID=America/New_York:20260221T173000
DTSTAMP:20260424T042432
CREATED:20251028T184531Z
LAST-MODIFIED:20260223T140501Z
UID:10004833-1771689600-1771695000@www.ethelwalker.org
SUMMARY:Varsity Basketball vs. Berkshire School
DESCRIPTION:
URL:https://www.ethelwalker.org/event/varsity-basketball-vs-berkshire-school-5/
LOCATION:The Ethel Walker School\, 230 Bushy Hill Road\, Simsbury\, 06070\, United States
CATEGORIES:Athletic Games
END:VEVENT
BEGIN:VEVENT
DTSTART;TZID=America/New_York:20260222T000000
DTEND;TZID=America/New_York:20260222T235959
DTSTAMP:20260424T042432
CREATED:20250626T145819Z
LAST-MODIFIED:20250626T145821Z
UID:10004557-1771718400-1771804799@www.ethelwalker.org
SUMMARY:Student Leadership Retreat
DESCRIPTION:
URL:https://www.ethelwalker.org/event/student-leadership-retreat/
CATEGORIES:Middle School,Student Life,Upper School
END:VEVENT
BEGIN:VEVENT
DTSTART;TZID=America/New_York:20260222T100000
DTEND;TZID=America/New_York:20260222T120000
DTSTAMP:20260424T042432
CREATED:20250918T124942Z
LAST-MODIFIED:20250918T124943Z
UID:10004734-1771754400-1771761600@www.ethelwalker.org
SUMMARY:Summit Test Prep Class
DESCRIPTION:
URL:https://www.ethelwalker.org/event/summit-test-prep-class-8/
CATEGORIES:Academics,Upper School
END:VEVENT
BEGIN:VEVENT
DTSTART;TZID=America/New_York:20260224T161500
DTEND;TZID=America/New_York:20260224T171500
DTSTAMP:20260424T042432
CREATED:20260130T141414Z
LAST-MODIFIED:20260225T142121Z
UID:10004871-1771949700-1771953300@www.ethelwalker.org
SUMMARY:Middle School Basketball vs. Westminster School
DESCRIPTION:
URL:https://www.ethelwalker.org/event/middle-school-basketball-vs-westminster-school/
LOCATION:The Ethel Walker School\, 230 Bushy Hill Road\, Simsbury\, 06070\, United States
CATEGORIES:Athletic Games
END:VEVENT
BEGIN:VEVENT
DTSTART;TZID=America/New_York:20260224T161500
DTEND;TZID=America/New_York:20260224T173000
DTSTAMP:20260424T042432
CREATED:20260130T182616Z
LAST-MODIFIED:20260223T171948Z
UID:10004872-1771949700-1771954200@www.ethelwalker.org
SUMMARY:JV Basketball vs. Westminster School
DESCRIPTION:
URL:https://www.ethelwalker.org/event/jv-basketball-vs-westminster-school-4/
LOCATION:The Ethel Walker School\, 230 Bushy Hill Road\, Simsbury\, 06070\, United States
CATEGORIES:Athletic Games
END:VEVENT
BEGIN:VEVENT
DTSTART;TZID=America/New_York:20260225T080000
DTEND;TZID=America/New_York:20260225T170000
DTSTAMP:20260424T042432
CREATED:20251202T194824Z
LAST-MODIFIED:20251202T214038Z
UID:10004854-1772006400-1772038800@www.ethelwalker.org
SUMMARY:Skiing @ NEPSAC Class C Championship
DESCRIPTION:
URL:https://www.ethelwalker.org/event/skiing-nepsac-class-c-championship-2/
LOCATION:Catamount Mountain Resort\, 78 Catamount Rd\, Hillsdale\, NY\, 12529
CATEGORIES:Athletic Games
END:VEVENT
BEGIN:VEVENT
DTSTART;TZID=America/New_York:20260225T150000
DTEND;TZID=America/New_York:20260225T163000
DTSTAMP:20260424T042432
CREATED:20251028T184711Z
LAST-MODIFIED:20260226T173706Z
UID:10004834-1772031600-1772037000@www.ethelwalker.org
SUMMARY:Varsity Basketball vs. Marianapolis Preparatory School
DESCRIPTION:
URL:https://www.ethelwalker.org/event/varsity-basketball-vs-marianapolis-preparatory-school/
LOCATION:The Ethel Walker School\, 230 Bushy Hill Road\, Simsbury\, 06070\, United States
CATEGORIES:Athletic Games
END:VEVENT
BEGIN:VEVENT
DTSTART;TZID=America/New_York:20260225T150000
DTEND;TZID=America/New_York:20260225T180000
DTSTAMP:20260424T042432
CREATED:20251028T150750Z
LAST-MODIFIED:20251028T150815Z
UID:10004807-1772031600-1772042400@www.ethelwalker.org
SUMMARY:Varsity Squash @ Berkshire School
DESCRIPTION:
URL:https://www.ethelwalker.org/event/varsity-squash-berkshire-school-7/
LOCATION:Berkshire School\, 245 North Undermountain Road\, Sheffield\, Massachusetts\, 01257
CATEGORIES:Athletic Games
END:VEVENT
BEGIN:VEVENT
DTSTART;TZID=America/New_York:20260225T150000
DTEND;TZID=America/New_York:20260225T180000
DTSTAMP:20260424T042432
CREATED:20251028T150920Z
LAST-MODIFIED:20251028T150951Z
UID:10004808-1772031600-1772042400@www.ethelwalker.org
SUMMARY:Varsity Squash vs. Millbrook School
DESCRIPTION:
URL:https://www.ethelwalker.org/event/varsity-squash-vs-millbrook-school-5/
LOCATION:Berkshire School\, 245 North Undermountain Road\, Sheffield\, Massachusetts\, 01257
CATEGORIES:Athletic Games
END:VEVENT
BEGIN:VEVENT
DTSTART;TZID=America/New_York:20260226T000000
DTEND;TZID=America/New_York:20260226T235959
DTSTAMP:20260424T042432
CREATED:20250626T145932Z
LAST-MODIFIED:20250627T130121Z
UID:10004558-1772064000-1772150399@www.ethelwalker.org
SUMMARY:Winter Play (R/11 and 12)
DESCRIPTION:
URL:https://www.ethelwalker.org/event/winter-play-r-11-and-12/
CATEGORIES:Arts,Upper School
END:VEVENT
BEGIN:VEVENT
DTSTART;TZID=America/New_York:20260227T000000
DTEND;TZID=America/New_York:20260227T235959
DTSTAMP:20260424T042432
CREATED:20250626T150013Z
LAST-MODIFIED:20250626T150015Z
UID:10004559-1772150400-1772236799@www.ethelwalker.org
SUMMARY:Winter Play (R/9\, 10\, and MSB)
DESCRIPTION:
URL:https://www.ethelwalker.org/event/winter-play-r-9-10-and-msb/
CATEGORIES:Arts,Middle School,Upper School
END:VEVENT
BEGIN:VEVENT
DTSTART;TZID=America/New_York:20260227T000000
DTEND;TZID=America/New_York:20260227T235959
DTSTAMP:20260424T042432
CREATED:20250626T150109Z
LAST-MODIFIED:20250626T150111Z
UID:10004560-1772150400-1772236799@www.ethelwalker.org
SUMMARY:Quarter 3 Closes
DESCRIPTION:
URL:https://www.ethelwalker.org/event/quarter-3-closes/
CATEGORIES:Academics,All-School Events,Middle School,Upper School
END:VEVENT
BEGIN:VEVENT
DTSTART;TZID=America/New_York:20260227T160000
DTEND;TZID=America/New_York:20260227T171500
DTSTAMP:20260424T042432
CREATED:20251107T145236Z
LAST-MODIFIED:20260301T134906Z
UID:10004840-1772208000-1772212500@www.ethelwalker.org
SUMMARY:Middle School Basketball vs. Indian Mountain School
DESCRIPTION:
URL:https://www.ethelwalker.org/event/middle-school-basketball-vs-indian-mountain-school/
LOCATION:The Ethel Walker School\, 230 Bushy Hill Road\, Simsbury\, 06070\, United States
CATEGORIES:Athletic Games
END:VEVENT
BEGIN:VEVENT
DTSTART;TZID=America/New_York:20260228T080000
DTEND;TZID=America/New_York:20260228T170000
DTSTAMP:20260424T042432
CREATED:20251028T151037Z
LAST-MODIFIED:20251028T164048Z
UID:10004809-1772265600-1772298000@www.ethelwalker.org
SUMMARY:Varsity Squash @ NEPSAC Class E Tournament
DESCRIPTION:
URL:https://www.ethelwalker.org/event/varsity-squash-new-englands/
LOCATION:TBD
CATEGORIES:Athletic Games
END:VEVENT
BEGIN:VEVENT
DTSTART;TZID=America/New_York:20260228T110000
DTEND;TZID=America/New_York:20260228T170000
DTSTAMP:20260424T042432
CREATED:20251027T181818Z
LAST-MODIFIED:20260219T181802Z
UID:10004778-1772276400-1772298000@www.ethelwalker.org
SUMMARY:Varsity Swimming @ Founders League Championships
DESCRIPTION:
URL:https://www.ethelwalker.org/event/varsity-swimming-the-founders-league-championship/
LOCATION:The Hotchkiss School\, 11 Interlaken Road\, Lakeville\, Connecticut\, 06039
CATEGORIES:Athletic Games
END:VEVENT
BEGIN:VEVENT
DTSTART;TZID=America/New_York:20260228T143000
DTEND;TZID=America/New_York:20260228T160000
DTSTAMP:20260424T042432
CREATED:20251028T184403Z
LAST-MODIFIED:20260305T204253Z
UID:10004832-1772289000-1772294400@www.ethelwalker.org
SUMMARY:Varsity Basketball @ Millbrook School
DESCRIPTION:
URL:https://www.ethelwalker.org/event/varsity-basketball-millbrook-school/
LOCATION:Millbrook School\, 131 Millbrook School Road\, Millbrook\, New York\, 12545
CATEGORIES:Athletic Games
END:VEVENT
BEGIN:VEVENT
DTSTART;TZID=America/New_York:20260301T100000
DTEND;TZID=America/New_York:20260301T120000
DTSTAMP:20260424T042432
CREATED:20250918T125036Z
LAST-MODIFIED:20250918T125038Z
UID:10004735-1772359200-1772366400@www.ethelwalker.org
SUMMARY:Summit Test Prep Class
DESCRIPTION:
URL:https://www.ethelwalker.org/event/summit-test-prep-class-9/
CATEGORIES:Academics,Upper School
END:VEVENT
BEGIN:VEVENT
DTSTART;TZID=America/New_York:20260302T000000
DTEND;TZID=America/New_York:20260306T235900
DTSTAMP:20260424T042432
CREATED:20250626T150332Z
LAST-MODIFIED:20250627T130217Z
UID:10004561-1772409600-1772841540@www.ethelwalker.org
SUMMARY:Lacuna
DESCRIPTION:
URL:https://www.ethelwalker.org/event/lacuna-5/
CATEGORIES:Academics,All-School Events,Middle School,Upper School
END:VEVENT
BEGIN:VEVENT
DTSTART;TZID=America/New_York:20260303T000000
DTEND;TZID=America/New_York:20260305T235959
DTSTAMP:20260424T042432
CREATED:20250626T152852Z
LAST-MODIFIED:20250626T152853Z
UID:10004562-1772496000-1772755199@www.ethelwalker.org
SUMMARY:7th Grade Vermont Trip
DESCRIPTION:
URL:https://www.ethelwalker.org/event/7th-grade-vermont-trip-2/
CATEGORIES:Middle School,Student Life
END:VEVENT
BEGIN:VEVENT
DTSTART;TZID=America/New_York:20260303T000000
DTEND;TZID=America/New_York:20260305T235959
DTSTAMP:20260424T042432
CREATED:20250626T152947Z
LAST-MODIFIED:20250626T152949Z
UID:10004563-1772496000-1772755199@www.ethelwalker.org
SUMMARY:8th Grade International Trip
DESCRIPTION:
URL:https://www.ethelwalker.org/event/8th-grade-international-trip/
CATEGORIES:Middle School,Student Life
END:VEVENT
BEGIN:VEVENT
DTSTART;TZID=America/New_York:20260304T000000
DTEND;TZID=America/New_York:20260304T235959
DTSTAMP:20260424T042432
CREATED:20250626T153022Z
LAST-MODIFIED:20250626T153023Z
UID:10004564-1772582400-1772668799@www.ethelwalker.org
SUMMARY:6th Grade Day Trip
DESCRIPTION:
URL:https://www.ethelwalker.org/event/6th-grade-day-trip-2/
CATEGORIES:Middle School,Student Life
END:VEVENT
BEGIN:VEVENT
DTSTART;TZID=America/New_York:20260304T170000
DTEND;TZID=America/New_York:20260304T183000
DTSTAMP:20260424T042432
CREATED:20260301T191413Z
LAST-MODIFIED:20260305T204345Z
UID:10004925-1772643600-1772649000@www.ethelwalker.org
SUMMARY:Varsity Basketball NEPSAC Quarterfinal vs. King School
DESCRIPTION:
URL:https://www.ethelwalker.org/event/varsity-basketball-nepsac-tournament-vs-king-school/
LOCATION:The Ethel Walker School\, 230 Bushy Hill Road\, Simsbury\, 06070\, United States
CATEGORIES:Athletic Games
END:VEVENT
BEGIN:VEVENT
DTSTART;TZID=America/New_York:20260306T150000
DTEND;TZID=America/New_York:20260306T150000
DTSTAMP:20260424T042432
CREATED:20250626T153132Z
LAST-MODIFIED:20250626T153133Z
UID:10004565-1772809200-1772809200@www.ethelwalker.org
SUMMARY:Dorms Close at 3:00 p.m.
DESCRIPTION:
URL:https://www.ethelwalker.org/event/dorms-close-at-300-p-m-5/
CATEGORIES:All-School Events,Middle School,Student Life,Upper School
END:VEVENT
END:VCALENDAR