BEGIN:VCALENDAR
VERSION:2.0
PRODID:-//The Ethel Walker School - ECPv6.15.12//NONSGML v1.0//EN
CALSCALE:GREGORIAN
METHOD:PUBLISH
X-WR-CALNAME:The Ethel Walker School
X-ORIGINAL-URL:https://www.ethelwalker.org
X-WR-CALDESC:Events for The Ethel Walker School
REFRESH-INTERVAL;VALUE=DURATION:PT1H
X-Robots-Tag:noindex
X-PUBLISHED-TTL:PT1H
BEGIN:VTIMEZONE
TZID:America/New_York
BEGIN:DAYLIGHT
TZOFFSETFROM:-0500
TZOFFSETTO:-0400
TZNAME:EDT
DTSTART:20250309T070000
END:DAYLIGHT
BEGIN:STANDARD
TZOFFSETFROM:-0400
TZOFFSETTO:-0500
TZNAME:EST
DTSTART:20251102T060000
END:STANDARD
BEGIN:DAYLIGHT
TZOFFSETFROM:-0500
TZOFFSETTO:-0400
TZNAME:EDT
DTSTART:20260308T070000
END:DAYLIGHT
BEGIN:STANDARD
TZOFFSETFROM:-0400
TZOFFSETTO:-0500
TZNAME:EST
DTSTART:20261101T060000
END:STANDARD
BEGIN:DAYLIGHT
TZOFFSETFROM:-0500
TZOFFSETTO:-0400
TZNAME:EDT
DTSTART:20270314T070000
END:DAYLIGHT
BEGIN:STANDARD
TZOFFSETFROM:-0400
TZOFFSETTO:-0500
TZNAME:EST
DTSTART:20271107T060000
END:STANDARD
END:VTIMEZONE
BEGIN:VEVENT
DTSTART;TZID=America/New_York:20260417T163000
DTEND;TZID=America/New_York:20260417T174500
DTSTAMP:20260420T021133
CREATED:20260409T190324Z
LAST-MODIFIED:20260413T150225Z
UID:10004982-1776443400-1776447900@www.ethelwalker.org
SUMMARY:Thirds Lacrosse @ Rumsey Hall
DESCRIPTION:
URL:https://www.ethelwalker.org/event/thirds-lacrosse-rumsey-hall/
LOCATION:Rumsey Hall School\, 201 Romford Road\, Washington Depot\, Connecticut\, 06794\, United States
CATEGORIES:Athletic Games
END:VEVENT
BEGIN:VEVENT
DTSTART;TZID=America/New_York:20260418T000000
DTEND;TZID=America/New_York:20260418T235959
DTSTAMP:20260420T021133
CREATED:20251215T134058Z
LAST-MODIFIED:20251215T134058Z
UID:10004863-1776470400-1776556799@www.ethelwalker.org
SUMMARY:Third Walker's Cup
DESCRIPTION:
URL:https://www.ethelwalker.org/event/third-walkers-cup/
CATEGORIES:Riding,Riding Shows
END:VEVENT
BEGIN:VEVENT
DTSTART;TZID=America/New_York:20260418T120000
DTEND;TZID=America/New_York:20260418T133000
DTSTAMP:20260420T021133
CREATED:20260225T191123Z
LAST-MODIFIED:20260225T192003Z
UID:10004894-1776513600-1776519000@www.ethelwalker.org
SUMMARY:Varsity Lacrosse @ Miss Porter's School
DESCRIPTION:
URL:https://www.ethelwalker.org/event/varsity-lacrosse-vs-miss-porters-school-4/
LOCATION:Miss Porter’s School\, 60 Main Street\, Farmington\, Connecticut\, 06032
CATEGORIES:Athletic Games
END:VEVENT
BEGIN:VEVENT
DTSTART;TZID=America/New_York:20260418T140000
DTEND;TZID=America/New_York:20260418T163000
DTSTAMP:20260420T021133
CREATED:20260326T183846Z
LAST-MODIFIED:20260406T133729Z
UID:10004961-1776520800-1776529800@www.ethelwalker.org
SUMMARY:Varsity Golf @ The Taft School
DESCRIPTION:
URL:https://www.ethelwalker.org/event/varsity-golf-taft/
LOCATION:Watertown Golf Club\, 246 Guernseytown Road\, Watertown\, Connecticut\, 06795\, United States
CATEGORIES:Athletic Games
END:VEVENT
BEGIN:VEVENT
DTSTART;TZID=America/New_York:20260418T140000
DTEND;TZID=America/New_York:20260418T163000
DTSTAMP:20260420T021133
CREATED:20260326T184215Z
LAST-MODIFIED:20260326T184245Z
UID:10004962-1776520800-1776529800@www.ethelwalker.org
SUMMARY:Varsity Golf vs. Westminster School
DESCRIPTION:
URL:https://www.ethelwalker.org/event/varsity-golf-vs-westminster-school-4/
LOCATION:Watertown Golf Club\, 246 Guernseytown Road\, Watertown\, Connecticut\, 06795\, United States
CATEGORIES:Athletic Games
END:VEVENT
BEGIN:VEVENT
DTSTART;TZID=America/New_York:20260418T143000
DTEND;TZID=America/New_York:20260418T160000
DTSTAMP:20260420T021133
CREATED:20260325T152753Z
LAST-MODIFIED:20260325T152913Z
UID:10004957-1776522600-1776528000@www.ethelwalker.org
SUMMARY:Varsity Tennis @ Williston Northampton School
DESCRIPTION:
URL:https://www.ethelwalker.org/event/varsity-tennis-williston-northampton-school-2/
LOCATION:Williston Northampton School\, 19 Payson Ave\, Easthampton\, Massachusetts\, 01027\, United States
CATEGORIES:Athletic Games
END:VEVENT
BEGIN:VEVENT
DTSTART;TZID=America/New_York:20260420T000000
DTEND;TZID=America/New_York:20260420T235959
DTSTAMP:20260420T021133
CREATED:20250626T191501Z
LAST-MODIFIED:20250626T191502Z
UID:10004573-1776643200-1776729599@www.ethelwalker.org
SUMMARY:Spring Holiday — No Classes
DESCRIPTION:
URL:https://www.ethelwalker.org/event/spring-holiday-no-classes/
CATEGORIES:Middle School,School Breaks,Upper School
END:VEVENT
BEGIN:VEVENT
DTSTART;TZID=America/New_York:20260422T143000
DTEND;TZID=America/New_York:20260422T160000
DTSTAMP:20260420T021133
CREATED:20260303T153823Z
LAST-MODIFIED:20260303T153851Z
UID:10004934-1776868200-1776873600@www.ethelwalker.org
SUMMARY:Varsity Tennis @ Kingswood Oxford School
DESCRIPTION:
URL:https://www.ethelwalker.org/event/varsity-tennis-kingswood-oxford-school-2/
LOCATION:Kingswood Oxford School\, 170 Kingswood Road\, West Hartford\, Connecticut\, 06119
CATEGORIES:Athletic Games
END:VEVENT
BEGIN:VEVENT
DTSTART;TZID=America/New_York:20260422T143000
DTEND;TZID=America/New_York:20260422T163000
DTSTAMP:20260420T021133
CREATED:20260301T184301Z
LAST-MODIFIED:20260301T184354Z
UID:10004917-1776868200-1776875400@www.ethelwalker.org
SUMMARY:Varsity Lacrosse vs. Millbrook School
DESCRIPTION:
URL:https://www.ethelwalker.org/event/varsity-lacrosse-vs-millbrook-school/
LOCATION:The Ethel Walker School\, 230 Bushy Hill Road\, Simsbury\, 06070\, United States
CATEGORIES:Athletic Games
END:VEVENT
BEGIN:VEVENT
DTSTART;TZID=America/New_York:20260422T143000
DTEND;TZID=America/New_York:20260422T170000
DTSTAMP:20260420T021133
CREATED:20260326T184824Z
LAST-MODIFIED:20260326T184913Z
UID:10004963-1776868200-1776877200@www.ethelwalker.org
SUMMARY:Varsity Golf @ Kent
DESCRIPTION:
URL:https://www.ethelwalker.org/event/varsity-golf-kent/
LOCATION:Bull’s Bridge Golf Club\, 71 Bull's Bridge Road\, South Kent\, CT\, 06785\, United States
CATEGORIES:Athletic Games
END:VEVENT
BEGIN:VEVENT
DTSTART;TZID=America/New_York:20260422T143000
DTEND;TZID=America/New_York:20260422T170000
DTSTAMP:20260420T021133
CREATED:20260326T185015Z
LAST-MODIFIED:20260326T185107Z
UID:10004964-1776868200-1776877200@www.ethelwalker.org
SUMMARY:Varsity Golf vs. Miss Porter's School
DESCRIPTION:
URL:https://www.ethelwalker.org/event/varsity-golf-vs-miss-porters-school-3/
LOCATION:Bull’s Bridge Golf Club\, 71 Bull's Bridge Road\, South Kent\, CT\, 06785\, United States
CATEGORIES:Athletic Games
END:VEVENT
BEGIN:VEVENT
DTSTART;TZID=America/New_York:20260422T150000
DTEND;TZID=America/New_York:20260422T160000
DTSTAMP:20260420T021133
CREATED:20260325T145616Z
LAST-MODIFIED:20260330T162741Z
UID:10004955-1776870000-1776873600@www.ethelwalker.org
SUMMARY:Thirds Lacrosse @ Kingswood Oxford School
DESCRIPTION:
URL:https://www.ethelwalker.org/event/thirds-lacrosse-kingswood-oxford-school-4/
LOCATION:Kingswood Oxford School\, 170 Kingswood Road\, West Hartford\, Connecticut\, 06119
CATEGORIES:Athletic Games
END:VEVENT
BEGIN:VEVENT
DTSTART;TZID=America/New_York:20260422T150000
DTEND;TZID=America/New_York:20260422T163000
DTSTAMP:20260420T021133
CREATED:20260224T204039Z
LAST-MODIFIED:20260224T204111Z
UID:10004879-1776870000-1776875400@www.ethelwalker.org
SUMMARY:JV Lacrosse vs. Choate Rosemary Hall
DESCRIPTION:
URL:https://www.ethelwalker.org/event/jv-lacrosse-vs-choate-rosemary-hall-2/
LOCATION:The Ethel Walker School JV/Varsity Lacrosse Fields\, 96 Sand Hill Road\, Simsbury\, Connecticut\, 06070\, United States
CATEGORIES:Athletic Games
END:VEVENT
BEGIN:VEVENT
DTSTART;TZID=America/New_York:20260422T150000
DTEND;TZID=America/New_York:20260422T163000
DTSTAMP:20260420T021133
CREATED:20260225T191320Z
LAST-MODIFIED:20260325T210708Z
UID:10004895-1776870000-1776875400@www.ethelwalker.org
SUMMARY:Varsity Lacrosse @ Choate Rosemary Hall
DESCRIPTION:
URL:https://www.ethelwalker.org/event/varsity-lacrosse-vs-choate-rosemary-hall-2/
LOCATION:Choate Rosemary Hall\, 333 Christian Street\, Wallingford\, Connecticut\, 06492\, United States
CATEGORIES:Athletic Games
END:VEVENT
BEGIN:VEVENT
DTSTART;TZID=America/New_York:20260423T164500
DTEND;TZID=America/New_York:20260423T174500
DTSTAMP:20260420T021133
CREATED:20260301T181948Z
LAST-MODIFIED:20260330T171009Z
UID:10004908-1776962700-1776966300@www.ethelwalker.org
SUMMARY:Thirds Lacrosse @ Renbrook School
DESCRIPTION:
URL:https://www.ethelwalker.org/event/thirds-school-lacrosse-renbrook-school-3/
LOCATION:Renbrook School\, 2865 Albany Ave\, West Hartford\, Connecticut\, 06117\, United States
CATEGORIES:Athletic Games
END:VEVENT
BEGIN:VEVENT
DTSTART;TZID=America/New_York:20260423T200000
DTEND;TZID=America/New_York:20260423T210000
DTSTAMP:20260420T021133
CREATED:20260113T144716Z
LAST-MODIFIED:20260113T144717Z
UID:10004864-1776974400-1776978000@www.ethelwalker.org
SUMMARY:Smarttrack College Financing Webinar
DESCRIPTION:
URL:https://www.ethelwalker.org/event/smarttrack-college-financing-webinar-6/
CATEGORIES:College Counseling,Upper School
END:VEVENT
BEGIN:VEVENT
DTSTART;TZID=America/New_York:20260425T133000
DTEND;TZID=America/New_York:20260425T160000
DTSTAMP:20260420T021133
CREATED:20260326T185208Z
LAST-MODIFIED:20260326T185239Z
UID:10004965-1777123800-1777132800@www.ethelwalker.org
SUMMARY:Varsity Golf vs. Kingswood Oxford School
DESCRIPTION:
URL:https://www.ethelwalker.org/event/varsity-golf-vs-kingswood-oxford-school-3/
LOCATION:Simsbury Farms Golf Course\, 100 Old Farms Road\, Simsbury\, CT\, 06070\, United States
CATEGORIES:Athletic Games
END:VEVENT
BEGIN:VEVENT
DTSTART;TZID=America/New_York:20260425T133000
DTEND;TZID=America/New_York:20260425T160000
DTSTAMP:20260420T021133
CREATED:20260326T185330Z
LAST-MODIFIED:20260326T185400Z
UID:10004966-1777123800-1777132800@www.ethelwalker.org
SUMMARY:Varsity Golf vs. Miss Porter's School
DESCRIPTION:
URL:https://www.ethelwalker.org/event/varsity-golf-vs-miss-porters-school-4/
LOCATION:Simsbury Farms Golf Course\, 100 Old Farms Road\, Simsbury\, CT\, 06070\, United States
CATEGORIES:Athletic Games
END:VEVENT
BEGIN:VEVENT
DTSTART;TZID=America/New_York:20260425T143000
DTEND;TZID=America/New_York:20260425T160000
DTSTAMP:20260420T021133
CREATED:20260224T205815Z
LAST-MODIFIED:20260225T191630Z
UID:10004885-1777127400-1777132800@www.ethelwalker.org
SUMMARY:JV Lacrosse @ Rectory School
DESCRIPTION:
URL:https://www.ethelwalker.org/event/jv-lacrosse-vs-rectory-school-2/
LOCATION:The Rectory School\, 528 Pomfret Street\, Pomfret\, Connecticut\, 06258\, United States
CATEGORIES:Athletic Games
END:VEVENT
BEGIN:VEVENT
DTSTART;TZID=America/New_York:20260425T143000
DTEND;TZID=America/New_York:20260425T160000
DTSTAMP:20260420T021133
CREATED:20260325T144201Z
LAST-MODIFIED:20260330T162859Z
UID:10004954-1777127400-1777132800@www.ethelwalker.org
SUMMARY:Varsity Tennis vs. Canterbury School
DESCRIPTION:
URL:https://www.ethelwalker.org/event/varsity-tennis-vs-canterbury-school-2/
LOCATION:The Ethel Walker School\, 230 Bushy Hill Road\, Simsbury\, 06070\, United States
CATEGORIES:Athletic Games
END:VEVENT
BEGIN:VEVENT
DTSTART;TZID=America/New_York:20260425T143000
DTEND;TZID=America/New_York:20260425T163000
DTSTAMP:20260420T021133
CREATED:20260301T184517Z
LAST-MODIFIED:20260301T184544Z
UID:10004918-1777127400-1777134600@www.ethelwalker.org
SUMMARY:Varsity Softball vs. The Taft School
DESCRIPTION:
URL:https://www.ethelwalker.org/event/varsity-softball-vs-the-taft-school/
LOCATION:The Ethel Walker School\, 230 Bushy Hill Road\, Simsbury\, 06070\, United States
CATEGORIES:Athletic Games
END:VEVENT
BEGIN:VEVENT
DTSTART;TZID=America/New_York:20260425T150000
DTEND;TZID=America/New_York:20260425T163000
DTSTAMP:20260420T021133
CREATED:20260225T191446Z
LAST-MODIFIED:20260225T191550Z
UID:10004896-1777129200-1777134600@www.ethelwalker.org
SUMMARY:Varsity Lacrosse @ Westover School
DESCRIPTION:
URL:https://www.ethelwalker.org/event/varsity-lacrosse-vs-westover-school/
LOCATION:Westover School\, 1237 Whittemore Rd\, Middlebury\, Connecticut\, 06762
CATEGORIES:Athletic Games
END:VEVENT
BEGIN:VEVENT
DTSTART;TZID=America/New_York:20260426T100000
DTEND;TZID=America/New_York:20260426T120000
DTSTAMP:20260420T021133
CREATED:20250918T125244Z
LAST-MODIFIED:20250918T125245Z
UID:10004738-1777197600-1777204800@www.ethelwalker.org
SUMMARY:Summit Test Prep Class
DESCRIPTION:
URL:https://www.ethelwalker.org/event/summit-test-prep-class-12/
CATEGORIES:Academics,Upper School
END:VEVENT
BEGIN:VEVENT
DTSTART;TZID=America/New_York:20260427T161500
DTEND;TZID=America/New_York:20260427T181500
DTSTAMP:20260420T021133
CREATED:20260303T153143Z
LAST-MODIFIED:20260413T142328Z
UID:10004932-1777306500-1777313700@www.ethelwalker.org
SUMMARY:Varsity Tennis @ The Hotchkiss School
DESCRIPTION:
URL:https://www.ethelwalker.org/event/varsity-tennis-the-hotchkiss-school/
LOCATION:The Hotchkiss School\, 11 Interlaken Road\, Lakeville\, Connecticut\, 06039
CATEGORIES:Athletic Games
END:VEVENT
BEGIN:VEVENT
DTSTART;TZID=America/New_York:20260427T163000
DTEND;TZID=America/New_York:20260427T183000
DTSTAMP:20260420T021133
CREATED:20260301T185710Z
LAST-MODIFIED:20260301T185806Z
UID:10004919-1777307400-1777314600@www.ethelwalker.org
SUMMARY:Varsity Softball vs. The Frederick Gunn School
DESCRIPTION:
URL:https://www.ethelwalker.org/event/varsity-softball-vs-the-frederick-gunn-school/
LOCATION:The Ethel Walker School\, 230 Bushy Hill Road\, Simsbury\, 06070\, United States
CATEGORIES:Athletic Games
END:VEVENT
BEGIN:VEVENT
DTSTART;TZID=America/New_York:20260429T143000
DTEND;TZID=America/New_York:20260429T170000
DTSTAMP:20260420T021133
CREATED:20260326T185631Z
LAST-MODIFIED:20260326T185659Z
UID:10004967-1777473000-1777482000@www.ethelwalker.org
SUMMARY:Varsity Golf @ Loomis Chaffee School
DESCRIPTION:
URL:https://www.ethelwalker.org/event/varsity-golf-loomis-chaffee-school-3/
LOCATION:Wintonbury Hills\, 206 Terry Plains Road\, Bloomfield\, Connecticut\, 06002\, United States
CATEGORIES:Athletic Games
END:VEVENT
BEGIN:VEVENT
DTSTART;TZID=America/New_York:20260429T143000
DTEND;TZID=America/New_York:20260429T170000
DTSTAMP:20260420T021133
CREATED:20260326T185757Z
LAST-MODIFIED:20260326T185823Z
UID:10004968-1777473000-1777482000@www.ethelwalker.org
SUMMARY:Varsity Golf vs. The Hotchkiss School
DESCRIPTION:
URL:https://www.ethelwalker.org/event/varsity-golf-vs-the-hotchkiss-school-3/
LOCATION:Wintonbury Hills\, 206 Terry Plains Road\, Bloomfield\, Connecticut\, 06002\, United States
CATEGORIES:Athletic Games
END:VEVENT
BEGIN:VEVENT
DTSTART;TZID=America/New_York:20260429T144500
DTEND;TZID=America/New_York:20260429T164500
DTSTAMP:20260420T021133
CREATED:20260301T185957Z
LAST-MODIFIED:20260301T190030Z
UID:10004920-1777473900-1777481100@www.ethelwalker.org
SUMMARY:Varsity Softball vs. Miss Hall's School
DESCRIPTION:
URL:https://www.ethelwalker.org/event/varsity-softball-vs-miss-halls-school-2/
LOCATION:The Ethel Walker School\, 230 Bushy Hill Road\, Simsbury\, 06070\, United States
CATEGORIES:Athletic Games
END:VEVENT
BEGIN:VEVENT
DTSTART;TZID=America/New_York:20260429T150000
DTEND;TZID=America/New_York:20260429T163000
DTSTAMP:20260420T021133
CREATED:20260225T192338Z
LAST-MODIFIED:20260225T192433Z
UID:10004898-1777474800-1777480200@www.ethelwalker.org
SUMMARY:Varsity Lacrosse vs. Kingswood Oxford School
DESCRIPTION:
URL:https://www.ethelwalker.org/event/varsity-lacrosse-vs-kingswood-oxford-school-3/
LOCATION:The Ethel Walker School JV/Varsity Lacrosse Fields\, 96 Sand Hill Road\, Simsbury\, Connecticut\, 06070\, United States
CATEGORIES:Athletic Games
END:VEVENT
BEGIN:VEVENT
DTSTART;TZID=America/New_York:20260429T150000
DTEND;TZID=America/New_York:20260429T163000
DTSTAMP:20260420T021133
CREATED:20260303T154053Z
LAST-MODIFIED:20260303T154140Z
UID:10004935-1777474800-1777480200@www.ethelwalker.org
SUMMARY:Varsity Tennis @ Wilbraham & Monson Academy
DESCRIPTION:
URL:https://www.ethelwalker.org/event/varsity-tennis-wilbraham-monson-academy-2/
LOCATION:Wilbraham & Monson Academy\, 423 Main St\, Wilbraham\, Massachusetts\, 01095
CATEGORIES:Athletic Games
END:VEVENT
END:VCALENDAR