BEGIN:VCALENDAR
VERSION:2.0
PRODID:-//The Ethel Walker School - ECPv6.15.12//NONSGML v1.0//EN
CALSCALE:GREGORIAN
METHOD:PUBLISH
X-ORIGINAL-URL:https://www.ethelwalker.org
X-WR-CALDESC:Events for The Ethel Walker School
REFRESH-INTERVAL;VALUE=DURATION:PT1H
X-Robots-Tag:noindex
X-PUBLISHED-TTL:PT1H
BEGIN:VTIMEZONE
TZID:America/New_York
BEGIN:DAYLIGHT
TZOFFSETFROM:-0500
TZOFFSETTO:-0400
TZNAME:EDT
DTSTART:20250309T070000
END:DAYLIGHT
BEGIN:STANDARD
TZOFFSETFROM:-0400
TZOFFSETTO:-0500
TZNAME:EST
DTSTART:20251102T060000
END:STANDARD
BEGIN:DAYLIGHT
TZOFFSETFROM:-0500
TZOFFSETTO:-0400
TZNAME:EDT
DTSTART:20260308T070000
END:DAYLIGHT
BEGIN:STANDARD
TZOFFSETFROM:-0400
TZOFFSETTO:-0500
TZNAME:EST
DTSTART:20261101T060000
END:STANDARD
BEGIN:DAYLIGHT
TZOFFSETFROM:-0500
TZOFFSETTO:-0400
TZNAME:EDT
DTSTART:20270314T070000
END:DAYLIGHT
BEGIN:STANDARD
TZOFFSETFROM:-0400
TZOFFSETTO:-0500
TZNAME:EST
DTSTART:20271107T060000
END:STANDARD
BEGIN:DAYLIGHT
TZOFFSETFROM:-0500
TZOFFSETTO:-0400
TZNAME:EDT
DTSTART:20280312T070000
END:DAYLIGHT
BEGIN:STANDARD
TZOFFSETFROM:-0400
TZOFFSETTO:-0500
TZNAME:EST
DTSTART:20281105T060000
END:STANDARD
END:VTIMEZONE
BEGIN:VEVENT
DTSTART;TZID=America/New_York:20260513T150000
DTEND;TZID=America/New_York:20260513T163000
DTSTAMP:20260419T152925
CREATED:20260224T210020Z
LAST-MODIFIED:20260225T191729Z
UID:10004886-1778684400-1778689800@www.ethelwalker.org
SUMMARY:JV Lacrosse @ Miss Porter's School
DESCRIPTION:
URL:https://www.ethelwalker.org/event/jv-lacrosse-vs-miss-porters-school-3/
LOCATION:Miss Porter’s School\, 60 Main Street\, Farmington\, Connecticut\, 06032
CATEGORIES:Athletic Games
END:VEVENT
BEGIN:VEVENT
DTSTART;TZID=America/New_York:20260513T150000
DTEND;TZID=America/New_York:20260513T163000
DTSTAMP:20260419T152925
CREATED:20260225T193457Z
LAST-MODIFIED:20260225T193523Z
UID:10004904-1778684400-1778689800@www.ethelwalker.org
SUMMARY:Varsity Lacrosse vs. Miss Hall's School
DESCRIPTION:
URL:https://www.ethelwalker.org/event/varsity-lacrosse-vs-miss-halls-school-2/
LOCATION:The Ethel Walker School JV/Varsity Lacrosse Fields\, 96 Sand Hill Road\, Simsbury\, Connecticut\, 06070\, United States
CATEGORIES:Athletic Games
END:VEVENT
BEGIN:VEVENT
DTSTART;TZID=America/New_York:20260513T150000
DTEND;TZID=America/New_York:20260513T163000
DTSTAMP:20260419T152925
CREATED:20260303T154648Z
LAST-MODIFIED:20260303T154723Z
UID:10004938-1778684400-1778689800@www.ethelwalker.org
SUMMARY:Varsity Tennis vs. Kent School
DESCRIPTION:
URL:https://www.ethelwalker.org/event/varsity-tennis-vs-kent-school-2/
LOCATION:The Ethel Walker School\, 230 Bushy Hill Road\, Simsbury\, 06070\, United States
CATEGORIES:Athletic Games
END:VEVENT
BEGIN:VEVENT
DTSTART;TZID=America/New_York:20260513T153000
DTEND;TZID=America/New_York:20260513T163000
DTSTAMP:20260419T152925
CREATED:20260301T182512Z
LAST-MODIFIED:20260301T182542Z
UID:10004910-1778686200-1778689800@www.ethelwalker.org
SUMMARY:Middle School Lacrosse vs. Kingswood Oxford School
DESCRIPTION:
URL:https://www.ethelwalker.org/event/middle-school-lacrosse-vs-kingswood-oxford-school-4/
LOCATION:The Ethel Walker School JV/Varsity Lacrosse Fields\, 96 Sand Hill Road\, Simsbury\, Connecticut\, 06070\, United States
CATEGORIES:Athletic Games
END:VEVENT
BEGIN:VEVENT
DTSTART;TZID=America/New_York:20260513T153000
DTEND;TZID=America/New_York:20260513T163000
DTSTAMP:20260419T152925
CREATED:20260325T151206Z
LAST-MODIFIED:20260327T142835Z
UID:10004956-1778686200-1778689800@www.ethelwalker.org
SUMMARY:Thirds Lacrosse vs. Kingswood Oxford School
DESCRIPTION:
URL:https://www.ethelwalker.org/event/thirds-lacrosse-vs-kingswood-oxford-school/
LOCATION:The Ethel Walker School JV/Varsity Lacrosse Fields\, 96 Sand Hill Road\, Simsbury\, Connecticut\, 06070\, United States
CATEGORIES:Athletic Games
END:VEVENT
BEGIN:VEVENT
DTSTART;TZID=America/New_York:20260514T190000
DTEND;TZID=America/New_York:20260514T210000
DTSTAMP:20260419T152925
CREATED:20250626T192056Z
LAST-MODIFIED:20260316T130921Z
UID:10004579-1778785200-1778792400@www.ethelwalker.org
SUMMARY:Spring Musical (R/11 and 12)
DESCRIPTION:
URL:https://www.ethelwalker.org/event/spring-musical-r-11-and-12/
CATEGORIES:Arts,Upper School
END:VEVENT
BEGIN:VEVENT
DTSTART;TZID=America/New_York:20260515T091500
DTEND;TZID=America/New_York:20260515T111500
DTSTAMP:20260419T152925
CREATED:20260408T124359Z
LAST-MODIFIED:20260408T141357Z
UID:10004980-1778836500-1778843700@www.ethelwalker.org
SUMMARY:Walker’s Spring Preview
DESCRIPTION:Are you beginning your search for an independent school? Join us on campus for a preview of Walker’s. Start in our chapel with an all-school Morning Meeting and then head out on tour with our student tour guides for a walking tour of campus. End your morning with coffee and light refreshments with the admission team and key faculty members. We look forward to sharing a Walker’s morning with you! \n\n\n\n\nRegister Here
URL:https://www.ethelwalker.org/event/walkers-spring-preview-2/
CATEGORIES:Admission
ATTACH;FMTTYPE=image/jpeg:https://www.ethelwalker.org/wp-content/uploads/2026/04/11-3-25EthW26982-edited.jpg
END:VEVENT
BEGIN:VEVENT
DTSTART;TZID=America/New_York:20260515T190000
DTEND;TZID=America/New_York:20260515T210000
DTSTAMP:20260419T152925
CREATED:20250626T192138Z
LAST-MODIFIED:20260316T130911Z
UID:10004580-1778871600-1778878800@www.ethelwalker.org
SUMMARY:Spring Musical (R/9\, 10\, and MSB)
DESCRIPTION:
URL:https://www.ethelwalker.org/event/spring-musical-r-9-10-and-msb/
CATEGORIES:Arts,Middle School,Upper School
END:VEVENT
BEGIN:VEVENT
DTSTART;TZID=America/New_York:20260516T080000
DTEND;TZID=America/New_York:20260516T170000
DTSTAMP:20260419T152925
CREATED:20260326T191944Z
LAST-MODIFIED:20260326T192014Z
UID:10004978-1778918400-1778950800@www.ethelwalker.org
SUMMARY:Varsity Golf @ Founders' League Championship
DESCRIPTION:
URL:https://www.ethelwalker.org/event/varsity-golf-founders-league-championship-2/
CATEGORIES:Athletic Games
END:VEVENT
BEGIN:VEVENT
DTSTART;TZID=America/New_York:20260516T100000
DTEND;TZID=America/New_York:20260516T170000
DTSTAMP:20260419T152925
CREATED:20260303T154929Z
LAST-MODIFIED:20260303T155035Z
UID:10004939-1778925600-1778950800@www.ethelwalker.org
SUMMARY:Varsity Tennis @ Suffield Academy Tournament
DESCRIPTION:
URL:https://www.ethelwalker.org/event/varsity-tennis-suffield-academy-tournament/
LOCATION:Suffield Academy\, 185 North Main Street\, Suffield\, Connecticut
CATEGORIES:Athletic Games
END:VEVENT
BEGIN:VEVENT
DTSTART;TZID=America/New_York:20260516T140000
DTEND;TZID=America/New_York:20260516T153000
DTSTAMP:20260419T152925
CREATED:20260225T193639Z
LAST-MODIFIED:20260301T180830Z
UID:10004905-1778940000-1778945400@www.ethelwalker.org
SUMMARY:Varsity Lacrosse @ Founders League
DESCRIPTION:
URL:https://www.ethelwalker.org/event/varsity-lacrosse-founders-league-2/
LOCATION:TBD
CATEGORIES:Athletic Games
END:VEVENT
BEGIN:VEVENT
DTSTART;TZID=America/New_York:20260516T140000
DTEND;TZID=America/New_York:20260516T160000
DTSTAMP:20260419T152925
CREATED:20260301T190906Z
LAST-MODIFIED:20260301T190953Z
UID:10004924-1778940000-1778947200@www.ethelwalker.org
SUMMARY:Varsity Softball @ Western New England Tournament
DESCRIPTION:
URL:https://www.ethelwalker.org/event/varsity-softball-western-new-england-tournament/
CATEGORIES:Athletic Games
END:VEVENT
BEGIN:VEVENT
DTSTART;TZID=America/New_York:20260519T190000
DTEND;TZID=America/New_York:20260519T194500
DTSTAMP:20260419T152925
CREATED:20260408T140129Z
LAST-MODIFIED:20260408T141513Z
UID:10004981-1779217200-1779219900@www.ethelwalker.org
SUMMARY:A Virtual Introduction to Walker's Middle School Boarding: The Tea
DESCRIPTION:Join us for a virtual conversation for families interested in Walker’s middle school boarding program. Meet current students\, faculty\, and the Director of Residential Life as they share insights on academics\, daily life\, and our supportive boarding community. This is a great opportunity to ask questions and learn what makes Walker’s experience unique. \n\n\n\n\nRegister Here
URL:https://www.ethelwalker.org/event/a-virtual-introduction-to-walkers-middle-school-boarding-the-tea/
CATEGORIES:Admission
ATTACH;FMTTYPE=image/jpeg:https://www.ethelwalker.org/wp-content/uploads/2020/06/11-3-25EthW26778.jpg
END:VEVENT
BEGIN:VEVENT
DTSTART;TZID=America/New_York:20260522T000000
DTEND;TZID=America/New_York:20260523T235959
DTSTAMP:20260419T152925
CREATED:20250626T192423Z
LAST-MODIFIED:20250626T192424Z
UID:10004582-1779408000-1779580799@www.ethelwalker.org
SUMMARY:8th Grade Sleepover
DESCRIPTION:
URL:https://www.ethelwalker.org/event/8th-grade-sleepover-2/
CATEGORIES:Middle School,Student Life
END:VEVENT
BEGIN:VEVENT
DTSTART;TZID=America/New_York:20260522T173000
DTEND;TZID=America/New_York:20260522T210000
DTSTAMP:20260419T152925
CREATED:20250626T192339Z
LAST-MODIFIED:20250626T192340Z
UID:10004581-1779471000-1779483600@www.ethelwalker.org
SUMMARY:Middle School Fun Night
DESCRIPTION:
URL:https://www.ethelwalker.org/event/middle-school-fun-night/
CATEGORIES:Middle School,Student Life
END:VEVENT
BEGIN:VEVENT
DTSTART;TZID=America/New_York:20260525T000000
DTEND;TZID=America/New_York:20260527T235959
DTSTAMP:20260419T152925
CREATED:20250626T192513Z
LAST-MODIFIED:20250626T192514Z
UID:10004583-1779667200-1779926399@www.ethelwalker.org
SUMMARY:Semester 2 Assessments
DESCRIPTION:
URL:https://www.ethelwalker.org/event/semester-2-assessments/
CATEGORIES:Academics,All-School Events,Middle School,Upper School
END:VEVENT
BEGIN:VEVENT
DTSTART;TZID=America/New_York:20260528T000000
DTEND;TZID=America/New_York:20260528T235900
DTSTAMP:20260419T152925
CREATED:20250626T192552Z
LAST-MODIFIED:20250627T130624Z
UID:10004584-1779926400-1780012740@www.ethelwalker.org
SUMMARY:Semester 2 Closes
DESCRIPTION:
URL:https://www.ethelwalker.org/event/semester-2-closes/
CATEGORIES:Academics,All-School Events,Middle School,Upper School
END:VEVENT
BEGIN:VEVENT
DTSTART;TZID=America/New_York:20260529T180000
DTEND;TZID=America/New_York:20260529T193000
DTSTAMP:20260419T152925
CREATED:20250626T192715Z
LAST-MODIFIED:20250626T192717Z
UID:10004585-1780077600-1780083000@www.ethelwalker.org
SUMMARY:Middle School Promotion
DESCRIPTION:
URL:https://www.ethelwalker.org/event/middle-school-promotion-5/
CATEGORIES:Middle School,Student Life
END:VEVENT
BEGIN:VEVENT
DTSTART;TZID=America/New_York:20260530T000000
DTEND;TZID=America/New_York:20260530T235959
DTSTAMP:20260419T152925
CREATED:20250626T192803Z
LAST-MODIFIED:20250626T192804Z
UID:10004586-1780099200-1780185599@www.ethelwalker.org
SUMMARY:Baccalaureate
DESCRIPTION:
URL:https://www.ethelwalker.org/event/baccalaureate-4/
CATEGORIES:All-School Events,Middle School,Student Life,Upper School
END:VEVENT
BEGIN:VEVENT
DTSTART;TZID=America/New_York:20260530T000000
DTEND;TZID=America/New_York:20260530T235959
DTSTAMP:20260419T152925
CREATED:20250626T192842Z
LAST-MODIFIED:20250626T192844Z
UID:10004587-1780099200-1780185599@www.ethelwalker.org
SUMMARY:Prize Night
DESCRIPTION:
URL:https://www.ethelwalker.org/event/prize-night-4/
CATEGORIES:All-School Events,Middle School,Student Life,Upper School
END:VEVENT
BEGIN:VEVENT
DTSTART;TZID=America/New_York:20260531T000000
DTEND;TZID=America/New_York:20260531T235959
DTSTAMP:20260419T152925
CREATED:20250626T192930Z
LAST-MODIFIED:20250626T192932Z
UID:10004588-1780185600-1780271999@www.ethelwalker.org
SUMMARY:Commencement
DESCRIPTION:
URL:https://www.ethelwalker.org/event/commencement-4/
CATEGORIES:All-School Events,Upper School
END:VEVENT
BEGIN:VEVENT
DTSTART;TZID=America/New_York:20260912T000000
DTEND;TZID=America/New_York:20260912T235959
DTSTAMP:20260419T152925
CREATED:20260305T211652Z
LAST-MODIFIED:20260305T211653Z
UID:10004948-1789171200-1789257599@www.ethelwalker.org
SUMMARY:SAT at Walker's
DESCRIPTION:
URL:https://www.ethelwalker.org/event/sat-at-walkers-4/
CATEGORIES:College Counseling,Upper School
END:VEVENT
BEGIN:VEVENT
DTSTART;TZID=America/New_York:20261205T000000
DTEND;TZID=America/New_York:20261205T235959
DTSTAMP:20260419T152925
CREATED:20260305T211808Z
LAST-MODIFIED:20260305T211809Z
UID:10004949-1796428800-1796515199@www.ethelwalker.org
SUMMARY:SAT at Walker's
DESCRIPTION:
URL:https://www.ethelwalker.org/event/sat-at-walkers-5/
CATEGORIES:College Counseling,Upper School
END:VEVENT
BEGIN:VEVENT
DTSTART;TZID=America/New_York:20270409T000000
DTEND;TZID=America/New_York:20270411T235959
DTSTAMP:20260419T152925
CREATED:20260225T152520Z
LAST-MODIFIED:20260225T152522Z
UID:10004890-1807228800-1807487999@www.ethelwalker.org
SUMMARY:Reunion
DESCRIPTION:
URL:https://www.ethelwalker.org/event/reunion-5/
CATEGORIES:Alumnae,Reunion
END:VEVENT
BEGIN:VEVENT
DTSTART;TZID=America/New_York:20270413T183000
DTEND;TZID=America/New_York:20270413T203000
DTSTAMP:20260419T152925
CREATED:20260213T154737Z
LAST-MODIFIED:20260213T154757Z
UID:10004876-1807641000-1807648200@www.ethelwalker.org
SUMMARY:HAISSCCA Fair for Juniors
DESCRIPTION:
URL:https://www.ethelwalker.org/event/haisscca-fair-for-juniors/
CATEGORIES:College Counseling
END:VEVENT
BEGIN:VEVENT
DTSTART;TZID=America/New_York:20270501T000000
DTEND;TZID=America/New_York:20270501T235959
DTSTAMP:20260419T152925
CREATED:20260305T211844Z
LAST-MODIFIED:20260305T211844Z
UID:10004950-1809129600-1809215999@www.ethelwalker.org
SUMMARY:SAT at Walker's
DESCRIPTION:
URL:https://www.ethelwalker.org/event/sat-at-walkers-6/
CATEGORIES:College Counseling,Upper School
END:VEVENT
END:VCALENDAR