BEGIN:VCALENDAR
VERSION:2.0
PRODID:-//The Ethel Walker School - ECPv6.15.12//NONSGML v1.0//EN
CALSCALE:GREGORIAN
METHOD:PUBLISH
X-WR-CALNAME:The Ethel Walker School
X-ORIGINAL-URL:https://www.ethelwalker.org
X-WR-CALDESC:Events for The Ethel Walker School
REFRESH-INTERVAL;VALUE=DURATION:PT1H
X-Robots-Tag:noindex
X-PUBLISHED-TTL:PT1H
BEGIN:VTIMEZONE
TZID:America/New_York
BEGIN:DAYLIGHT
TZOFFSETFROM:-0500
TZOFFSETTO:-0400
TZNAME:EDT
DTSTART:20250309T070000
END:DAYLIGHT
BEGIN:STANDARD
TZOFFSETFROM:-0400
TZOFFSETTO:-0500
TZNAME:EST
DTSTART:20251102T060000
END:STANDARD
BEGIN:DAYLIGHT
TZOFFSETFROM:-0500
TZOFFSETTO:-0400
TZNAME:EDT
DTSTART:20260308T070000
END:DAYLIGHT
BEGIN:STANDARD
TZOFFSETFROM:-0400
TZOFFSETTO:-0500
TZNAME:EST
DTSTART:20261101T060000
END:STANDARD
BEGIN:DAYLIGHT
TZOFFSETFROM:-0500
TZOFFSETTO:-0400
TZNAME:EDT
DTSTART:20270314T070000
END:DAYLIGHT
BEGIN:STANDARD
TZOFFSETFROM:-0400
TZOFFSETTO:-0500
TZNAME:EST
DTSTART:20271107T060000
END:STANDARD
END:VTIMEZONE
BEGIN:VEVENT
DTSTART;TZID=America/New_York:20260128T150000
DTEND;TZID=America/New_York:20260128T163000
DTSTAMP:20260419T201419
CREATED:20251027T190331Z
LAST-MODIFIED:20260130T182659Z
UID:10004787-1769612400-1769617800@www.ethelwalker.org
SUMMARY:JV Basketball vs. Wilbraham & Monson Academy
DESCRIPTION:
URL:https://www.ethelwalker.org/event/jv-basketball-vs-wilbraham-monson-academy-4/
LOCATION:The Ethel Walker School\, 230 Bushy Hill Road\, Simsbury\, 06070\, United States
CATEGORIES:Athletic Games
END:VEVENT
BEGIN:VEVENT
DTSTART;TZID=America/New_York:20260128T150000
DTEND;TZID=America/New_York:20260128T163000
DTSTAMP:20260419T201419
CREATED:20251028T182826Z
LAST-MODIFIED:20260212T155553Z
UID:10004827-1769612400-1769617800@www.ethelwalker.org
SUMMARY:Varsity Basketball vs. Wilbraham & Monson Academy
DESCRIPTION:
URL:https://www.ethelwalker.org/event/varsity-basketball-vs-wilbraham-monson-academy/
LOCATION:The Ethel Walker School\, 230 Bushy Hill Road\, Simsbury\, 06070\, United States
CATEGORIES:Athletic Games
END:VEVENT
BEGIN:VEVENT
DTSTART;TZID=America/New_York:20260128T153000
DTEND;TZID=America/New_York:20260128T173000
DTSTAMP:20260419T201419
CREATED:20251027T172053Z
LAST-MODIFIED:20251027T172432Z
UID:10004768-1769614200-1769621400@www.ethelwalker.org
SUMMARY:Varsity Swimming @ Miss Porter's School
DESCRIPTION:
URL:https://www.ethelwalker.org/event/varsity-swimming-miss-porters-school-2/
LOCATION:Miss Porter’s School\, 60 Main Street\, Farmington\, Connecticut\, 06032
CATEGORIES:Athletic Games
END:VEVENT
BEGIN:VEVENT
DTSTART;TZID=America/New_York:20260128T153000
DTEND;TZID=America/New_York:20260128T173000
DTSTAMP:20260419T201419
CREATED:20251027T173136Z
LAST-MODIFIED:20251027T182941Z
UID:10004769-1769614200-1769621400@www.ethelwalker.org
SUMMARY:Varsity Swimming vs. Westover
DESCRIPTION:
URL:https://www.ethelwalker.org/event/varsity-swimming-vs-westover/
LOCATION:Miss Porter’s School\, 60 Main Street\, Farmington\, Connecticut\, 06032
CATEGORIES:Athletic Games
END:VEVENT
BEGIN:VEVENT
DTSTART;TZID=America/New_York:20260129T093000
DTEND;TZID=America/New_York:20260129T130000
DTSTAMP:20260419T201419
CREATED:20251210T184225Z
LAST-MODIFIED:20251210T184226Z
UID:10004862-1769679000-1769691600@www.ethelwalker.org
SUMMARY:North American Computational Linguistics Olympiad
DESCRIPTION:
URL:https://www.ethelwalker.org/event/north-american-computational-linguistics-olympiad/
CATEGORIES:Academics
END:VEVENT
BEGIN:VEVENT
DTSTART;TZID=America/New_York:20260129T163000
DTEND;TZID=America/New_York:20260129T180000
DTSTAMP:20260419T201419
CREATED:20251028T145138Z
LAST-MODIFIED:20260113T172928Z
UID:10004800-1769704200-1769709600@www.ethelwalker.org
SUMMARY:Varsity Squash vs. Capitol Squash
DESCRIPTION:
URL:https://www.ethelwalker.org/event/varsity-squash-capitol-squash/
LOCATION:Trinity College\, 300 Summit Street\, Hartford\, Connecticut\, 06106\, United States
CATEGORIES:Athletic Games
END:VEVENT
BEGIN:VEVENT
DTSTART;TZID=America/New_York:20260130T161500
DTEND;TZID=America/New_York:20260130T174500
DTSTAMP:20260419T201419
CREATED:20251027T184942Z
LAST-MODIFIED:20260203T140818Z
UID:10004781-1769789700-1769795100@www.ethelwalker.org
SUMMARY:JV Basketball vs. Rectory School
DESCRIPTION:
URL:https://www.ethelwalker.org/event/jv-basketball-rumsey-hall-school-3/
LOCATION:Rumsey Hall School\, 201 Romford Road\, Washington Depot\, Connecticut\, 06794\, United States
CATEGORIES:Athletic Games
END:VEVENT
BEGIN:VEVENT
DTSTART;TZID=America/New_York:20260130T183000
DTEND;TZID=America/New_York:20260130T203000
DTSTAMP:20260419T201419
CREATED:20250626T143910Z
LAST-MODIFIED:20250626T143912Z
UID:10004553-1769797800-1769805000@www.ethelwalker.org
SUMMARY:Middle School Winter Formal
DESCRIPTION:
URL:https://www.ethelwalker.org/event/middle-school-winter-formal-4/
CATEGORIES:Middle School,Student Life
END:VEVENT
BEGIN:VEVENT
DTSTART;TZID=America/New_York:20260131T140000
DTEND;TZID=America/New_York:20260131T153000
DTSTAMP:20260419T201419
CREATED:20251028T182950Z
LAST-MODIFIED:20260202T141525Z
UID:10004828-1769868000-1769873400@www.ethelwalker.org
SUMMARY:Varsity Basketball @ Hamden Hall Country Day School
DESCRIPTION:
URL:https://www.ethelwalker.org/event/varsity-basketball-hamden-hall-country-day-school/
LOCATION:Hamden Hall Country Day School\, 225 Skiff Street\, Hamden\, Connecticut\, 06517\, United States
CATEGORIES:Athletic Games
END:VEVENT
BEGIN:VEVENT
DTSTART;TZID=America/New_York:20260201T100000
DTEND;TZID=America/New_York:20260201T120000
DTSTAMP:20260419T201419
CREATED:20250918T124839Z
LAST-MODIFIED:20250918T124841Z
UID:10004732-1769940000-1769947200@www.ethelwalker.org
SUMMARY:Summit Test Prep Class
DESCRIPTION:
URL:https://www.ethelwalker.org/event/summit-test-prep-class-6/
CATEGORIES:Academics,Upper School
END:VEVENT
BEGIN:VEVENT
DTSTART;TZID=America/New_York:20260202T160000
DTEND;TZID=America/New_York:20260202T173000
DTSTAMP:20260419T201419
CREATED:20260123T175938Z
LAST-MODIFIED:20260123T180019Z
UID:10004870-1770048000-1770053400@www.ethelwalker.org
SUMMARY:Varsity Squash @ Westminster School
DESCRIPTION:
URL:https://www.ethelwalker.org/event/varsity-squash-westminster-school-5/
LOCATION:Westminster School\, 995 Hopmeadow Street\, Simsbury\, Connecticut\, 06070\, United States
CATEGORIES:Athletic Games
END:VEVENT
BEGIN:VEVENT
DTSTART;TZID=America/New_York:20260204T143000
DTEND;TZID=America/New_York:20260204T154500
DTSTAMP:20260419T201419
CREATED:20251024T175311Z
LAST-MODIFIED:20260205T134134Z
UID:10004758-1770215400-1770219900@www.ethelwalker.org
SUMMARY:Middle School Basketball @ Kingswood Oxford School
DESCRIPTION:
URL:https://www.ethelwalker.org/event/middle-school-basketball-vs-kingswood-oxford-school-4/
LOCATION:Kingswood Oxford School\, 170 Kingswood Road\, West Hartford\, Connecticut\, 06119
CATEGORIES:Athletic Games
END:VEVENT
BEGIN:VEVENT
DTSTART;TZID=America/New_York:20260204T143000
DTEND;TZID=America/New_York:20260204T180000
DTSTAMP:20260419T201419
CREATED:20251202T193816Z
LAST-MODIFIED:20260210T161059Z
UID:10004850-1770215400-1770228000@www.ethelwalker.org
SUMMARY:Skiing @ Catamount Mountain
DESCRIPTION:Slalom
URL:https://www.ethelwalker.org/event/skiing-catamount-mountain/
LOCATION:Catamount Mountain Resort\, 78 Catamount Rd\, Hillsdale\, NY\, 12529
CATEGORIES:Athletic Games
END:VEVENT
BEGIN:VEVENT
DTSTART;TZID=America/New_York:20260204T150000
DTEND;TZID=America/New_York:20260204T163000
DTSTAMP:20260419T201419
CREATED:20251027T190451Z
LAST-MODIFIED:20260205T153308Z
UID:10004788-1770217200-1770222600@www.ethelwalker.org
SUMMARY:JV Basketball vs. Miss Porter's School
DESCRIPTION:
URL:https://www.ethelwalker.org/event/jv-basketball-vs-miss-porters-school-4/
LOCATION:The Ethel Walker School\, 230 Bushy Hill Road\, Simsbury\, 06070\, United States
CATEGORIES:Athletic Games
END:VEVENT
BEGIN:VEVENT
DTSTART;TZID=America/New_York:20260204T150000
DTEND;TZID=America/New_York:20260204T163000
DTSTAMP:20260419T201419
CREATED:20251028T183958Z
LAST-MODIFIED:20260205T133846Z
UID:10004829-1770217200-1770222600@www.ethelwalker.org
SUMMARY:Varsity Basketball vs. Miss Porter's School
DESCRIPTION:
URL:https://www.ethelwalker.org/event/varsity-basketball-vs-miss-porters-school-3/
LOCATION:The Ethel Walker School\, 230 Bushy Hill Road\, Simsbury\, 06070\, United States
CATEGORIES:Athletic Games
END:VEVENT
BEGIN:VEVENT
DTSTART;TZID=America/New_York:20260204T161500
DTEND;TZID=America/New_York:20260204T174500
DTSTAMP:20260419T201419
CREATED:20251027T173610Z
LAST-MODIFIED:20260128T150745Z
UID:10004770-1770221700-1770227100@www.ethelwalker.org
SUMMARY:Varsity Swimming vs. Greenwich Country Day School
DESCRIPTION:
URL:https://www.ethelwalker.org/event/varsity-swimming-vs-greenwich-country-day-school-2/
LOCATION:The Ethel Walker School\, 230 Bushy Hill Road\, Simsbury\, 06070\, United States
CATEGORIES:Athletic Games
END:VEVENT
BEGIN:VEVENT
DTSTART;TZID=America/New_York:20260205T170000
DTEND;TZID=America/New_York:20260205T170000
DTSTAMP:20260419T201419
CREATED:20260122T195102Z
LAST-MODIFIED:20260122T195103Z
UID:10004866-1770310800-1770310800@www.ethelwalker.org
SUMMARY:Dorms Close at 5:00 p.m.
DESCRIPTION:
URL:https://www.ethelwalker.org/event/dorms-close-at-500-p-m-11/
CATEGORIES:School Breaks
END:VEVENT
BEGIN:VEVENT
DTSTART;TZID=America/New_York:20260206T000000
DTEND;TZID=America/New_York:20260209T235959
DTSTAMP:20260419T201419
CREATED:20250626T153622Z
LAST-MODIFIED:20250626T153623Z
UID:10004568-1770336000-1770681599@www.ethelwalker.org
SUMMARY:Winter Long Weekend
DESCRIPTION:
URL:https://www.ethelwalker.org/event/winter-long-weekend-3/
CATEGORIES:Middle School,School Breaks,Upper School
END:VEVENT
BEGIN:VEVENT
DTSTART;TZID=America/New_York:20260209T150000
DTEND;TZID=America/New_York:20260209T150000
DTSTAMP:20260419T201419
CREATED:20260122T195154Z
LAST-MODIFIED:20260122T195155Z
UID:10004867-1770649200-1770649200@www.ethelwalker.org
SUMMARY:Dorms Open at 3:00 p.m.
DESCRIPTION:
URL:https://www.ethelwalker.org/event/dorms-open-at-300-p-m-5/
CATEGORIES:School Breaks
END:VEVENT
BEGIN:VEVENT
DTSTART;TZID=America/New_York:20260211T140000
DTEND;TZID=America/New_York:20260211T180000
DTSTAMP:20260419T201419
CREATED:20251202T194225Z
LAST-MODIFIED:20260212T155420Z
UID:10004851-1770818400-1770832800@www.ethelwalker.org
SUMMARY:Skiing @ David Rockwell GS Championship
DESCRIPTION:Giant Slalom
URL:https://www.ethelwalker.org/event/skiing-david-rockwell-gs-championship/
LOCATION:Ski Sundown\, 126 Ratlum Road\, New Hartford\, Connecticut\, 06057\, United States
CATEGORIES:Athletic Games
END:VEVENT
BEGIN:VEVENT
DTSTART;TZID=America/New_York:20260211T143000
DTEND;TZID=America/New_York:20260211T160000
DTSTAMP:20260419T201419
CREATED:20251027T190618Z
LAST-MODIFIED:20260213T141623Z
UID:10004789-1770820200-1770825600@www.ethelwalker.org
SUMMARY:JV Basketball @ The Taft School
DESCRIPTION:
URL:https://www.ethelwalker.org/event/jv-basketball-the-taft-school/
LOCATION:The Taft School\, 110 Woodbury Road\, Watertown\, Connecticut\, 06795\, United States
CATEGORIES:Athletic Games
END:VEVENT
BEGIN:VEVENT
DTSTART;TZID=America/New_York:20260211T143000
DTEND;TZID=America/New_York:20260211T160000
DTSTAMP:20260419T201419
CREATED:20251028T184114Z
LAST-MODIFIED:20260212T155522Z
UID:10004830-1770820200-1770825600@www.ethelwalker.org
SUMMARY:Varsity Basketball @ The Taft School
DESCRIPTION:
URL:https://www.ethelwalker.org/event/varsity-basketball-the-taft-school/
LOCATION:The Taft School\, 110 Woodbury Road\, Watertown\, Connecticut\, 06795\, United States
CATEGORIES:Athletic Games
END:VEVENT
BEGIN:VEVENT
DTSTART;TZID=America/New_York:20260211T150000
DTEND;TZID=America/New_York:20260211T170000
DTSTAMP:20260419T201419
CREATED:20251027T173755Z
LAST-MODIFIED:20260219T181144Z
UID:10004771-1770822000-1770829200@www.ethelwalker.org
SUMMARY:Varsity Swimming @ Westminster School
DESCRIPTION:
URL:https://www.ethelwalker.org/event/varsity-swimming-westminster-school-4/
LOCATION:Westminster School\, 995 Hopmeadow Street\, Simsbury\, Connecticut\, 06070\, United States
CATEGORIES:Athletic Games
END:VEVENT
BEGIN:VEVENT
DTSTART;TZID=America/New_York:20260211T150000
DTEND;TZID=America/New_York:20260211T170000
DTSTAMP:20260419T201419
CREATED:20251027T173925Z
LAST-MODIFIED:20260219T181233Z
UID:10004772-1770822000-1770829200@www.ethelwalker.org
SUMMARY:Swimming vs. Kingswood Oxford School
DESCRIPTION:
URL:https://www.ethelwalker.org/event/swimming-vs-kingswood-oxford-school-3/
LOCATION:Westminster School\, 995 Hopmeadow Street\, Simsbury\, Connecticut\, 06070\, United States
CATEGORIES:Athletic Games
END:VEVENT
BEGIN:VEVENT
DTSTART;TZID=America/New_York:20260211T150000
DTEND;TZID=America/New_York:20260211T180000
DTSTAMP:20260419T201419
CREATED:20251028T145852Z
LAST-MODIFIED:20260212T154519Z
UID:10004801-1770822000-1770832800@www.ethelwalker.org
SUMMARY:Varsity Squash @ Miss Porter's School
DESCRIPTION:
URL:https://www.ethelwalker.org/event/varsity-squash-miss-porters-school-3/
LOCATION:Miss Porter’s School\, 60 Main Street\, Farmington\, Connecticut\, 06032
CATEGORIES:Athletic Games
END:VEVENT
BEGIN:VEVENT
DTSTART;TZID=America/New_York:20260211T150000
DTEND;TZID=America/New_York:20260211T180000
DTSTAMP:20260419T201419
CREATED:20251028T150031Z
LAST-MODIFIED:20260212T154706Z
UID:10004802-1770822000-1770832800@www.ethelwalker.org
SUMMARY:Varsity Squash vs. Canterbury School
DESCRIPTION:
URL:https://www.ethelwalker.org/event/varsity-squash-vs-canterbury-school-3/
LOCATION:Miss Porter’s School\, 60 Main Street\, Farmington\, Connecticut\, 06032
CATEGORIES:Athletic Games
END:VEVENT
BEGIN:VEVENT
DTSTART;TZID=America/New_York:20260211T153000
DTEND;TZID=America/New_York:20260211T164500
DTSTAMP:20260419T201419
CREATED:20251024T183529Z
LAST-MODIFIED:20260213T144952Z
UID:10004759-1770823800-1770828300@www.ethelwalker.org
SUMMARY:Middle School Basketball vs. Rumsey Hall School
DESCRIPTION:
URL:https://www.ethelwalker.org/event/middle-school-basketball-vs-rumsey-hall-school-4/
LOCATION:The Ethel Walker School\, 230 Bushy Hill Road\, Simsbury\, 06070\, United States
CATEGORIES:Athletic Games
END:VEVENT
BEGIN:VEVENT
DTSTART;TZID=America/New_York:20260212T050000
DTEND;TZID=America/New_York:20260212T180000
DTSTAMP:20260419T201419
CREATED:20260213T145533Z
LAST-MODIFIED:20260213T145736Z
UID:10004875-1770872400-1770919200@www.ethelwalker.org
SUMMARY:Middle School Basketball vs. Renbrook
DESCRIPTION:
URL:https://www.ethelwalker.org/event/middle-school-basketball-vs/
LOCATION:The Master’s School\, 36 Westledge Road\, West Simsbury\, Connecticut\, 06092\, United States
CATEGORIES:Athletic Games
END:VEVENT
BEGIN:VEVENT
DTSTART;TZID=America/New_York:20260212T153000
DTEND;TZID=America/New_York:20260212T180000
DTSTAMP:20260419T201419
CREATED:20251024T183724Z
LAST-MODIFIED:20260213T145428Z
UID:10004760-1770910200-1770919200@www.ethelwalker.org
SUMMARY:Middle School Basketball @ The Master's School
DESCRIPTION:Tournament
URL:https://www.ethelwalker.org/event/middle-school-basketball-the-masters-school-2/
LOCATION:The Master’s School\, 36 Westledge Road\, West Simsbury\, Connecticut\, 06092\, United States
CATEGORIES:Athletic Games
END:VEVENT
BEGIN:VEVENT
DTSTART;TZID=America/New_York:20260212T190000
DTEND;TZID=America/New_York:20260212T203000
DTSTAMP:20260419T201419
CREATED:20250626T145432Z
LAST-MODIFIED:20260130T153110Z
UID:10004554-1770922800-1770928200@www.ethelwalker.org
SUMMARY:Dance Concert (R/11 and 12)
DESCRIPTION:
URL:https://www.ethelwalker.org/event/dance-concert-r-11-and-12/
CATEGORIES:Arts,Upper School
END:VEVENT
END:VCALENDAR