BEGIN:VCALENDAR
VERSION:2.0
PRODID:-//The Ethel Walker School - ECPv6.15.12//NONSGML v1.0//EN
CALSCALE:GREGORIAN
METHOD:PUBLISH
X-ORIGINAL-URL:https://www.ethelwalker.org
X-WR-CALDESC:Events for The Ethel Walker School
REFRESH-INTERVAL;VALUE=DURATION:PT1H
X-Robots-Tag:noindex
X-PUBLISHED-TTL:PT1H
BEGIN:VTIMEZONE
TZID:America/New_York
BEGIN:DAYLIGHT
TZOFFSETFROM:-0500
TZOFFSETTO:-0400
TZNAME:EDT
DTSTART:20240310T070000
END:DAYLIGHT
BEGIN:STANDARD
TZOFFSETFROM:-0400
TZOFFSETTO:-0500
TZNAME:EST
DTSTART:20241103T060000
END:STANDARD
BEGIN:DAYLIGHT
TZOFFSETFROM:-0500
TZOFFSETTO:-0400
TZNAME:EDT
DTSTART:20250309T070000
END:DAYLIGHT
BEGIN:STANDARD
TZOFFSETFROM:-0400
TZOFFSETTO:-0500
TZNAME:EST
DTSTART:20251102T060000
END:STANDARD
BEGIN:DAYLIGHT
TZOFFSETFROM:-0500
TZOFFSETTO:-0400
TZNAME:EDT
DTSTART:20260308T070000
END:DAYLIGHT
BEGIN:STANDARD
TZOFFSETFROM:-0400
TZOFFSETTO:-0500
TZNAME:EST
DTSTART:20261101T060000
END:STANDARD
END:VTIMEZONE
BEGIN:VEVENT
DTSTART;TZID=America/New_York:20251012T100000
DTEND;TZID=America/New_York:20251012T111500
DTSTAMP:20260422T013219
CREATED:20250729T150029Z
LAST-MODIFIED:20250729T150426Z
UID:10004611-1760263200-1760267700@www.ethelwalker.org
SUMMARY:Walker's Alumnae Field Hockey Game 
DESCRIPTION:
URL:https://www.ethelwalker.org/event/walkers-alumnae-field-hockey-game-2/
LOCATION:The Ethel Walker School Turf Fields\, 96 Sand Hill Road\, Simsbury\, Connecticut\, 06070
CATEGORIES:Athletic Games
END:VEVENT
BEGIN:VEVENT
DTSTART;TZID=America/New_York:20251012T100000
DTEND;TZID=America/New_York:20251012T111500
DTSTAMP:20260422T013219
CREATED:20250729T150325Z
LAST-MODIFIED:20250729T150355Z
UID:10004612-1760263200-1760267700@www.ethelwalker.org
SUMMARY:Walker's Alumnae Field Hockey Game 
DESCRIPTION:
URL:https://www.ethelwalker.org/event/walkers-alumnae-field-hockey-game-3/
LOCATION:The Ethel Walker School\, 230 Bushy Hill Road\, Simsbury\, 06070\, United States
CATEGORIES:Athletic Games
END:VEVENT
BEGIN:VEVENT
DTSTART;TZID=America/New_York:20251013T083000
DTEND;TZID=America/New_York:20251013T140000
DTSTAMP:20260422T013219
CREATED:20250711T174032Z
LAST-MODIFIED:20251006T184112Z
UID:10004593-1760344200-1760364000@www.ethelwalker.org
SUMMARY:On-Campus Open House
DESCRIPTION:Gain an inside look at what makes a Walker’s education exceptional! Discover the difference of a school designed specifically with girls in mind. Explore our beautiful campus\, meet inspiring faculty and coaches\, attend mock classes\, and connect with our students. We invite you to see firsthand how Walker’s prepares girls to lead with confidence\, integrity\, and purpose. \n\n\n\n\nRegister
URL:https://www.ethelwalker.org/event/on-campus-open-house/
LOCATION:The Ethel Walker School\, 230 Bushy Hill Road\, Simsbury\, 06070\, United States
CATEGORIES:Admission
ATTACH;FMTTYPE=image/jpeg:https://www.ethelwalker.org/wp-content/uploads/2025/07/9-23-24EthW23256-e1754054852979.jpg
ORGANIZER;CN="Office of Admission":MAILTO:admission@ethelwalker.org
END:VEVENT
BEGIN:VEVENT
DTSTART;TZID=America/New_York:20251014T163000
DTEND;TZID=America/New_York:20251014T180000
DTSTAMP:20260422T013219
CREATED:20250729T191259Z
LAST-MODIFIED:20251103T191516Z
UID:10004648-1760459400-1760464800@www.ethelwalker.org
SUMMARY:JV Soccer vs. Rumsey Hall
DESCRIPTION:
URL:https://www.ethelwalker.org/event/jv-soccer-vs-rumsey-hall-3/
LOCATION:The Ethel Walker School JV/Varsity Soccer Fields\, 96 Sand Hill Road\, Simsbury\, Connecticut\, 06070\, United States
CATEGORIES:Athletic Games
END:VEVENT
BEGIN:VEVENT
DTSTART;TZID=America/New_York:20251015T150000
DTEND;TZID=America/New_York:20251015T160000
DTSTAMP:20260422T013219
CREATED:20250729T193748Z
LAST-MODIFIED:20251016T150914Z
UID:10004660-1760540400-1760544000@www.ethelwalker.org
SUMMARY:Middle School Soccer @ Renbrook School
DESCRIPTION:
URL:https://www.ethelwalker.org/event/middle-school-soccer-renbrook-school-4/
LOCATION:Renbrook School\, 2865 Albany Ave\, West Hartford\, Connecticut\, 06117\, United States
CATEGORIES:Athletic Games
END:VEVENT
BEGIN:VEVENT
DTSTART;TZID=America/New_York:20251015T150000
DTEND;TZID=America/New_York:20251015T160000
DTSTAMP:20260422T013219
CREATED:20250730T130523Z
LAST-MODIFIED:20250730T131106Z
UID:10004689-1760540400-1760544000@www.ethelwalker.org
SUMMARY:JV Volleyball @ Marianapolis Preparatory School
DESCRIPTION:
URL:https://www.ethelwalker.org/event/jv-volleyball-marianapolis-preparatory-school/
LOCATION:Marianapolis Preparatory School\, 26 Chase Road\, Thompson\, Connecticut\, 06277-0304
CATEGORIES:Athletic Games
END:VEVENT
BEGIN:VEVENT
DTSTART;TZID=America/New_York:20251015T150000
DTEND;TZID=America/New_York:20251015T163000
DTSTAMP:20260422T013219
CREATED:20250729T191427Z
LAST-MODIFIED:20251103T192003Z
UID:10004649-1760540400-1760545800@www.ethelwalker.org
SUMMARY:JV Soccer vs. Suffield Academy
DESCRIPTION:
URL:https://www.ethelwalker.org/event/jv-soccer-vs-suffield-academy-3/
LOCATION:The Ethel Walker School JV/Varsity Soccer Fields\, 96 Sand Hill Road\, Simsbury\, Connecticut\, 06070\, United States
CATEGORIES:Athletic Games
END:VEVENT
BEGIN:VEVENT
DTSTART;TZID=America/New_York:20251015T153000
DTEND;TZID=America/New_York:20251015T164500
DTSTAMP:20260422T013219
CREATED:20250729T150556Z
LAST-MODIFIED:20251017T151437Z
UID:10004613-1760542200-1760546700@www.ethelwalker.org
SUMMARY:Varsity Field Hockey vs. Hopkins School
DESCRIPTION:
URL:https://www.ethelwalker.org/event/varsity-field-hockey-vs-hopkins-school/
LOCATION:The Ethel Walker School Turf Fields\, 96 Sand Hill Road\, Simsbury\, Connecticut\, 06070
CATEGORIES:Athletic Games
END:VEVENT
BEGIN:VEVENT
DTSTART;TZID=America/New_York:20251015T160000
DTEND;TZID=America/New_York:20251015T173000
DTSTAMP:20260422T013219
CREATED:20250729T184455Z
LAST-MODIFIED:20251017T144818Z
UID:10004636-1760544000-1760549400@www.ethelwalker.org
SUMMARY:Varsity Soccer vs. Pomfret School
DESCRIPTION:
URL:https://www.ethelwalker.org/event/varsity-soccer-vs-pomfret-school-4/
LOCATION:The Ethel Walker School JV/Varsity Soccer Fields\, 96 Sand Hill Road\, Simsbury\, Connecticut\, 06070\, United States
CATEGORIES:Athletic Games
END:VEVENT
BEGIN:VEVENT
DTSTART;TZID=America/New_York:20251015T160000
DTEND;TZID=America/New_York:20251015T173000
DTSTAMP:20260422T013219
CREATED:20250730T122704Z
LAST-MODIFIED:20251017T144915Z
UID:10004674-1760544000-1760549400@www.ethelwalker.org
SUMMARY:Varsity Volleyball @ Marianapolis Preparatory School
DESCRIPTION:
URL:https://www.ethelwalker.org/event/varsity-volleyball-marianapolis-preparatory-school-2/
LOCATION:Marianapolis Preparatory School\, 26 Chase Road\, Thompson\, Connecticut\, 06277-0304
CATEGORIES:Athletic Games
END:VEVENT
BEGIN:VEVENT
DTSTART;TZID=America/New_York:20251015T163000
DTEND;TZID=America/New_York:20251015T173000
DTSTAMP:20260422T013219
CREATED:20250729T164010Z
LAST-MODIFIED:20251016T151516Z
UID:10004624-1760545800-1760549400@www.ethelwalker.org
SUMMARY:JV Field Hockey vs. West Hartford Youth Field Hockey
DESCRIPTION:
URL:https://www.ethelwalker.org/event/jv-field-hockey-vs-west-hartford-youth-field-hockey/
LOCATION:The Ethel Walker School Turf Fields\, 96 Sand Hill Road\, Simsbury\, Connecticut\, 06070
CATEGORIES:Athletic Games
END:VEVENT
BEGIN:VEVENT
DTSTART;TZID=America/New_York:20251015T200000
DTEND;TZID=America/New_York:20251015T210000
DTSTAMP:20260422T013219
CREATED:20250626T130247Z
LAST-MODIFIED:20250626T130249Z
UID:10004531-1760558400-1760562000@www.ethelwalker.org
SUMMARY:Smarttrack College Financing Webinar
DESCRIPTION:
URL:https://www.ethelwalker.org/event/smarttrack-college-financing-webinar-5/
LOCATION:Connecticut
CATEGORIES:College Counseling,Upper School
END:VEVENT
BEGIN:VEVENT
DTSTART;TZID=America/New_York:20251017T000000
DTEND;TZID=America/New_York:20251018T235959
DTSTAMP:20260422T013219
CREATED:20250626T130400Z
LAST-MODIFIED:20250626T130402Z
UID:10004532-1760659200-1760831999@www.ethelwalker.org
SUMMARY:Family Weekend
DESCRIPTION:
URL:https://www.ethelwalker.org/event/family-weekend-2/
LOCATION:Connecticut
CATEGORIES:All-School Events,Middle School,Parent Events,Student Life,Upper School
END:VEVENT
BEGIN:VEVENT
DTSTART;TZID=America/New_York:20251017T163000
DTEND;TZID=America/New_York:20251017T173000
DTSTAMP:20260422T013219
CREATED:20250730T130657Z
LAST-MODIFIED:20251018T165656Z
UID:10004690-1760718600-1760722200@www.ethelwalker.org
SUMMARY:JV Volleyball vs. Millbrook School
DESCRIPTION:
URL:https://www.ethelwalker.org/event/jv-volleyball-vs-millbrook-school/
LOCATION:The Ethel Walker School\, 230 Bushy Hill Road\, Simsbury\, 06070\, United States
CATEGORIES:Athletic Games
END:VEVENT
BEGIN:VEVENT
DTSTART;TZID=America/New_York:20251017T180000
DTEND;TZID=America/New_York:20251017T193000
DTSTAMP:20260422T013219
CREATED:20250730T123116Z
LAST-MODIFIED:20251024T130105Z
UID:10004675-1760724000-1760729400@www.ethelwalker.org
SUMMARY:Varsity Volleyball vs. Millbrook School
DESCRIPTION:
URL:https://www.ethelwalker.org/event/varsity-volleyball-vs-millbrook-school/
LOCATION:The Ethel Walker School\, 230 Bushy Hill Road\, Simsbury\, 06070\, United States
CATEGORIES:Athletic Games
END:VEVENT
BEGIN:VEVENT
DTSTART;TZID=America/New_York:20251018T140000
DTEND;TZID=America/New_York:20251018T153000
DTSTAMP:20260422T013219
CREATED:20250729T191641Z
LAST-MODIFIED:20251103T192132Z
UID:10004650-1760796000-1760801400@www.ethelwalker.org
SUMMARY:JV Soccer vs. Westminster School
DESCRIPTION:Westminster Thirds Team
URL:https://www.ethelwalker.org/event/jv-soccer-vs-westminster-school-4/
LOCATION:The Ethel Walker School JV/Varsity Soccer Fields\, 96 Sand Hill Road\, Simsbury\, Connecticut\, 06070\, United States
CATEGORIES:Athletic Games
END:VEVENT
BEGIN:VEVENT
DTSTART;TZID=America/New_York:20251018T143000
DTEND;TZID=America/New_York:20251018T154500
DTSTAMP:20260422T013219
CREATED:20250729T151050Z
LAST-MODIFIED:20251020T181800Z
UID:10004614-1760797800-1760802300@www.ethelwalker.org
SUMMARY:Varsity Field Hockey vs. Kent School
DESCRIPTION:
URL:https://www.ethelwalker.org/event/varsity-field-hockey-vs-kent-school-3/
LOCATION:The Ethel Walker School Turf Fields\, 96 Sand Hill Road\, Simsbury\, Connecticut\, 06070
CATEGORIES:Athletic Games
END:VEVENT
BEGIN:VEVENT
DTSTART;TZID=America/New_York:20251018T150000
DTEND;TZID=America/New_York:20251018T163000
DTSTAMP:20260422T013219
CREATED:20250729T184711Z
LAST-MODIFIED:20251020T181121Z
UID:10004637-1760799600-1760805000@www.ethelwalker.org
SUMMARY:Varsity Soccer vs. Marianapolis Preparatory School
DESCRIPTION:
URL:https://www.ethelwalker.org/event/varsity-soccer-vs-marianapolis-preparatory-school/
LOCATION:The Ethel Walker School JV/Varsity Soccer Fields\, 96 Sand Hill Road\, Simsbury\, Connecticut\, 06070\, United States
CATEGORIES:Athletic Games
END:VEVENT
BEGIN:VEVENT
DTSTART;TZID=America/New_York:20251018T170000
DTEND;TZID=America/New_York:20251018T170000
DTSTAMP:20260422T013219
CREATED:20250625T194202Z
LAST-MODIFIED:20250912T170952Z
UID:10004520-1760806800-1760806800@www.ethelwalker.org
SUMMARY:Dorms Close at 5:00 p.m.
DESCRIPTION:
URL:https://www.ethelwalker.org/event/dorms-close-at-300-p-m-2/
LOCATION:Connecticut
CATEGORIES:Middle School,School Breaks,Student Life,Upper School
ORGANIZER;CN="Mallory Pasquariello%2C Director of Residential Life and Student Activities":MAILTO:mpasquariello@ethelwalker.org
END:VEVENT
BEGIN:VEVENT
DTSTART;TZID=America/New_York:20251019T000000
DTEND;TZID=America/New_York:20251021T235959
DTSTAMP:20260422T013219
CREATED:20250626T130504Z
LAST-MODIFIED:20250626T153822Z
UID:10004533-1760832000-1761091199@www.ethelwalker.org
SUMMARY:Long Fall Weekend
DESCRIPTION:
URL:https://www.ethelwalker.org/event/long-fall-weekend/
LOCATION:Connecticut
CATEGORIES:All-School Events,Middle School,School Breaks,Upper School
END:VEVENT
BEGIN:VEVENT
DTSTART;TZID=America/New_York:20251021T150000
DTEND;TZID=America/New_York:20251021T150000
DTSTAMP:20260422T013219
CREATED:20250626T130655Z
LAST-MODIFIED:20250626T130657Z
UID:10004534-1761058800-1761058800@www.ethelwalker.org
SUMMARY:Dorms Open at 3:00 p.m.
DESCRIPTION:
URL:https://www.ethelwalker.org/event/dorms-open-at-300-p-m/
LOCATION:Connecticut
CATEGORIES:Middle School,Student Life,Upper School
END:VEVENT
BEGIN:VEVENT
DTSTART;TZID=America/New_York:20251022T000000
DTEND;TZID=America/New_York:20251022T235959
DTSTAMP:20260422T013219
CREATED:20250710T142929Z
LAST-MODIFIED:20250901T191442Z
UID:10004589-1761091200-1761177599@www.ethelwalker.org
SUMMARY:Bonz Lecture
DESCRIPTION:
URL:https://www.ethelwalker.org/event/bonz-lecture/
LOCATION:Connecticut
CATEGORIES:All-School Events
END:VEVENT
BEGIN:VEVENT
DTSTART;TZID=America/New_York:20251022T143000
DTEND;TZID=America/New_York:20251022T153000
DTSTAMP:20260422T013219
CREATED:20250730T131221Z
LAST-MODIFIED:20251024T134351Z
UID:10004691-1761143400-1761147000@www.ethelwalker.org
SUMMARY:JV Volleyball vs. Kent School
DESCRIPTION:
URL:https://www.ethelwalker.org/event/jv-volleyball-vs-kent-school-2/
LOCATION:The Ethel Walker School\, 230 Bushy Hill Road\, Simsbury\, 06070\, United States
CATEGORIES:Athletic Games
END:VEVENT
BEGIN:VEVENT
DTSTART;TZID=America/New_York:20251022T143000
DTEND;TZID=America/New_York:20251022T154500
DTSTAMP:20260422T013219
CREATED:20250729T151321Z
LAST-MODIFIED:20251027T142043Z
UID:10004615-1761143400-1761147900@www.ethelwalker.org
SUMMARY:Varsity Field Hockey @ The Taft School
DESCRIPTION:
URL:https://www.ethelwalker.org/event/varsity-field-hockey-the-taft-school/
LOCATION:The Taft School\, 110 Woodbury Road\, Watertown\, Connecticut\, 06795\, United States
CATEGORIES:Athletic Games
END:VEVENT
BEGIN:VEVENT
DTSTART;TZID=America/New_York:20251022T143000
DTEND;TZID=America/New_York:20251022T160000
DTSTAMP:20260422T013219
CREATED:20250729T184916Z
LAST-MODIFIED:20251024T164043Z
UID:10004638-1761143400-1761148800@www.ethelwalker.org
SUMMARY:Varsity Soccer @ Westminster School
DESCRIPTION:
URL:https://www.ethelwalker.org/event/varsity-soccer-westminster-school-2/
LOCATION:Westminster School\, 995 Hopmeadow Street\, Simsbury\, Connecticut\, 06070\, United States
CATEGORIES:Athletic Games
END:VEVENT
BEGIN:VEVENT
DTSTART;TZID=America/New_York:20251022T143000
DTEND;TZID=America/New_York:20251022T160000
DTSTAMP:20260422T013219
CREATED:20250730T123232Z
LAST-MODIFIED:20251024T130303Z
UID:10004676-1761143400-1761148800@www.ethelwalker.org
SUMMARY:Varsity Volleyball vs. Kent School
DESCRIPTION:
URL:https://www.ethelwalker.org/event/varsity-volleyball-vs-kent-school-3/
LOCATION:The Ethel Walker School\, 230 Bushy Hill Road\, Simsbury\, 06070\, United States
CATEGORIES:Athletic Games
END:VEVENT
BEGIN:VEVENT
DTSTART;TZID=America/New_York:20251022T153000
DTEND;TZID=America/New_York:20251022T163000
DTSTAMP:20260422T013219
CREATED:20251006T172023Z
LAST-MODIFIED:20251024T134632Z
UID:10004741-1761147000-1761150600@www.ethelwalker.org
SUMMARY:Middle School Soccer @ Rectory School
DESCRIPTION:
URL:https://www.ethelwalker.org/event/middle-school-soccer-rectory-school-4/
LOCATION:The Rectory School\, 528 Pomfret Street\, Pomfret\, Connecticut\, 06258\, United States
CATEGORIES:Athletic Games
END:VEVENT
BEGIN:VEVENT
DTSTART;TZID=America/New_York:20251023T161500
DTEND;TZID=America/New_York:20251023T170000
DTSTAMP:20260422T013219
CREATED:20251007T144914Z
LAST-MODIFIED:20251007T144959Z
UID:10004742-1761236100-1761238800@www.ethelwalker.org
SUMMARY:JV Field Hockey vs. Canton
DESCRIPTION:
URL:https://www.ethelwalker.org/event/jv-field-hockey-vs-canton/
LOCATION:The Ethel Walker School Turf Fields\, 96 Sand Hill Road\, Simsbury\, Connecticut\, 06070
CATEGORIES:Athletic Games
END:VEVENT
BEGIN:VEVENT
DTSTART;TZID=America/New_York:20251024T000000
DTEND;TZID=America/New_York:20251024T235959
DTSTAMP:20260422T013219
CREATED:20250626T130808Z
LAST-MODIFIED:20250626T130809Z
UID:10004535-1761264000-1761350399@www.ethelwalker.org
SUMMARY:Quarter 1 Closes
DESCRIPTION:
URL:https://www.ethelwalker.org/event/quarter-1-closes/
LOCATION:Connecticut
CATEGORIES:Academics,All-School Events,Middle School,Student Life,Upper School
END:VEVENT
BEGIN:VEVENT
DTSTART;TZID=America/New_York:20251024T183000
DTEND;TZID=America/New_York:20251024T193000
DTSTAMP:20260422T013219
CREATED:20250625T192428Z
LAST-MODIFIED:20250825T184049Z
UID:10004519-1761330600-1761334200@www.ethelwalker.org
SUMMARY:Old Girl Show (R/US and MSB)
DESCRIPTION:
URL:https://www.ethelwalker.org/event/old-girl-show-2/
LOCATION:Connecticut
CATEGORIES:All-School Events,Middle School,Student Life,Upper School
ORGANIZER;CN="Nishette Isaac%2C Dean of Students":MAILTO:nisaac@ethelwalker.org
END:VEVENT
END:VCALENDAR