BEGIN:VCALENDAR
VERSION:2.0
PRODID:-//The Ethel Walker School - ECPv6.15.12//NONSGML v1.0//EN
CALSCALE:GREGORIAN
METHOD:PUBLISH
X-WR-CALNAME:The Ethel Walker School
X-ORIGINAL-URL:https://www.ethelwalker.org
X-WR-CALDESC:Events for The Ethel Walker School
REFRESH-INTERVAL;VALUE=DURATION:PT1H
X-Robots-Tag:noindex
X-PUBLISHED-TTL:PT1H
BEGIN:VTIMEZONE
TZID:America/New_York
BEGIN:DAYLIGHT
TZOFFSETFROM:-0500
TZOFFSETTO:-0400
TZNAME:EDT
DTSTART:20240310T070000
END:DAYLIGHT
BEGIN:STANDARD
TZOFFSETFROM:-0400
TZOFFSETTO:-0500
TZNAME:EST
DTSTART:20241103T060000
END:STANDARD
BEGIN:DAYLIGHT
TZOFFSETFROM:-0500
TZOFFSETTO:-0400
TZNAME:EDT
DTSTART:20250309T070000
END:DAYLIGHT
BEGIN:STANDARD
TZOFFSETFROM:-0400
TZOFFSETTO:-0500
TZNAME:EST
DTSTART:20251102T060000
END:STANDARD
BEGIN:DAYLIGHT
TZOFFSETFROM:-0500
TZOFFSETTO:-0400
TZNAME:EDT
DTSTART:20260308T070000
END:DAYLIGHT
BEGIN:STANDARD
TZOFFSETFROM:-0400
TZOFFSETTO:-0500
TZNAME:EST
DTSTART:20261101T060000
END:STANDARD
END:VTIMEZONE
BEGIN:VEVENT
DTSTART;TZID=America/New_York:20250825T000000
DTEND;TZID=America/New_York:20250825T235959
DTSTAMP:20260419T111004
CREATED:20250625T191853Z
LAST-MODIFIED:20250625T191855Z
UID:10004517-1756080000-1756166399@www.ethelwalker.org
SUMMARY:Student Leader Arrival
DESCRIPTION:
URL:https://www.ethelwalker.org/event/student-leader-arrival/
LOCATION:Connecticut
CATEGORIES:All-School Events,Middle School,Parent Events,Upper School
ORGANIZER;CN="Elisa Del Valle%2C Assistant Head of School for Student Life%2C Director of Social Justice and Inclusion":MAILTO:edelvalle@ethelwalker.org
END:VEVENT
BEGIN:VEVENT
DTSTART;TZID=America/New_York:20250826T000000
DTEND;TZID=America/New_York:20250826T235959
DTSTAMP:20260419T111004
CREATED:20250625T191959Z
LAST-MODIFIED:20250723T191040Z
UID:10004518-1756166400-1756252799@www.ethelwalker.org
SUMMARY:Preseason Athlete and ISO Arrival
DESCRIPTION:
URL:https://www.ethelwalker.org/event/preseason-athlete-and-international-student-arrival/
LOCATION:Connecticut
CATEGORIES:All-School Events,Middle School,Parent Events,Upper School
ORGANIZER;CN="Elisa Del Valle%2C Assistant Head of School for Student Life%2C Director of Social Justice and Inclusion":MAILTO:edelvalle@ethelwalker.org
END:VEVENT
BEGIN:VEVENT
DTSTART;TZID=America/New_York:20250829T153000
DTEND;TZID=America/New_York:20250829T180000
DTSTAMP:20260419T111004
CREATED:20250729T141615Z
LAST-MODIFIED:20250730T124904Z
UID:10004598-1756481400-1756490400@www.ethelwalker.org
SUMMARY:Varsity Field Hockey Play Day
DESCRIPTION:
URL:https://www.ethelwalker.org/event/varsity-field-hockey-payday/
LOCATION:The Ethel Walker School Turf Fields\, 96 Sand Hill Road\, Simsbury\, Connecticut\, 06070
CATEGORIES:Athletic Games
END:VEVENT
BEGIN:VEVENT
DTSTART;TZID=America/New_York:20250830T000000
DTEND;TZID=America/New_York:20250830T235959
DTSTAMP:20260419T111004
CREATED:20250625T194639Z
LAST-MODIFIED:20250625T194641Z
UID:10004521-1756512000-1756598399@www.ethelwalker.org
SUMMARY:All-Student Arrival
DESCRIPTION:
URL:https://www.ethelwalker.org/event/all-student-arrival/
LOCATION:Connecticut
CATEGORIES:All-School Events,Middle School,Student Life,Upper School
END:VEVENT
BEGIN:VEVENT
DTSTART;TZID=America/New_York:20250831T000000
DTEND;TZID=America/New_York:20250831T235900
DTSTAMP:20260419T111004
CREATED:20250625T194814Z
LAST-MODIFIED:20250829T125511Z
UID:10004522-1756598400-1756684740@www.ethelwalker.org
SUMMARY:Orientation
DESCRIPTION:
URL:https://www.ethelwalker.org/event/orientation-and-opening-chapel/
LOCATION:Connecticut
CATEGORIES:All-School Events,Middle School,Student Life,Upper School
END:VEVENT
BEGIN:VEVENT
DTSTART;TZID=America/New_York:20250831T173000
DTEND;TZID=America/New_York:20250831T190000
DTSTAMP:20260419T111004
CREATED:20250829T125743Z
LAST-MODIFIED:20250829T125823Z
UID:10004714-1756661400-1756666800@www.ethelwalker.org
SUMMARY:Opening Chapel and Banquet (R/All)
DESCRIPTION:
URL:https://www.ethelwalker.org/event/opening-chapel-and-banquet-r-all/
LOCATION:Connecticut
CATEGORIES:All-School Events,Middle School,Upper School
END:VEVENT
END:VCALENDAR