BEGIN:VCALENDAR
VERSION:2.0
PRODID:-//The Ethel Walker School - ECPv6.15.12//NONSGML v1.0//EN
CALSCALE:GREGORIAN
METHOD:PUBLISH
X-WR-CALNAME:The Ethel Walker School
X-ORIGINAL-URL:https://www.ethelwalker.org
X-WR-CALDESC:Events for The Ethel Walker School
REFRESH-INTERVAL;VALUE=DURATION:PT1H
X-Robots-Tag:noindex
X-PUBLISHED-TTL:PT1H
BEGIN:VTIMEZONE
TZID:America/New_York
BEGIN:DAYLIGHT
TZOFFSETFROM:-0500
TZOFFSETTO:-0400
TZNAME:EDT
DTSTART:20240310T070000
END:DAYLIGHT
BEGIN:STANDARD
TZOFFSETFROM:-0400
TZOFFSETTO:-0500
TZNAME:EST
DTSTART:20241103T060000
END:STANDARD
BEGIN:DAYLIGHT
TZOFFSETFROM:-0500
TZOFFSETTO:-0400
TZNAME:EDT
DTSTART:20250309T070000
END:DAYLIGHT
BEGIN:STANDARD
TZOFFSETFROM:-0400
TZOFFSETTO:-0500
TZNAME:EST
DTSTART:20251102T060000
END:STANDARD
BEGIN:DAYLIGHT
TZOFFSETFROM:-0500
TZOFFSETTO:-0400
TZNAME:EDT
DTSTART:20260308T070000
END:DAYLIGHT
BEGIN:STANDARD
TZOFFSETFROM:-0400
TZOFFSETTO:-0500
TZNAME:EST
DTSTART:20261101T060000
END:STANDARD
END:VTIMEZONE
BEGIN:VEVENT
DTSTART;TZID=America/New_York:20250223T100000
DTEND;TZID=America/New_York:20250223T120000
DTSTAMP:20260421T041530
CREATED:20240723T185458Z
LAST-MODIFIED:20250121T193657Z
UID:10004153-1740304800-1740312000@www.ethelwalker.org
SUMMARY:Summit Test Prep Class
DESCRIPTION:
URL:https://www.ethelwalker.org/event/summit-test-prep-class/2025-02-23/
LOCATION:Connecticut
CATEGORIES:College Counseling,Upper School
ORGANIZER;CN="Bethany Davis%2C College Counseling and Testing Coordinator":MAILTO:bdavis@ethelwalker.org
END:VEVENT
BEGIN:VEVENT
DTSTART;TZID=America/New_York:20250224T183000
DTEND;TZID=America/New_York:20250224T193000
DTSTAMP:20260421T041530
CREATED:20250217T181917Z
LAST-MODIFIED:20250217T181918Z
UID:10004414-1740421800-1740425400@www.ethelwalker.org
SUMMARY:Collegiate Athletics Panel
DESCRIPTION:Current Walker’s students and parents are welcome to join us as we learn about the recruitment process and college athletics from NCAA coaches. Panelists include Harvard University Women’s Basketball Assistant Coach Ariel Gaston\, University of Massachusetts Women’s Lacrosse Assistant Coach Avery Giorgio\, Rivier University Softball Head Coach Noelle Sass\, and Bentley University Women’s Soccer Head Coach Sarah Dacey. The event will be facilitated by Walker’s Director of Athletics Brett Benzio. \n\n\n\n\nRegister
URL:https://www.ethelwalker.org/event/collegiate-athletics-panel/
LOCATION:Connecticut
CATEGORIES:College Counseling
ORGANIZER;CN="Clarissa Basch%2C Director of College Counseling":MAILTO:cbasch@ethelwalker.org
END:VEVENT
BEGIN:VEVENT
DTSTART;TZID=America/New_York:20250225T161500
DTEND;TZID=America/New_York:20250225T171500
DTSTAMP:20260421T041530
CREATED:20241115T203604Z
LAST-MODIFIED:20241115T203626Z
UID:10004381-1740500100-1740503700@www.ethelwalker.org
SUMMARY:Middle School Basketball vs. Rumsey Hall School
DESCRIPTION:
URL:https://www.ethelwalker.org/event/middle-school-basketball-vs-rumsey-hall-school-2/
LOCATION:The Ethel Walker School\, 230 Bushy Hill Road\, Simsbury\, 06070\, United States
CATEGORIES:Athletic Games
END:VEVENT
BEGIN:VEVENT
DTSTART;TZID=America/New_York:20250226T150000
DTEND;TZID=America/New_York:20250226T163000
DTSTAMP:20260421T041530
CREATED:20241115T203724Z
LAST-MODIFIED:20250403T184538Z
UID:10004382-1740582000-1740587400@www.ethelwalker.org
SUMMARY:Varsity Squash @ Berkshire School
DESCRIPTION:
URL:https://www.ethelwalker.org/event/varsity-squash-berkshire-school-5/
LOCATION:Berkshire School\, 245 North Undermountain Road\, Sheffield\, Massachusetts\, 01257
CATEGORIES:Athletic Games
END:VEVENT
BEGIN:VEVENT
DTSTART;TZID=America/New_York:20250226T150000
DTEND;TZID=America/New_York:20250226T163000
DTSTAMP:20260421T041530
CREATED:20241115T203851Z
LAST-MODIFIED:20250403T184613Z
UID:10004383-1740582000-1740587400@www.ethelwalker.org
SUMMARY:Varsity Squash vs. Millbrook School
DESCRIPTION:
URL:https://www.ethelwalker.org/event/varsity-squash-vs-millbrook-school-2/
LOCATION:Berkshire School\, 245 North Undermountain Road\, Sheffield\, Massachusetts\, 01257
CATEGORIES:Athletic Games
END:VEVENT
BEGIN:VEVENT
DTSTART;TZID=America/New_York:20250226T150000
DTEND;TZID=America/New_York:20250226T163000
DTSTAMP:20260421T041530
CREATED:20241115T204055Z
LAST-MODIFIED:20250404T171917Z
UID:10004384-1740582000-1740587400@www.ethelwalker.org
SUMMARY:Varsity Basketball @ Marianapolis Preparatory School
DESCRIPTION:
URL:https://www.ethelwalker.org/event/varsity-basketball-marianapolis-preparatory-school/
LOCATION:Marianapolis Preparatory School\, 26 Chase Road\, Thompson\, Connecticut\, 06277-0304
CATEGORIES:Athletic Games
END:VEVENT
BEGIN:VEVENT
DTSTART;TZID=America/New_York:20250301T080000
DTEND;TZID=America/New_York:20250301T170000
DTSTAMP:20260421T041530
CREATED:20241115T184412Z
LAST-MODIFIED:20250403T185702Z
UID:10004366-1740816000-1740848400@www.ethelwalker.org
SUMMARY:Squash @ The NEPSAC Tournament
DESCRIPTION:
URL:https://www.ethelwalker.org/event/squash-the-nepsac-class-e-tournament/
LOCATION:TBD
CATEGORIES:Athletic Games
END:VEVENT
BEGIN:VEVENT
DTSTART;TZID=America/New_York:20250301T080000
DTEND;TZID=America/New_York:20250301T170000
DTSTAMP:20260421T041530
CREATED:20250403T184902Z
LAST-MODIFIED:20250403T185617Z
UID:10004506-1740816000-1740848400@www.ethelwalker.org
SUMMARY:Squash @ The NEPSAC Tournament
DESCRIPTION:
URL:https://www.ethelwalker.org/event/squash-the-nepsac-tournament/
LOCATION:Connecticut
CATEGORIES:Athletic Games
END:VEVENT
BEGIN:VEVENT
DTSTART;TZID=America/New_York:20250301T080000
DTEND;TZID=America/New_York:20250301T170000
DTSTAMP:20260421T041530
CREATED:20250403T185153Z
LAST-MODIFIED:20250403T185559Z
UID:10004507-1740816000-1740848400@www.ethelwalker.org
SUMMARY:Squash @ The NEPSAC Tournament
DESCRIPTION:
URL:https://www.ethelwalker.org/event/squash-the-nepsac-tournament-2/
LOCATION:Connecticut
CATEGORIES:Athletic Games
END:VEVENT
BEGIN:VEVENT
DTSTART;TZID=America/New_York:20250301T110000
DTEND;TZID=America/New_York:20250301T170000
DTSTAMP:20260421T041530
CREATED:20241115T204529Z
LAST-MODIFIED:20250403T231707Z
UID:10004386-1740826800-1740848400@www.ethelwalker.org
SUMMARY:Varsity Swimming vs. Founders League Championship
DESCRIPTION:
URL:https://www.ethelwalker.org/event/varsity-swimming-vs-founderd-league-championship/
LOCATION:TBD
CATEGORIES:Athletic Games
END:VEVENT
BEGIN:VEVENT
DTSTART;TZID=America/New_York:20250301T150000
DTEND;TZID=America/New_York:20250301T163000
DTSTAMP:20260421T041530
CREATED:20241115T204240Z
LAST-MODIFIED:20250404T172010Z
UID:10004385-1740841200-1740846600@www.ethelwalker.org
SUMMARY:Varsity Basketball vs. Cheshire Academy
DESCRIPTION:
URL:https://www.ethelwalker.org/event/varsity-basketball-vs-cheshire-academy/
LOCATION:The Ethel Walker School\, 230 Bushy Hill Road\, Simsbury\, 06070\, United States
CATEGORIES:Athletic Games
END:VEVENT
END:VCALENDAR