BEGIN:VCALENDAR
VERSION:2.0
PRODID:-//The Ethel Walker School - ECPv6.15.12//NONSGML v1.0//EN
CALSCALE:GREGORIAN
METHOD:PUBLISH
X-ORIGINAL-URL:https://www.ethelwalker.org
X-WR-CALDESC:Events for The Ethel Walker School
REFRESH-INTERVAL;VALUE=DURATION:PT1H
X-Robots-Tag:noindex
X-PUBLISHED-TTL:PT1H
BEGIN:VTIMEZONE
TZID:America/New_York
BEGIN:DAYLIGHT
TZOFFSETFROM:-0500
TZOFFSETTO:-0400
TZNAME:EDT
DTSTART:20240310T070000
END:DAYLIGHT
BEGIN:STANDARD
TZOFFSETFROM:-0400
TZOFFSETTO:-0500
TZNAME:EST
DTSTART:20241103T060000
END:STANDARD
BEGIN:DAYLIGHT
TZOFFSETFROM:-0500
TZOFFSETTO:-0400
TZNAME:EDT
DTSTART:20250309T070000
END:DAYLIGHT
BEGIN:STANDARD
TZOFFSETFROM:-0400
TZOFFSETTO:-0500
TZNAME:EST
DTSTART:20251102T060000
END:STANDARD
BEGIN:DAYLIGHT
TZOFFSETFROM:-0500
TZOFFSETTO:-0400
TZNAME:EDT
DTSTART:20260308T070000
END:DAYLIGHT
BEGIN:STANDARD
TZOFFSETFROM:-0400
TZOFFSETTO:-0500
TZNAME:EST
DTSTART:20261101T060000
END:STANDARD
END:VTIMEZONE
BEGIN:VEVENT
DTSTART;TZID=America/New_York:20250302T100000
DTEND;TZID=America/New_York:20250302T120000
DTSTAMP:20260424T112132
CREATED:20240723T185458Z
LAST-MODIFIED:20250121T193657Z
UID:10004154-1740909600-1740916800@www.ethelwalker.org
SUMMARY:Summit Test Prep Class
DESCRIPTION:
URL:https://www.ethelwalker.org/event/summit-test-prep-class/2025-03-02/
LOCATION:Connecticut
CATEGORIES:College Counseling,Upper School
ORGANIZER;CN="Bethany Davis%2C College Counseling and Testing Coordinator":MAILTO:bdavis@ethelwalker.org
END:VEVENT
BEGIN:VEVENT
DTSTART;TZID=America/New_York:20250307T000000
DTEND;TZID=America/New_York:20250307T235959
DTSTAMP:20260424T112132
CREATED:20240614T160725Z
LAST-MODIFIED:20240614T160727Z
UID:10004105-1741305600-1741391999@www.ethelwalker.org
SUMMARY:Quarter 3 Ends
DESCRIPTION:
URL:https://www.ethelwalker.org/event/quarter-3-ends-2/
LOCATION:Connecticut
CATEGORIES:Academics
ORGANIZER;CN="Megan Mulhern%2C Dean of Academics":MAILTO:mmulhern@ethelwalker.org
END:VEVENT
BEGIN:VEVENT
DTSTART;TZID=America/New_York:20250307T170000
DTEND;TZID=America/New_York:20250307T170000
DTSTAMP:20260424T112132
CREATED:20240614T160800Z
LAST-MODIFIED:20240614T162559Z
UID:10004106-1741366800-1741366800@www.ethelwalker.org
SUMMARY:Dorms Close at 5:00 p.m.
DESCRIPTION:
URL:https://www.ethelwalker.org/event/dorms-close-at-500-p-m-9/
LOCATION:Connecticut
CATEGORIES:Middle School,Parent Events,School Breaks,Student Life,Upper School
ORGANIZER;CN="Mallory Pasquariello%2C Director of Residential Life and Student Activities":MAILTO:mpasquariello@ethelwalker.org
END:VEVENT
BEGIN:VEVENT
DTSTART;TZID=America/New_York:20250308T000000
DTEND;TZID=America/New_York:20250324T235959
DTSTAMP:20260424T112132
CREATED:20240306T164233Z
LAST-MODIFIED:20240306T164235Z
UID:10004026-1741392000-1742860799@www.ethelwalker.org
SUMMARY:Spring Break
DESCRIPTION:
URL:https://www.ethelwalker.org/event/spring-break-2/
LOCATION:Connecticut
CATEGORIES:All-School Events,Middle School,Parent Events,School Breaks,Upper School
END:VEVENT
BEGIN:VEVENT
DTSTART;TZID=America/New_York:20250308T080000
DTEND;TZID=America/New_York:20250308T170000
DTSTAMP:20260424T112132
CREATED:20241115T212523Z
LAST-MODIFIED:20250331T152532Z
UID:10004389-1741420800-1741453200@www.ethelwalker.org
SUMMARY:Varsity Swimming @  NEPSAC Division 3 Championships
DESCRIPTION:
URL:https://www.ethelwalker.org/event/varsity-swimming-division-3-nepsac-championships/
LOCATION:Wheaton College\, 26 E Main Street\, Norton\, MA\, 02766\, United States
CATEGORIES:Athletic Games
END:VEVENT
END:VCALENDAR