BEGIN:VCALENDAR
VERSION:2.0
PRODID:-//The Ethel Walker School - ECPv6.15.12//NONSGML v1.0//EN
CALSCALE:GREGORIAN
METHOD:PUBLISH
X-WR-CALNAME:The Ethel Walker School
X-ORIGINAL-URL:https://www.ethelwalker.org
X-WR-CALDESC:Events for The Ethel Walker School
REFRESH-INTERVAL;VALUE=DURATION:PT1H
X-Robots-Tag:noindex
X-PUBLISHED-TTL:PT1H
BEGIN:VTIMEZONE
TZID:America/New_York
BEGIN:DAYLIGHT
TZOFFSETFROM:-0500
TZOFFSETTO:-0400
TZNAME:EDT
DTSTART:20240310T070000
END:DAYLIGHT
BEGIN:STANDARD
TZOFFSETFROM:-0400
TZOFFSETTO:-0500
TZNAME:EST
DTSTART:20241103T060000
END:STANDARD
BEGIN:DAYLIGHT
TZOFFSETFROM:-0500
TZOFFSETTO:-0400
TZNAME:EDT
DTSTART:20250309T070000
END:DAYLIGHT
BEGIN:STANDARD
TZOFFSETFROM:-0400
TZOFFSETTO:-0500
TZNAME:EST
DTSTART:20251102T060000
END:STANDARD
BEGIN:DAYLIGHT
TZOFFSETFROM:-0500
TZOFFSETTO:-0400
TZNAME:EDT
DTSTART:20260308T070000
END:DAYLIGHT
BEGIN:STANDARD
TZOFFSETFROM:-0400
TZOFFSETTO:-0500
TZNAME:EST
DTSTART:20261101T060000
END:STANDARD
END:VTIMEZONE
BEGIN:VEVENT
DTSTART;TZID=America/New_York:20250328T000000
DTEND;TZID=America/New_York:20250330T235959
DTSTAMP:20260422T012213
CREATED:20240614T160915Z
LAST-MODIFIED:20240614T160916Z
UID:10004108-1743120000-1743379199@www.ethelwalker.org
SUMMARY:Closed Weekend for Boarders
DESCRIPTION:
URL:https://www.ethelwalker.org/event/closed-weekend-for-boarders-10/
LOCATION:Connecticut
CATEGORIES:Middle School,Parent Events,Student Life,Upper School
ORGANIZER;CN="Mallory Pasquariello%2C Director of Residential Life and Student Activities":MAILTO:mpasquariello@ethelwalker.org
END:VEVENT
BEGIN:VEVENT
DTSTART;TZID=America/New_York:20250330T100000
DTEND;TZID=America/New_York:20250330T120000
DTSTAMP:20260422T012213
CREATED:20240723T185458Z
LAST-MODIFIED:20250121T193657Z
UID:10004155-1743328800-1743336000@www.ethelwalker.org
SUMMARY:Summit Test Prep Class
DESCRIPTION:
URL:https://www.ethelwalker.org/event/summit-test-prep-class/2025-03-30/
LOCATION:Connecticut
CATEGORIES:College Counseling,Upper School
ORGANIZER;CN="Bethany Davis%2C College Counseling and Testing Coordinator":MAILTO:bdavis@ethelwalker.org
END:VEVENT
BEGIN:VEVENT
DTSTART;TZID=America/New_York:20250331T164500
DTEND;TZID=America/New_York:20250331T181500
DTSTAMP:20260422T012213
CREATED:20250302T191317Z
LAST-MODIFIED:20250403T133946Z
UID:10004480-1743439500-1743444900@www.ethelwalker.org
SUMMARY:Varsity Lacrosse @ The Frederick Gunn School
DESCRIPTION:
URL:https://www.ethelwalker.org/event/varsity-lacrosse-the-frederick-gunn-school-2/
LOCATION:The Frederick Gunn School\, 99 Green Hill Rd\, Washington\, Connecticut\, 06793\, United States
CATEGORIES:Athletic Games
END:VEVENT
BEGIN:VEVENT
DTSTART;TZID=America/New_York:20250402T143000
DTEND;TZID=America/New_York:20250402T160000
DTSTAMP:20260422T012213
CREATED:20250302T181254Z
LAST-MODIFIED:20250407T145415Z
UID:10004465-1743604200-1743609600@www.ethelwalker.org
SUMMARY:Varsity Lacrosse vs. Suffield Academy
DESCRIPTION:
URL:https://www.ethelwalker.org/event/varsity-lacrosse-vs-suffield-academy-2/
LOCATION:The Ethel Walker School JV/Varsity Lacrosse Fields\, 96 Sand Hill Road\, Simsbury\, Connecticut\, 06070\, United States
CATEGORIES:Athletic Games
END:VEVENT
BEGIN:VEVENT
DTSTART;TZID=America/New_York:20250402T150000
DTEND;TZID=America/New_York:20250402T163000
DTSTAMP:20260422T012213
CREATED:20250226T201157Z
LAST-MODIFIED:20250422T134801Z
UID:10004460-1743606000-1743611400@www.ethelwalker.org
SUMMARY:Varsity Tennis vs. Miss Hall's School
DESCRIPTION:
URL:https://www.ethelwalker.org/event/varsity-tennis-vs-miss-halls-school-2/
LOCATION:The Ethel Walker School\, 230 Bushy Hill Road\, Simsbury\, 06070\, United States
CATEGORIES:Athletic Games
END:VEVENT
BEGIN:VEVENT
DTSTART;TZID=America/New_York:20250402T150000
DTEND;TZID=America/New_York:20250402T170000
DTSTAMP:20260422T012213
CREATED:20250224T191723Z
LAST-MODIFIED:20250407T144052Z
UID:10004433-1743606000-1743613200@www.ethelwalker.org
SUMMARY:Varsity Softball vs. The Williston Northampton School
DESCRIPTION:
URL:https://www.ethelwalker.org/event/varsity-softball-vs-the-williston-northampton-school/
LOCATION:The Ethel Walker School\, 230 Bushy Hill Road\, Simsbury\, 06070\, United States
CATEGORIES:Athletic Games
END:VEVENT
BEGIN:VEVENT
DTSTART;TZID=America/New_York:20250402T151500
DTEND;TZID=America/New_York:20250402T163000
DTSTAMP:20260422T012213
CREATED:20250324T191127Z
LAST-MODIFIED:20250404T140756Z
UID:10004504-1743606900-1743611400@www.ethelwalker.org
SUMMARY:JV Lacrosse vs. Westover School
DESCRIPTION:
URL:https://www.ethelwalker.org/event/jv-lacrosse-vs-westover-school-2/
LOCATION:The Ethel Walker School JV/Varsity Lacrosse Fields\, 96 Sand Hill Road\, Simsbury\, Connecticut\, 06070\, United States
CATEGORIES:Athletic Games
END:VEVENT
BEGIN:VEVENT
DTSTART;TZID=America/New_York:20250402T190000
DTEND;TZID=America/New_York:20250402T200000
DTSTAMP:20260422T012213
CREATED:20240614T141853Z
LAST-MODIFIED:20240614T154136Z
UID:10004068-1743620400-1743624000@www.ethelwalker.org
SUMMARY:College Money Method Featuring Paul Martin
DESCRIPTION:“Building Aid Generosity and Affordability into Your School List”Suggested for parents of students in Grade 11
URL:https://www.ethelwalker.org/event/college-money-method-featuring-paul-martin-11/
LOCATION:Connecticut
CATEGORIES:College Counseling,Parent Events
ORGANIZER;CN="Clarissa Basch%2C Director of College Counseling":MAILTO:cbasch@ethelwalker.org
END:VEVENT
BEGIN:VEVENT
DTSTART;TZID=America/New_York:20250405T131500
DTEND;TZID=America/New_York:20250405T144500
DTSTAMP:20260422T012213
CREATED:20250302T181445Z
LAST-MODIFIED:20250407T145515Z
UID:10004466-1743858900-1743864300@www.ethelwalker.org
SUMMARY:Varsity Lacrosse @ Kent School
DESCRIPTION:
URL:https://www.ethelwalker.org/event/varsity-lacrosse-kent-school-2/
LOCATION:Kent School\, 1 Macedonia Road\, Kent\, Connecticut\, 06757\, United States
CATEGORIES:Athletic Games
END:VEVENT
BEGIN:VEVENT
DTSTART;TZID=America/New_York:20250405T131500
DTEND;TZID=America/New_York:20250405T151500
DTSTAMP:20260422T012213
CREATED:20250224T160106Z
LAST-MODIFIED:20250404T184459Z
UID:10004415-1743858900-1743866100@www.ethelwalker.org
SUMMARY:JV Lacrosse @ Kent School
DESCRIPTION:
URL:https://www.ethelwalker.org/event/jv-lacrosse-kent-school/
LOCATION:Kent School\, 1 Macedonia Road\, Kent\, Connecticut\, 06757\, United States
CATEGORIES:Athletic Games
END:VEVENT
BEGIN:VEVENT
DTSTART;TZID=America/New_York:20250405T150000
DTEND;TZID=America/New_York:20250405T170000
DTSTAMP:20260422T012213
CREATED:20250311T144512Z
LAST-MODIFIED:20250407T130150Z
UID:10004485-1743865200-1743872400@www.ethelwalker.org
SUMMARY:Varsity Golf vs. The Taft School
DESCRIPTION:
URL:https://www.ethelwalker.org/event/varsity-golf-vs-taft-school-2/
LOCATION:The Hotchkiss School\, 11 Interlaken Road\, Lakeville\, Connecticut\, 06039
CATEGORIES:Athletic Games
END:VEVENT
BEGIN:VEVENT
DTSTART;TZID=America/New_York:20250405T150000
DTEND;TZID=America/New_York:20250405T180000
DTSTAMP:20260422T012213
CREATED:20250311T144330Z
LAST-MODIFIED:20250405T135959Z
UID:10004484-1743865200-1743876000@www.ethelwalker.org
SUMMARY:Varsity Golf @ The Hotchkiss School
DESCRIPTION:
URL:https://www.ethelwalker.org/event/varsity-golf-the-hotchkiss-school-2/
LOCATION:The Hotchkiss School\, 11 Interlaken Road\, Lakeville\, Connecticut\, 06039
CATEGORIES:Athletic Games
END:VEVENT
END:VCALENDAR