BEGIN:VCALENDAR
VERSION:2.0
PRODID:-//The Ethel Walker School - ECPv6.15.12//NONSGML v1.0//EN
CALSCALE:GREGORIAN
METHOD:PUBLISH
X-WR-CALNAME:The Ethel Walker School
X-ORIGINAL-URL:https://www.ethelwalker.org
X-WR-CALDESC:Events for The Ethel Walker School
REFRESH-INTERVAL;VALUE=DURATION:PT1H
X-Robots-Tag:noindex
X-PUBLISHED-TTL:PT1H
BEGIN:VTIMEZONE
TZID:America/New_York
BEGIN:DAYLIGHT
TZOFFSETFROM:-0500
TZOFFSETTO:-0400
TZNAME:EDT
DTSTART:20240310T070000
END:DAYLIGHT
BEGIN:STANDARD
TZOFFSETFROM:-0400
TZOFFSETTO:-0500
TZNAME:EST
DTSTART:20241103T060000
END:STANDARD
BEGIN:DAYLIGHT
TZOFFSETFROM:-0500
TZOFFSETTO:-0400
TZNAME:EDT
DTSTART:20250309T070000
END:DAYLIGHT
BEGIN:STANDARD
TZOFFSETFROM:-0400
TZOFFSETTO:-0500
TZNAME:EST
DTSTART:20251102T060000
END:STANDARD
BEGIN:DAYLIGHT
TZOFFSETFROM:-0500
TZOFFSETTO:-0400
TZNAME:EDT
DTSTART:20260308T070000
END:DAYLIGHT
BEGIN:STANDARD
TZOFFSETFROM:-0400
TZOFFSETTO:-0500
TZNAME:EST
DTSTART:20261101T060000
END:STANDARD
END:VTIMEZONE
BEGIN:VEVENT
DTSTART;TZID=America/New_York:20250406T090000
DTEND;TZID=America/New_York:20250406T113000
DTSTAMP:20260422T025132
CREATED:20240723T185821Z
LAST-MODIFIED:20240723T190725Z
UID:10004171-1743930000-1743939000@www.ethelwalker.org
SUMMARY:Summit Test Prep Class
DESCRIPTION:
URL:https://www.ethelwalker.org/event/summit-test-prep-class-2/2025-04-06/
LOCATION:Connecticut
CATEGORIES:College Counseling,Upper School
ORGANIZER;CN="Bethany Davis%2C College Counseling and Testing Coordinator":MAILTO:bdavis@ethelwalker.org
END:VEVENT
BEGIN:VEVENT
DTSTART;TZID=America/New_York:20250407T164500
DTEND;TZID=America/New_York:20250407T181500
DTSTAMP:20260422T025132
CREATED:20250302T181651Z
LAST-MODIFIED:20250420T184535Z
UID:10004467-1744044300-1744049700@www.ethelwalker.org
SUMMARY:Varsity Lacrosse vs. Loomis Chaffee School
DESCRIPTION:
URL:https://www.ethelwalker.org/event/varsity-lacrosse-vs-loomis-chaffee-school/
LOCATION:The Ethel Walker School JV/Varsity Lacrosse Fields\, 96 Sand Hill Road\, Simsbury\, Connecticut\, 06070\, United States
CATEGORIES:Athletic Games
END:VEVENT
BEGIN:VEVENT
DTSTART;TZID=America/New_York:20250407T164500
DTEND;TZID=America/New_York:20250407T184500
DTSTAMP:20260422T025132
CREATED:20250224T192123Z
LAST-MODIFIED:20250407T162456Z
UID:10004435-1744044300-1744051500@www.ethelwalker.org
SUMMARY:Varsity Softball vs. Suffield Academy
DESCRIPTION:
URL:https://www.ethelwalker.org/event/varsity-softball-vs-suffield-academy-2/
LOCATION:The Ethel Walker School\, 230 Bushy Hill Road\, Simsbury\, 06070\, United States
CATEGORIES:Athletic Games
END:VEVENT
BEGIN:VEVENT
DTSTART;TZID=America/New_York:20250408T000000
DTEND;TZID=America/New_York:20250411T235959
DTSTAMP:20260422T025132
CREATED:20240614T160940Z
LAST-MODIFIED:20250107T183225Z
UID:10004109-1744070400-1744415999@www.ethelwalker.org
SUMMARY:Visiting Writer Rachel Zucker
DESCRIPTION:
URL:https://www.ethelwalker.org/event/visiting-writer-4/
LOCATION:Connecticut
CATEGORIES:Academics
END:VEVENT
BEGIN:VEVENT
DTSTART;TZID=America/New_York:20250409T140000
DTEND;TZID=America/New_York:20250409T170000
DTSTAMP:20260422T025132
CREATED:20250311T173845Z
LAST-MODIFIED:20250411T142129Z
UID:10004486-1744207200-1744218000@www.ethelwalker.org
SUMMARY:Varsity Golf vs. Westminster School
DESCRIPTION:
URL:https://www.ethelwalker.org/event/varsity-golf-vs-westminster-school-2/
LOCATION:Simsbury Farms Golf Course\, 100 Old Farms Road\, Simsbury\, CT\, 06070\, United States
CATEGORIES:Athletic Games
END:VEVENT
BEGIN:VEVENT
DTSTART;TZID=America/New_York:20250409T140000
DTEND;TZID=America/New_York:20250409T170000
DTSTAMP:20260422T025132
CREATED:20250311T174447Z
LAST-MODIFIED:20250411T142353Z
UID:10004487-1744207200-1744218000@www.ethelwalker.org
SUMMARY:Varsity Golf vs. Loomis Chaffee School
DESCRIPTION:
URL:https://www.ethelwalker.org/event/varsity-golf-vs-loomis-chaffee-school/
LOCATION:Simsbury Farms Golf Course\, 100 Old Farms Road\, Simsbury\, CT\, 06070\, United States
CATEGORIES:Athletic Games
END:VEVENT
BEGIN:VEVENT
DTSTART;TZID=America/New_York:20250409T150000
DTEND;TZID=America/New_York:20250409T161500
DTSTAMP:20260422T025132
CREATED:20250224T161800Z
LAST-MODIFIED:20250411T143832Z
UID:10004423-1744210800-1744215300@www.ethelwalker.org
SUMMARY:Middle School Lacrosse @ Rectory School
DESCRIPTION:
URL:https://www.ethelwalker.org/event/middle-school-lacrosse-rectory-school/
LOCATION:The Rectory School\, 528 Pomfret Street\, Pomfret\, Connecticut\, 06258\, United States
CATEGORIES:Athletic Games
END:VEVENT
BEGIN:VEVENT
DTSTART;TZID=America/New_York:20250409T150000
DTEND;TZID=America/New_York:20250409T163000
DTSTAMP:20260422T025132
CREATED:20250302T181849Z
LAST-MODIFIED:20250420T184437Z
UID:10004468-1744210800-1744216200@www.ethelwalker.org
SUMMARY:Varsity Lacrosse @ Wilbraham & Monson Academy
DESCRIPTION:
URL:https://www.ethelwalker.org/event/varsity-lacrosse-wilbraham-monsonacademy/
LOCATION:Wilbraham & Monson Academy\, 423 Main St\, Wilbraham\, Massachusetts\, 01095
CATEGORIES:Athletic Games
END:VEVENT
BEGIN:VEVENT
DTSTART;TZID=America/New_York:20250409T150000
DTEND;TZID=America/New_York:20250409T170000
DTSTAMP:20260422T025132
CREATED:20250224T192244Z
LAST-MODIFIED:20250224T192316Z
UID:10004436-1744210800-1744218000@www.ethelwalker.org
SUMMARY:Varsity Softball @ Kingswood Oxford School
DESCRIPTION:
URL:https://www.ethelwalker.org/event/varsity-softball-kingswood-oxford-school-2/
LOCATION:Kingswood Oxford School\, 170 Kingswood Road\, West Hartford\, Connecticut\, 06119
CATEGORIES:Athletic Games
END:VEVENT
BEGIN:VEVENT
DTSTART;TZID=America/New_York:20250409T153000
DTEND;TZID=America/New_York:20250409T170000
DTSTAMP:20260422T025132
CREATED:20250226T194251Z
LAST-MODIFIED:20250416T162412Z
UID:10004450-1744212600-1744218000@www.ethelwalker.org
SUMMARY:Varsity Tennis vs. Choate Rosemary Hall
DESCRIPTION:
URL:https://www.ethelwalker.org/event/varsity-tennis-vs-choate-rosemary-hall/
LOCATION:The Ethel Walker School\, 230 Bushy Hill Road\, Simsbury\, 06070\, United States
CATEGORIES:Athletic Games
END:VEVENT
BEGIN:VEVENT
DTSTART;TZID=America/New_York:20250409T190000
DTEND;TZID=America/New_York:20250409T203000
DTSTAMP:20260422T025132
CREATED:20241125T183407Z
LAST-MODIFIED:20241125T183408Z
UID:10004400-1744225200-1744230600@www.ethelwalker.org
SUMMARY:SMARTTRACK® College Financing Webinar
DESCRIPTION:
URL:https://www.ethelwalker.org/event/smarttrack-college-financing-webinar-4/
LOCATION:Connecticut
CATEGORIES:College Counseling
ORGANIZER;CN="Clarissa Basch%2C Director of College Counseling":MAILTO:cbasch@ethelwalker.org
END:VEVENT
BEGIN:VEVENT
DTSTART;TZID=America/New_York:20250410T163000
DTEND;TZID=America/New_York:20250410T174500
DTSTAMP:20260422T025132
CREATED:20250224T161940Z
LAST-MODIFIED:20250411T143806Z
UID:10004424-1744302600-1744307100@www.ethelwalker.org
SUMMARY:Middle School Lacrosse vs. Renbrook School
DESCRIPTION:
URL:https://www.ethelwalker.org/event/middle-school-lacrosse-vs-renbrook-school-3/
LOCATION:The Ethel Walker School JV/Varsity Lacrosse Fields\, 96 Sand Hill Road\, Simsbury\, Connecticut\, 06070\, United States
CATEGORIES:Athletic Games
END:VEVENT
BEGIN:VEVENT
DTSTART;TZID=America/New_York:20250410T190000
DTEND;TZID=America/New_York:20250410T203000
DTSTAMP:20260422T025132
CREATED:20250120T191256Z
LAST-MODIFIED:20250329T204233Z
UID:10004411-1744311600-1744317000@www.ethelwalker.org
SUMMARY:Reading and Book Signing with Rachel Zucker
DESCRIPTION:We welcome the Walker’s community\, as well as the general public\, to attend a reading and book signing with our Spring 2025 Visiting Writer Rachel Zucker on Thursday\, April 10 at 7:00 p.m. in Ferguson Theatre. This event is best suited for visitors aged 13 and older. \n\n\n\nRachel Zucker is the author of ten books\, including The Poetics of Wrongness (2023)\, SoundMachine (2019)\, The Pedestrians (2014)\, and Museum of Accidents (2009)\, a finalist for the National Book Critics Circle Award. She is the founder and host of the Commonplace podcast and Directrix of the Commonplace School for Embodied Poetics. A Yale and Iowa Writers’ Workshop graduate\, Zucker has taught creative writing for 29 years\, serving as an adjunct professor at NYU for the past 15. In 2016\, she was a Bagley Wright Lecturer\, delivering talks on poetry\, photography\, confessionalism\, motherhood\, and ethics in art. Her honors include a 2012 NEA Creative Writing Fellowship\, a 2016 Sustainable Arts Fellowship\, and residencies at MacDowell and Vermont Studio Center (2018). \n\n\n\nThe Ethel Walker School’s Visiting Writer Seminar is a semester-long course in which students have the rare and special opportunity to immerse themselves in a study of one writer’s works\, something few students of English at the undergraduate and graduate levels experience. Throughout the semester\, students read a critical mass of texts by that writer\, developing a deep and abiding knowledge of that writer’s style\, form(s)\, and ideas. The course culminates with a visit by the author to Walker’s. Through master classes\, writing workshops\, and readings to the community\, students are invited to ask the questions that only the author can answer. At the end of each semester\, students in the Visiting Writer Seminar collaborate on a final project in which they conceptualize\, layout\, design\, and publish a class anthology of works\, inspired by the writings of the visiting writer.
URL:https://www.ethelwalker.org/event/reading-and-book-signing-with-rachel-zucker/
LOCATION:Ferguson Theatre\, 230 Bushy Hill Road\, Simsbury\, Connecticut\, 06070\, United States
CATEGORIES:Academics,Parent Events,Upper School
END:VEVENT
BEGIN:VEVENT
DTSTART;TZID=America/New_York:20250411T161500
DTEND;TZID=America/New_York:20250411T173000
DTSTAMP:20260422T025132
CREATED:20250224T160246Z
LAST-MODIFIED:20250425T135536Z
UID:10004416-1744388100-1744392600@www.ethelwalker.org
SUMMARY:JV Lacrosse vs. Indian Mountain School
DESCRIPTION:
URL:https://www.ethelwalker.org/event/jv-lacrosse-vs-indian-mountain-school/
LOCATION:The Ethel Walker School JV/Varsity Lacrosse Fields\, 96 Sand Hill Road\, Simsbury\, Connecticut\, 06070\, United States
CATEGORIES:Athletic Games
END:VEVENT
BEGIN:VEVENT
DTSTART;TZID=America/New_York:20250411T181500
DTEND;TZID=America/New_York:20250411T193000
DTSTAMP:20260422T025132
CREATED:20250302T182035Z
LAST-MODIFIED:20250420T184729Z
UID:10004469-1744395300-1744399800@www.ethelwalker.org
SUMMARY:Varsity Lacrosse @ The Taft School
DESCRIPTION:
URL:https://www.ethelwalker.org/event/varsity-lacrosse-the-taft-school/
LOCATION:The Taft School\, 110 Woodbury Road\, Watertown\, Connecticut\, 06795\, United States
CATEGORIES:Athletic Games
END:VEVENT
BEGIN:VEVENT
DTSTART;TZID=America/New_York:20250412T130000
DTEND;TZID=America/New_York:20250412T160000
DTSTAMP:20260422T025132
CREATED:20250311T133629Z
LAST-MODIFIED:20250411T191124Z
UID:10004483-1744462800-1744473600@www.ethelwalker.org
SUMMARY:Varsity Golf vs. Kingswood Oxford School
DESCRIPTION:
URL:https://www.ethelwalker.org/event/varsity-golf-vs-kingswood-oxford-school/
LOCATION:Southampton Country Club\, 329 College Hwy\, Southampton\, Massachusetts\, 01073\, United States
CATEGORIES:Athletic Games
END:VEVENT
BEGIN:VEVENT
DTSTART;TZID=America/New_York:20250412T143000
DTEND;TZID=America/New_York:20250412T154500
DTSTAMP:20260422T025132
CREATED:20250224T160427Z
LAST-MODIFIED:20250411T175536Z
UID:10004417-1744468200-1744472700@www.ethelwalker.org
SUMMARY:JV Lacrosse @ The Taft School
DESCRIPTION:
URL:https://www.ethelwalker.org/event/jv-lacrosse-taft-school/
LOCATION:The Taft School\, 110 Woodbury Road\, Watertown\, Connecticut\, 06795\, United States
CATEGORIES:Athletic Games
END:VEVENT
BEGIN:VEVENT
DTSTART;TZID=America/New_York:20250412T150000
DTEND;TZID=America/New_York:20250412T163000
DTSTAMP:20260422T025132
CREATED:20250226T194451Z
LAST-MODIFIED:20250414T120700Z
UID:10004451-1744470000-1744475400@www.ethelwalker.org
SUMMARY:Varsity Tennis @ Berkshire School
DESCRIPTION:
URL:https://www.ethelwalker.org/event/varsity-tennis-berkshire-school-2/
LOCATION:Berkshire School\, 245 North Undermountain Road\, Sheffield\, Massachusetts\, 01257
CATEGORIES:Athletic Games
END:VEVENT
END:VCALENDAR