BEGIN:VCALENDAR
VERSION:2.0
PRODID:-//The Ethel Walker School - ECPv6.15.12//NONSGML v1.0//EN
CALSCALE:GREGORIAN
METHOD:PUBLISH
X-WR-CALNAME:The Ethel Walker School
X-ORIGINAL-URL:https://www.ethelwalker.org
X-WR-CALDESC:Events for The Ethel Walker School
REFRESH-INTERVAL;VALUE=DURATION:PT1H
X-Robots-Tag:noindex
X-PUBLISHED-TTL:PT1H
BEGIN:VTIMEZONE
TZID:America/New_York
BEGIN:DAYLIGHT
TZOFFSETFROM:-0500
TZOFFSETTO:-0400
TZNAME:EDT
DTSTART:20240310T070000
END:DAYLIGHT
BEGIN:STANDARD
TZOFFSETFROM:-0400
TZOFFSETTO:-0500
TZNAME:EST
DTSTART:20241103T060000
END:STANDARD
BEGIN:DAYLIGHT
TZOFFSETFROM:-0500
TZOFFSETTO:-0400
TZNAME:EDT
DTSTART:20250309T070000
END:DAYLIGHT
BEGIN:STANDARD
TZOFFSETFROM:-0400
TZOFFSETTO:-0500
TZNAME:EST
DTSTART:20251102T060000
END:STANDARD
BEGIN:DAYLIGHT
TZOFFSETFROM:-0500
TZOFFSETTO:-0400
TZNAME:EDT
DTSTART:20260308T070000
END:DAYLIGHT
BEGIN:STANDARD
TZOFFSETFROM:-0400
TZOFFSETTO:-0500
TZNAME:EST
DTSTART:20261101T060000
END:STANDARD
END:VTIMEZONE
BEGIN:VEVENT
DTSTART;TZID=America/New_York:20250831T000000
DTEND;TZID=America/New_York:20250831T235900
DTSTAMP:20260423T100100
CREATED:20250625T194814Z
LAST-MODIFIED:20250829T125511Z
UID:10004522-1756598400-1756684740@www.ethelwalker.org
SUMMARY:Orientation
DESCRIPTION:
URL:https://www.ethelwalker.org/event/orientation-and-opening-chapel/
LOCATION:Connecticut
CATEGORIES:All-School Events,Middle School,Student Life,Upper School
END:VEVENT
BEGIN:VEVENT
DTSTART;TZID=America/New_York:20250831T173000
DTEND;TZID=America/New_York:20250831T190000
DTSTAMP:20260423T100100
CREATED:20250829T125743Z
LAST-MODIFIED:20250829T125823Z
UID:10004714-1756661400-1756666800@www.ethelwalker.org
SUMMARY:Opening Chapel and Banquet (R/All)
DESCRIPTION:
URL:https://www.ethelwalker.org/event/opening-chapel-and-banquet-r-all/
LOCATION:Connecticut
CATEGORIES:All-School Events,Middle School,Upper School
END:VEVENT
BEGIN:VEVENT
DTSTART;TZID=America/New_York:20250901T000000
DTEND;TZID=America/New_York:20250901T235959
DTSTAMP:20260423T100100
CREATED:20250625T195059Z
LAST-MODIFIED:20250625T195100Z
UID:10004523-1756684800-1756771199@www.ethelwalker.org
SUMMARY:Orientation
DESCRIPTION:
URL:https://www.ethelwalker.org/event/orientation/
LOCATION:Connecticut
END:VEVENT
BEGIN:VEVENT
DTSTART;TZID=America/New_York:20250901T090000
DTEND;TZID=America/New_York:20250901T150000
DTSTAMP:20260423T100100
CREATED:20250812T170211Z
LAST-MODIFIED:20250812T170213Z
UID:10004701-1756717200-1756738800@www.ethelwalker.org
SUMMARY:8th Grade Retreat
DESCRIPTION:
URL:https://www.ethelwalker.org/event/8th-grade-retreat-2/
LOCATION:Connecticut
CATEGORIES:Middle School,Student Life
END:VEVENT
BEGIN:VEVENT
DTSTART;TZID=America/New_York:20250902T000000
DTEND;TZID=America/New_York:20250902T235959
DTSTAMP:20260423T100100
CREATED:20250625T200028Z
LAST-MODIFIED:20250626T125117Z
UID:10004525-1756771200-1756857599@www.ethelwalker.org
SUMMARY:First Day of Classes
DESCRIPTION:
URL:https://www.ethelwalker.org/event/first-day-of-classes-4/
LOCATION:Connecticut
CATEGORIES:Academics,All-School Events,Faculty,Middle School,Student Life,Upper School
END:VEVENT
BEGIN:VEVENT
DTSTART;TZID=America/New_York:20250905T170000
DTEND;TZID=America/New_York:20250905T190000
DTSTAMP:20260423T100100
CREATED:20250828T174019Z
LAST-MODIFIED:20250828T174020Z
UID:10004712-1757091600-1757098800@www.ethelwalker.org
SUMMARY:All-School Assembly (R/All)
DESCRIPTION:
URL:https://www.ethelwalker.org/event/all-school-assembly-r-all/
LOCATION:Connecticut
END:VEVENT
BEGIN:VEVENT
DTSTART;TZID=America/New_York:20250906T090000
DTEND;TZID=America/New_York:20250906T114500
DTSTAMP:20260423T100100
CREATED:20250901T153553Z
LAST-MODIFIED:20250901T153653Z
UID:10004716-1757149200-1757159100@www.ethelwalker.org
SUMMARY:Varsity Soccer @ Suffield Academy Jamboree
DESCRIPTION:Jamboree
URL:https://www.ethelwalker.org/event/varsity-soccer-suffield-academy-4/
LOCATION:Suffield Academy\, 185 North Main Street\, Suffield\, Connecticut
CATEGORIES:Athletic Games
END:VEVENT
END:VCALENDAR