BEGIN:VCALENDAR
VERSION:2.0
PRODID:-//The Ethel Walker School - ECPv6.15.12//NONSGML v1.0//EN
CALSCALE:GREGORIAN
METHOD:PUBLISH
X-ORIGINAL-URL:https://www.ethelwalker.org
X-WR-CALDESC:Events for The Ethel Walker School
REFRESH-INTERVAL;VALUE=DURATION:PT1H
X-Robots-Tag:noindex
X-PUBLISHED-TTL:PT1H
BEGIN:VTIMEZONE
TZID:America/New_York
BEGIN:DAYLIGHT
TZOFFSETFROM:-0500
TZOFFSETTO:-0400
TZNAME:EDT
DTSTART:20240310T070000
END:DAYLIGHT
BEGIN:STANDARD
TZOFFSETFROM:-0400
TZOFFSETTO:-0500
TZNAME:EST
DTSTART:20241103T060000
END:STANDARD
BEGIN:DAYLIGHT
TZOFFSETFROM:-0500
TZOFFSETTO:-0400
TZNAME:EDT
DTSTART:20250309T070000
END:DAYLIGHT
BEGIN:STANDARD
TZOFFSETFROM:-0400
TZOFFSETTO:-0500
TZNAME:EST
DTSTART:20251102T060000
END:STANDARD
BEGIN:DAYLIGHT
TZOFFSETFROM:-0500
TZOFFSETTO:-0400
TZNAME:EDT
DTSTART:20260308T070000
END:DAYLIGHT
BEGIN:STANDARD
TZOFFSETFROM:-0400
TZOFFSETTO:-0500
TZNAME:EST
DTSTART:20261101T060000
END:STANDARD
END:VTIMEZONE
BEGIN:VEVENT
DTSTART;TZID=America/New_York:20250922T161500
DTEND;TZID=America/New_York:20250922T173000
DTSTAMP:20260421T113555
CREATED:20250729T163426Z
LAST-MODIFIED:20251016T151906Z
UID:10004621-1758557700-1758562200@www.ethelwalker.org
SUMMARY:JV Field Hockey vs. Simsbury Sparks
DESCRIPTION:
URL:https://www.ethelwalker.org/event/jv-field-hockey-vs-simsbury-sparks-2/
LOCATION:The Ethel Walker School Turf Fields\, 96 Sand Hill Road\, Simsbury\, Connecticut\, 06070
CATEGORIES:Athletic Games
END:VEVENT
BEGIN:VEVENT
DTSTART;TZID=America/New_York:20250922T163000
DTEND;TZID=America/New_York:20250922T173000
DTSTAMP:20260421T113555
CREATED:20250729T193202Z
LAST-MODIFIED:20250923T141221Z
UID:10004657-1758558600-1758562200@www.ethelwalker.org
SUMMARY:Middle School Soccer vs. Renbrook School
DESCRIPTION:
URL:https://www.ethelwalker.org/event/middle-school-soccer-vs-renbrook-school-5/
LOCATION:The Ethel Walker School JV/Varsity Soccer Fields\, 96 Sand Hill Road\, Simsbury\, Connecticut\, 06070\, United States
CATEGORIES:Athletic Games
END:VEVENT
BEGIN:VEVENT
DTSTART;TZID=America/New_York:20250924T143000
DTEND;TZID=America/New_York:20250924T160000
DTSTAMP:20260421T113555
CREATED:20250730T121334Z
LAST-MODIFIED:20250925T172320Z
UID:10004667-1758724200-1758729600@www.ethelwalker.org
SUMMARY:Varsity Volleyball vs. Westminster School
DESCRIPTION:
URL:https://www.ethelwalker.org/event/varsity-volleyball-westminster-school/
LOCATION:The Ethel Walker School\, 230 Bushy Hill Road\, Simsbury\, 06070\, United States
CATEGORIES:Athletic Games
END:VEVENT
BEGIN:VEVENT
DTSTART;TZID=America/New_York:20250924T144500
DTEND;TZID=America/New_York:20250924T161500
DTSTAMP:20260421T113555
CREATED:20250730T125122Z
LAST-MODIFIED:20250925T171709Z
UID:10004681-1758725100-1758730500@www.ethelwalker.org
SUMMARY:JV Volleyball vs. Kingswood Oxford School
DESCRIPTION:
URL:https://www.ethelwalker.org/event/jv-volleyball-vs-kingswood-oxford-school-3/
LOCATION:The Ethel Walker School\, 230 Bushy Hill Road\, Simsbury\, 06070\, United States
CATEGORIES:Athletic Games
END:VEVENT
BEGIN:VEVENT
DTSTART;TZID=America/New_York:20250924T160000
DTEND;TZID=America/New_York:20250924T171500
DTSTAMP:20260421T113555
CREATED:20250729T144105Z
LAST-MODIFIED:20250928T145315Z
UID:10004603-1758729600-1758734100@www.ethelwalker.org
SUMMARY:Varsity Field Hockey @ King School
DESCRIPTION:
URL:https://www.ethelwalker.org/event/varsity-field-hockey-2/
LOCATION:King School\, 1450 Newfield Avenue\, Stamford\, Connecticut\, 06905\, United States
CATEGORIES:Athletic Games
END:VEVENT
BEGIN:VEVENT
DTSTART;TZID=America/New_York:20250924T160000
DTEND;TZID=America/New_York:20250924T173000
DTSTAMP:20260421T113555
CREATED:20250729T181108Z
LAST-MODIFIED:20250925T171829Z
UID:10004630-1758729600-1758735000@www.ethelwalker.org
SUMMARY:Varsity Soccer @ Berkshire School
DESCRIPTION:
URL:https://www.ethelwalker.org/event/varsity-soccer-berkshire-school-3/
LOCATION:Berkshire School\, 245 North Undermountain Road\, Sheffield\, Massachusetts\, 01257
CATEGORIES:Athletic Games
END:VEVENT
BEGIN:VEVENT
DTSTART;TZID=America/New_York:20250926T161500
DTEND;TZID=America/New_York:20250926T171500
DTSTAMP:20260421T113555
CREATED:20250730T125320Z
LAST-MODIFIED:20250928T143252Z
UID:10004682-1758903300-1758906900@www.ethelwalker.org
SUMMARY:JV Volleyball vs. Rectory School
DESCRIPTION:Playday
URL:https://www.ethelwalker.org/event/jv-volleyball-vs-rectory-school-4/
LOCATION:The Ethel Walker School\, 230 Bushy Hill Road\, Simsbury\, 06070\, United States
CATEGORIES:Athletic Games
END:VEVENT
BEGIN:VEVENT
DTSTART;TZID=America/New_York:20250926T163000
DTEND;TZID=America/New_York:20250926T173000
DTSTAMP:20260421T113555
CREATED:20250902T165915Z
LAST-MODIFIED:20251016T152240Z
UID:10004718-1758904200-1758907800@www.ethelwalker.org
SUMMARY:JV Field Hockey vs. Dutchess Day School
DESCRIPTION:
URL:https://www.ethelwalker.org/event/jv-field-hockey-vs-dutchess-day-school/
LOCATION:The Ethel Walker School Turf Fields\, 96 Sand Hill Road\, Simsbury\, Connecticut\, 06070
CATEGORIES:Athletic Games
END:VEVENT
BEGIN:VEVENT
DTSTART;TZID=America/New_York:20250926T170000
DTEND;TZID=America/New_York:20250926T183000
DTSTAMP:20260421T113555
CREATED:20250730T121511Z
LAST-MODIFIED:20250929T192350Z
UID:10004668-1758906000-1758911400@www.ethelwalker.org
SUMMARY:Varsity Volleyball @ Kingswood Oxford School
DESCRIPTION:
URL:https://www.ethelwalker.org/event/varsity-volleyball-kingswood-oxford-school-2/
LOCATION:The Ethel Walker School\, 230 Bushy Hill Road\, Simsbury\, 06070\, United States
CATEGORIES:Athletic Games
END:VEVENT
BEGIN:VEVENT
DTSTART;TZID=America/New_York:20250926T173000
DTEND;TZID=America/New_York:20250926T180000
DTSTAMP:20260421T113555
CREATED:20250730T125540Z
LAST-MODIFIED:20250928T143826Z
UID:10004683-1758907800-1758909600@www.ethelwalker.org
SUMMARY:JV Volleyball vs. Rumsey Hall School
DESCRIPTION:Playday
URL:https://www.ethelwalker.org/event/jv-volleyball-vs-rumsey-hall-school-3/
LOCATION:The Ethel Walker School\, 230 Bushy Hill Road\, Simsbury\, 06070\, United States
CATEGORIES:Athletic Games
END:VEVENT
BEGIN:VEVENT
DTSTART;TZID=America/New_York:20250927T120000
DTEND;TZID=America/New_York:20250927T150000
DTSTAMP:20260421T113555
CREATED:20250730T133745Z
LAST-MODIFIED:20250929T140407Z
UID:10004696-1758974400-1758985200@www.ethelwalker.org
SUMMARY:Cross Country @ Cheshire Academy
DESCRIPTION:
URL:https://www.ethelwalker.org/event/cross-country-cheshire-academy-2/
LOCATION:Cheshire Academy\, 10 Main Street\, Cheshire\, Connecticut\, 06410
CATEGORIES:Athletic Games
END:VEVENT
BEGIN:VEVENT
DTSTART;TZID=America/New_York:20250927T143000
DTEND;TZID=America/New_York:20250927T160000
DTSTAMP:20260421T113555
CREATED:20250729T181308Z
LAST-MODIFIED:20250930T141219Z
UID:10004631-1758983400-1758988800@www.ethelwalker.org
SUMMARY:Varsity Soccer vs. Greenwich Country Day School
DESCRIPTION:
URL:https://www.ethelwalker.org/event/varsity-soccer-vs-greenwich-country-day-school/
LOCATION:The Ethel Walker School JV/Varsity Soccer Fields\, 96 Sand Hill Road\, Simsbury\, Connecticut\, 06070\, United States
CATEGORIES:Athletic Games
END:VEVENT
BEGIN:VEVENT
DTSTART;TZID=America/New_York:20250927T150000
DTEND;TZID=America/New_York:20250927T161500
DTSTAMP:20260421T113555
CREATED:20250729T144242Z
LAST-MODIFIED:20250928T145225Z
UID:10004604-1758985200-1758989700@www.ethelwalker.org
SUMMARY:Varsity Field Hockey vs. Greens Farms Academy
DESCRIPTION:
URL:https://www.ethelwalker.org/event/varsity-field-hockey-vs-greens-farms-academy-3/
LOCATION:The Ethel Walker School Turf Fields\, 96 Sand Hill Road\, Simsbury\, Connecticut\, 06070
CATEGORIES:Athletic Games
END:VEVENT
BEGIN:VEVENT
DTSTART;TZID=America/New_York:20250927T150000
DTEND;TZID=America/New_York:20250927T163000
DTSTAMP:20260421T113555
CREATED:20250730T121658Z
LAST-MODIFIED:20251001T161609Z
UID:10004669-1758985200-1758990600@www.ethelwalker.org
SUMMARY:Varsity Volleyball @ The Hotchkiss School
DESCRIPTION:
URL:https://www.ethelwalker.org/event/varsity-volleyball-the-hotchkiss-school/
LOCATION:The Hotchkiss School\, 11 Interlaken Road\, Lakeville\, Connecticut\, 06039
CATEGORIES:Athletic Games
END:VEVENT
BEGIN:VEVENT
DTSTART;TZID=America/New_York:20250927T150000
DTEND;TZID=America/New_York:20250927T163000
DTSTAMP:20260421T113555
CREATED:20250730T125656Z
LAST-MODIFIED:20250928T143904Z
UID:10004684-1758985200-1758990600@www.ethelwalker.org
SUMMARY:JV Volleyball @ The Hotchkiss School
DESCRIPTION:
URL:https://www.ethelwalker.org/event/jv-volleyball-the-hotchkiss-school-2/
LOCATION:The Hotchkiss School\, 11 Interlaken Road\, Lakeville\, Connecticut\, 06039
CATEGORIES:Athletic Games
END:VEVENT
END:VCALENDAR