BEGIN:VCALENDAR
VERSION:2.0
PRODID:-//The Ethel Walker School - ECPv6.15.12//NONSGML v1.0//EN
CALSCALE:GREGORIAN
METHOD:PUBLISH
X-WR-CALNAME:The Ethel Walker School
X-ORIGINAL-URL:https://www.ethelwalker.org
X-WR-CALDESC:Events for The Ethel Walker School
REFRESH-INTERVAL;VALUE=DURATION:PT1H
X-Robots-Tag:noindex
X-PUBLISHED-TTL:PT1H
BEGIN:VTIMEZONE
TZID:America/New_York
BEGIN:DAYLIGHT
TZOFFSETFROM:-0500
TZOFFSETTO:-0400
TZNAME:EDT
DTSTART:20240310T070000
END:DAYLIGHT
BEGIN:STANDARD
TZOFFSETFROM:-0400
TZOFFSETTO:-0500
TZNAME:EST
DTSTART:20241103T060000
END:STANDARD
BEGIN:DAYLIGHT
TZOFFSETFROM:-0500
TZOFFSETTO:-0400
TZNAME:EDT
DTSTART:20250309T070000
END:DAYLIGHT
BEGIN:STANDARD
TZOFFSETFROM:-0400
TZOFFSETTO:-0500
TZNAME:EST
DTSTART:20251102T060000
END:STANDARD
BEGIN:DAYLIGHT
TZOFFSETFROM:-0500
TZOFFSETTO:-0400
TZNAME:EDT
DTSTART:20260308T070000
END:DAYLIGHT
BEGIN:STANDARD
TZOFFSETFROM:-0400
TZOFFSETTO:-0500
TZNAME:EST
DTSTART:20261101T060000
END:STANDARD
END:VTIMEZONE
BEGIN:VEVENT
DTSTART;TZID=America/New_York:20251019T000000
DTEND;TZID=America/New_York:20251021T235959
DTSTAMP:20260421T123147
CREATED:20250626T130504Z
LAST-MODIFIED:20250626T153822Z
UID:10004533-1760832000-1761091199@www.ethelwalker.org
SUMMARY:Long Fall Weekend
DESCRIPTION:
URL:https://www.ethelwalker.org/event/long-fall-weekend/
LOCATION:Connecticut
CATEGORIES:All-School Events,Middle School,School Breaks,Upper School
END:VEVENT
BEGIN:VEVENT
DTSTART;TZID=America/New_York:20251021T150000
DTEND;TZID=America/New_York:20251021T150000
DTSTAMP:20260421T123147
CREATED:20250626T130655Z
LAST-MODIFIED:20250626T130657Z
UID:10004534-1761058800-1761058800@www.ethelwalker.org
SUMMARY:Dorms Open at 3:00 p.m.
DESCRIPTION:
URL:https://www.ethelwalker.org/event/dorms-open-at-300-p-m/
LOCATION:Connecticut
CATEGORIES:Middle School,Student Life,Upper School
END:VEVENT
BEGIN:VEVENT
DTSTART;TZID=America/New_York:20251022T000000
DTEND;TZID=America/New_York:20251022T235959
DTSTAMP:20260421T123147
CREATED:20250710T142929Z
LAST-MODIFIED:20250901T191442Z
UID:10004589-1761091200-1761177599@www.ethelwalker.org
SUMMARY:Bonz Lecture
DESCRIPTION:
URL:https://www.ethelwalker.org/event/bonz-lecture/
LOCATION:Connecticut
CATEGORIES:All-School Events
END:VEVENT
BEGIN:VEVENT
DTSTART;TZID=America/New_York:20251022T143000
DTEND;TZID=America/New_York:20251022T153000
DTSTAMP:20260421T123147
CREATED:20250730T131221Z
LAST-MODIFIED:20251024T134351Z
UID:10004691-1761143400-1761147000@www.ethelwalker.org
SUMMARY:JV Volleyball vs. Kent School
DESCRIPTION:
URL:https://www.ethelwalker.org/event/jv-volleyball-vs-kent-school-2/
LOCATION:The Ethel Walker School\, 230 Bushy Hill Road\, Simsbury\, 06070\, United States
CATEGORIES:Athletic Games
END:VEVENT
BEGIN:VEVENT
DTSTART;TZID=America/New_York:20251022T143000
DTEND;TZID=America/New_York:20251022T154500
DTSTAMP:20260421T123147
CREATED:20250729T151321Z
LAST-MODIFIED:20251027T142043Z
UID:10004615-1761143400-1761147900@www.ethelwalker.org
SUMMARY:Varsity Field Hockey @ The Taft School
DESCRIPTION:
URL:https://www.ethelwalker.org/event/varsity-field-hockey-the-taft-school/
LOCATION:The Taft School\, 110 Woodbury Road\, Watertown\, Connecticut\, 06795\, United States
CATEGORIES:Athletic Games
END:VEVENT
BEGIN:VEVENT
DTSTART;TZID=America/New_York:20251022T143000
DTEND;TZID=America/New_York:20251022T160000
DTSTAMP:20260421T123147
CREATED:20250729T184916Z
LAST-MODIFIED:20251024T164043Z
UID:10004638-1761143400-1761148800@www.ethelwalker.org
SUMMARY:Varsity Soccer @ Westminster School
DESCRIPTION:
URL:https://www.ethelwalker.org/event/varsity-soccer-westminster-school-2/
LOCATION:Westminster School\, 995 Hopmeadow Street\, Simsbury\, Connecticut\, 06070\, United States
CATEGORIES:Athletic Games
END:VEVENT
BEGIN:VEVENT
DTSTART;TZID=America/New_York:20251022T143000
DTEND;TZID=America/New_York:20251022T160000
DTSTAMP:20260421T123147
CREATED:20250730T123232Z
LAST-MODIFIED:20251024T130303Z
UID:10004676-1761143400-1761148800@www.ethelwalker.org
SUMMARY:Varsity Volleyball vs. Kent School
DESCRIPTION:
URL:https://www.ethelwalker.org/event/varsity-volleyball-vs-kent-school-3/
LOCATION:The Ethel Walker School\, 230 Bushy Hill Road\, Simsbury\, 06070\, United States
CATEGORIES:Athletic Games
END:VEVENT
BEGIN:VEVENT
DTSTART;TZID=America/New_York:20251022T153000
DTEND;TZID=America/New_York:20251022T163000
DTSTAMP:20260421T123147
CREATED:20251006T172023Z
LAST-MODIFIED:20251024T134632Z
UID:10004741-1761147000-1761150600@www.ethelwalker.org
SUMMARY:Middle School Soccer @ Rectory School
DESCRIPTION:
URL:https://www.ethelwalker.org/event/middle-school-soccer-rectory-school-4/
LOCATION:The Rectory School\, 528 Pomfret Street\, Pomfret\, Connecticut\, 06258\, United States
CATEGORIES:Athletic Games
END:VEVENT
BEGIN:VEVENT
DTSTART;TZID=America/New_York:20251023T161500
DTEND;TZID=America/New_York:20251023T170000
DTSTAMP:20260421T123147
CREATED:20251007T144914Z
LAST-MODIFIED:20251007T144959Z
UID:10004742-1761236100-1761238800@www.ethelwalker.org
SUMMARY:JV Field Hockey vs. Canton
DESCRIPTION:
URL:https://www.ethelwalker.org/event/jv-field-hockey-vs-canton/
LOCATION:The Ethel Walker School Turf Fields\, 96 Sand Hill Road\, Simsbury\, Connecticut\, 06070
CATEGORIES:Athletic Games
END:VEVENT
BEGIN:VEVENT
DTSTART;TZID=America/New_York:20251024T000000
DTEND;TZID=America/New_York:20251024T235959
DTSTAMP:20260421T123147
CREATED:20250626T130808Z
LAST-MODIFIED:20250626T130809Z
UID:10004535-1761264000-1761350399@www.ethelwalker.org
SUMMARY:Quarter 1 Closes
DESCRIPTION:
URL:https://www.ethelwalker.org/event/quarter-1-closes/
LOCATION:Connecticut
CATEGORIES:Academics,All-School Events,Middle School,Student Life,Upper School
END:VEVENT
BEGIN:VEVENT
DTSTART;TZID=America/New_York:20251024T183000
DTEND;TZID=America/New_York:20251024T193000
DTSTAMP:20260421T123147
CREATED:20250625T192428Z
LAST-MODIFIED:20250825T184049Z
UID:10004519-1761330600-1761334200@www.ethelwalker.org
SUMMARY:Old Girl Show (R/US and MSB)
DESCRIPTION:
URL:https://www.ethelwalker.org/event/old-girl-show-2/
LOCATION:Connecticut
CATEGORIES:All-School Events,Middle School,Student Life,Upper School
ORGANIZER;CN="Nishette Isaac%2C Dean of Students":MAILTO:nisaac@ethelwalker.org
END:VEVENT
BEGIN:VEVENT
DTSTART;TZID=America/New_York:20251025T120000
DTEND;TZID=America/New_York:20251025T133000
DTSTAMP:20260421T123147
CREATED:20250730T123348Z
LAST-MODIFIED:20251027T191516Z
UID:10004677-1761393600-1761399000@www.ethelwalker.org
SUMMARY:Varsity Volleyball @ Miss Porter's School
DESCRIPTION:
URL:https://www.ethelwalker.org/event/varsity-volleyball-miss-porters-school-3/
LOCATION:Miss Porter’s School\, 60 Main Street\, Farmington\, Connecticut\, 06032
CATEGORIES:Athletic Games
END:VEVENT
BEGIN:VEVENT
DTSTART;TZID=America/New_York:20251025T133000
DTEND;TZID=America/New_York:20251025T144500
DTSTAMP:20260421T123147
CREATED:20250729T151451Z
LAST-MODIFIED:20251030T135419Z
UID:10004616-1761399000-1761403500@www.ethelwalker.org
SUMMARY:Varsity Field Hockey @ Miss Porter's School
DESCRIPTION:
URL:https://www.ethelwalker.org/event/varsity-field-hockey-miss-porters-school-3/
LOCATION:Miss Porter’s School\, 60 Main Street\, Farmington\, Connecticut\, 06032
CATEGORIES:Athletic Games
END:VEVENT
BEGIN:VEVENT
DTSTART;TZID=America/New_York:20251025T140000
DTEND;TZID=America/New_York:20251025T150000
DTSTAMP:20260421T123147
CREATED:20250730T131337Z
LAST-MODIFIED:20250730T131408Z
UID:10004692-1761400800-1761404400@www.ethelwalker.org
SUMMARY:JV Volleyball @ Miss Porter's School
DESCRIPTION:
URL:https://www.ethelwalker.org/event/jv-volleyball-miss-porters-school-3/
LOCATION:Miss Porter’s School\, 60 Main Street\, Farmington\, Connecticut\, 06032
CATEGORIES:Athletic Games
END:VEVENT
BEGIN:VEVENT
DTSTART;TZID=America/New_York:20251025T140000
DTEND;TZID=America/New_York:20251025T153000
DTSTAMP:20260421T123147
CREATED:20250729T185143Z
LAST-MODIFIED:20251027T125910Z
UID:10004639-1761400800-1761406200@www.ethelwalker.org
SUMMARY:Varsity Soccer @ Miss Porter's School
DESCRIPTION:
URL:https://www.ethelwalker.org/event/varsity-soccer-miss-porters-school-2/
LOCATION:Miss Porter’s School\, 60 Main Street\, Farmington\, Connecticut\, 06032
CATEGORIES:Athletic Games
END:VEVENT
BEGIN:VEVENT
DTSTART;TZID=America/New_York:20251025T140000
DTEND;TZID=America/New_York:20251025T153000
DTSTAMP:20260421T123147
CREATED:20250729T191811Z
LAST-MODIFIED:20251103T192236Z
UID:10004651-1761400800-1761406200@www.ethelwalker.org
SUMMARY:JV Soccer @ Miss Porter's School
DESCRIPTION:
URL:https://www.ethelwalker.org/event/jv-soccer-miss-porters-school-3/
LOCATION:Miss Porter’s School\, 60 Main Street\, Farmington\, Connecticut\, 06032
CATEGORIES:Athletic Games
END:VEVENT
BEGIN:VEVENT
DTSTART;TZID=America/New_York:20251025T140000
DTEND;TZID=America/New_York:20251025T170000
DTSTAMP:20260421T123147
CREATED:20250730T134349Z
LAST-MODIFIED:20251027T130638Z
UID:10004698-1761400800-1761411600@www.ethelwalker.org
SUMMARY:Cross Country @ The Williston Northampton School
DESCRIPTION:
URL:https://www.ethelwalker.org/event/cross-country-the-williston-northampton-school/
LOCATION:Williston Northampton School\, 19 Payson Ave\, Easthampton\, Massachusetts\, 01027\, United States
CATEGORIES:Athletic Games
END:VEVENT
END:VCALENDAR