BEGIN:VCALENDAR
VERSION:2.0
PRODID:-//The Ethel Walker School - ECPv6.15.12//NONSGML v1.0//EN
CALSCALE:GREGORIAN
METHOD:PUBLISH
X-WR-CALNAME:The Ethel Walker School
X-ORIGINAL-URL:https://www.ethelwalker.org
X-WR-CALDESC:Events for The Ethel Walker School
REFRESH-INTERVAL;VALUE=DURATION:PT1H
X-Robots-Tag:noindex
X-PUBLISHED-TTL:PT1H
BEGIN:VTIMEZONE
TZID:America/New_York
BEGIN:DAYLIGHT
TZOFFSETFROM:-0500
TZOFFSETTO:-0400
TZNAME:EDT
DTSTART:20240310T070000
END:DAYLIGHT
BEGIN:STANDARD
TZOFFSETFROM:-0400
TZOFFSETTO:-0500
TZNAME:EST
DTSTART:20241103T060000
END:STANDARD
BEGIN:DAYLIGHT
TZOFFSETFROM:-0500
TZOFFSETTO:-0400
TZNAME:EDT
DTSTART:20250309T070000
END:DAYLIGHT
BEGIN:STANDARD
TZOFFSETFROM:-0400
TZOFFSETTO:-0500
TZNAME:EST
DTSTART:20251102T060000
END:STANDARD
BEGIN:DAYLIGHT
TZOFFSETFROM:-0500
TZOFFSETTO:-0400
TZNAME:EDT
DTSTART:20260308T070000
END:DAYLIGHT
BEGIN:STANDARD
TZOFFSETFROM:-0400
TZOFFSETTO:-0500
TZNAME:EST
DTSTART:20261101T060000
END:STANDARD
END:VTIMEZONE
BEGIN:VEVENT
DTSTART;TZID=America/New_York:20251118T190000
DTEND;TZID=America/New_York:20251118T200000
DTSTAMP:20260419T125034
CREATED:20250711T174311Z
LAST-MODIFIED:20251027T152028Z
UID:10004595-1763492400-1763496000@www.ethelwalker.org
SUMMARY:Financial Aid Webinar
DESCRIPTION:Join us for an informative webinar designed to guide families through the financial aid application process at Walker’s. We’ll walk you step by step through Clarity\, our secure online financial aid application platform\, and share helpful tips to ensure a smooth and efficient experience. We’ll cover Walker’s financial aid policies\, required tax documentation\, and how to make the most of the resources available to you. This session is a valuable opportunity to get your questions answered and feel confident\, no matter where you are in the admission process. \n\n\n\n\n\n\n\n\nRegister
URL:https://www.ethelwalker.org/event/financial-aid-webinars/
LOCATION:Connecticut
CATEGORIES:Admission
ATTACH;FMTTYPE=image/jpeg:https://www.ethelwalker.org/wp-content/uploads/2025/07/11-3-22EthW15716-3-edited-1.jpg
ORGANIZER;CN="Office of Admission":MAILTO:admission@ethelwalker.org
END:VEVENT
BEGIN:VEVENT
DTSTART;TZID=America/New_York:20251119T150000
DTEND;TZID=America/New_York:20251119T163000
DTSTAMP:20260419T125034
CREATED:20251028T165141Z
LAST-MODIFIED:20260104T150054Z
UID:10004812-1763564400-1763569800@www.ethelwalker.org
SUMMARY:Varsity Basketball vs. Deerfield Academy
DESCRIPTION:Scrimmage
URL:https://www.ethelwalker.org/event/varsity-basketball-vs-deerfield-academy/
LOCATION:The Ethel Walker School\, 230 Bushy Hill Road\, Simsbury\, 06070\, United States
CATEGORIES:Athletic Games
END:VEVENT
BEGIN:VEVENT
DTSTART;TZID=America/New_York:20251120T170000
DTEND;TZID=America/New_York:20251120T190000
DTSTAMP:20260419T125034
CREATED:20250626T140317Z
LAST-MODIFIED:20251117T134913Z
UID:10004538-1763658000-1763665200@www.ethelwalker.org
SUMMARY:Thanksgiving Vespers and Banquet
DESCRIPTION:
URL:https://www.ethelwalker.org/event/thanksgiving-vespers-and-banquet-2/
LOCATION:Connecticut
CATEGORIES:All-School Events,Arts,Holidays,Upper School
END:VEVENT
BEGIN:VEVENT
DTSTART;TZID=America/New_York:20251121T150000
DTEND;TZID=America/New_York:20251121T150000
DTSTAMP:20260419T125034
CREATED:20250626T140532Z
LAST-MODIFIED:20250627T125328Z
UID:10004540-1763737200-1763737200@www.ethelwalker.org
SUMMARY:Dorms Close at 3:00 p.m.
DESCRIPTION:
URL:https://www.ethelwalker.org/event/dorms-close-at-300-p-m-3/
LOCATION:Connecticut
CATEGORIES:Middle School,Student Life,Upper School
END:VEVENT
BEGIN:VEVENT
DTSTART;TZID=America/New_York:20251122T000000
DTEND;TZID=America/New_York:20251201T235959
DTSTAMP:20260419T125034
CREATED:20250626T140431Z
LAST-MODIFIED:20250626T153751Z
UID:10004539-1763769600-1764633599@www.ethelwalker.org
SUMMARY:Thanksgiving Break
DESCRIPTION:
URL:https://www.ethelwalker.org/event/thanksgiving-break-5/
LOCATION:Connecticut
CATEGORIES:Holidays,Middle School,School Breaks,Upper School
END:VEVENT
END:VCALENDAR