BEGIN:VCALENDAR
VERSION:2.0
PRODID:-//The Ethel Walker School - ECPv6.15.12//NONSGML v1.0//EN
CALSCALE:GREGORIAN
METHOD:PUBLISH
X-WR-CALNAME:The Ethel Walker School
X-ORIGINAL-URL:https://www.ethelwalker.org
X-WR-CALDESC:Events for The Ethel Walker School
REFRESH-INTERVAL;VALUE=DURATION:PT1H
X-Robots-Tag:noindex
X-PUBLISHED-TTL:PT1H
BEGIN:VTIMEZONE
TZID:America/New_York
BEGIN:DAYLIGHT
TZOFFSETFROM:-0500
TZOFFSETTO:-0400
TZNAME:EDT
DTSTART:20250309T070000
END:DAYLIGHT
BEGIN:STANDARD
TZOFFSETFROM:-0400
TZOFFSETTO:-0500
TZNAME:EST
DTSTART:20251102T060000
END:STANDARD
BEGIN:DAYLIGHT
TZOFFSETFROM:-0500
TZOFFSETTO:-0400
TZNAME:EDT
DTSTART:20260308T070000
END:DAYLIGHT
BEGIN:STANDARD
TZOFFSETFROM:-0400
TZOFFSETTO:-0500
TZNAME:EST
DTSTART:20261101T060000
END:STANDARD
BEGIN:DAYLIGHT
TZOFFSETFROM:-0500
TZOFFSETTO:-0400
TZNAME:EDT
DTSTART:20270314T070000
END:DAYLIGHT
BEGIN:STANDARD
TZOFFSETFROM:-0400
TZOFFSETTO:-0500
TZNAME:EST
DTSTART:20271107T060000
END:STANDARD
END:VTIMEZONE
BEGIN:VEVENT
DTSTART;TZID=America/New_York:20260111T090000
DTEND;TZID=America/New_York:20260111T113500
DTSTAMP:20260424T073800
CREATED:20250918T124618Z
LAST-MODIFIED:20250918T124620Z
UID:10004729-1768122000-1768131300@www.ethelwalker.org
SUMMARY:Summit Test Prep Class
DESCRIPTION:
URL:https://www.ethelwalker.org/event/summit-test-prep-class-3/
LOCATION:Connecticut
CATEGORIES:Academics,Upper School
END:VEVENT
BEGIN:VEVENT
DTSTART;TZID=America/New_York:20260113T190000
DTEND;TZID=America/New_York:20260113T200000
DTSTAMP:20260424T073800
CREATED:20250626T143710Z
LAST-MODIFIED:20250626T143711Z
UID:10004551-1768330800-1768334400@www.ethelwalker.org
SUMMARY:College Money Method Financial Webinar
DESCRIPTION:
URL:https://www.ethelwalker.org/event/college-money-method-financial-webinar-3/
LOCATION:Connecticut
CATEGORIES:College Counseling,Upper School
END:VEVENT
BEGIN:VEVENT
DTSTART;TZID=America/New_York:20260114T143000
DTEND;TZID=America/New_York:20260114T160000
DTSTAMP:20260424T073800
CREATED:20251027T190024Z
LAST-MODIFIED:20260115T151054Z
UID:10004785-1768401000-1768406400@www.ethelwalker.org
SUMMARY:JV Basketball vs. Kent School
DESCRIPTION:
URL:https://www.ethelwalker.org/event/jv-basketball-vs-kent-school-3/
LOCATION:The Ethel Walker School\, 230 Bushy Hill Road\, Simsbury\, 06070\, United States
CATEGORIES:Athletic Games
END:VEVENT
BEGIN:VEVENT
DTSTART;TZID=America/New_York:20260114T143000
DTEND;TZID=America/New_York:20260114T160000
DTSTAMP:20260424T073800
CREATED:20251028T182149Z
LAST-MODIFIED:20260118T144926Z
UID:10004822-1768401000-1768406400@www.ethelwalker.org
SUMMARY:Varsity Basketball vs. Kent School
DESCRIPTION:
URL:https://www.ethelwalker.org/event/varsity-basketball-vs-kent-school-2/
LOCATION:The Ethel Walker School\, 230 Bushy Hill Road\, Simsbury\, 06070\, United States
CATEGORIES:Athletic Games
END:VEVENT
BEGIN:VEVENT
DTSTART;TZID=America/New_York:20260114T143000
DTEND;TZID=America/New_York:20260114T180000
DTSTAMP:20260424T073800
CREATED:20251202T191539Z
LAST-MODIFIED:20260122T183932Z
UID:10004846-1768401000-1768413600@www.ethelwalker.org
SUMMARY:Skiing @ Sundown
DESCRIPTION:
URL:https://www.ethelwalker.org/event/skiing-sundown-9/
LOCATION:Ski Sundown\, 126 Ratlum Road\, New Hartford\, Connecticut\, 06057\, United States
CATEGORIES:Athletic Games
END:VEVENT
BEGIN:VEVENT
DTSTART;TZID=America/New_York:20260114T150000
DTEND;TZID=America/New_York:20260114T160000
DTSTAMP:20260424T073800
CREATED:20251104T200744Z
LAST-MODIFIED:20260116T002010Z
UID:10004837-1768402800-1768406400@www.ethelwalker.org
SUMMARY:Middle School Basketball @ Indian Mountain School
DESCRIPTION:
URL:https://www.ethelwalker.org/event/middle-school-basketball-indian-mountain-school/
LOCATION:Indian Mountain School\, 211 Indian Mountain Road\, Lakeville\, CT\, 06039\, United States
CATEGORIES:Athletic Games
END:VEVENT
BEGIN:VEVENT
DTSTART;TZID=America/New_York:20260114T150000
DTEND;TZID=America/New_York:20260114T163000
DTSTAMP:20260424T073800
CREATED:20251201T162528Z
LAST-MODIFIED:20260116T002257Z
UID:10004845-1768402800-1768408200@www.ethelwalker.org
SUMMARY:Squash vs. Pomfret School
DESCRIPTION:
URL:https://www.ethelwalker.org/event/squash-vs-pomfret-school/
LOCATION:The Ethel Walker School\, 230 Bushy Hill Road\, Simsbury\, 06070\, United States
CATEGORIES:Athletic Games
END:VEVENT
BEGIN:VEVENT
DTSTART;TZID=America/New_York:20260114T173000
DTEND;TZID=America/New_York:20260114T190000
DTSTAMP:20260424T073800
CREATED:20251209T160149Z
LAST-MODIFIED:20251209T160150Z
UID:10004855-1768411800-1768417200@www.ethelwalker.org
SUMMARY:Curious Minds: Math and Science at Walker’s
DESCRIPTION:Get ready to explore\, experiment\, and discover! Join us at Walker’s for an exciting\, hands-on evening made just for middle school girls who love to ask questions\, solve problems\, and dive into the world of math and science. \n\n\n\nYour night will kick off with a warm welcome from our Admission Team before you and your family jump into real Walker’s classroom adventures. Students and parents will head into an interactive math or science session led by our inspiring teachers—think creative challenges\, cool experiments\, and chances to try things for yourself. From designing solutions to exploring scientific mysteries\, you’ll get a close-up look at the fun\, supportive\, and empowering environment that makes Walker’s a place where girls grow confident\, curious\, and bold. \n\n\n\nCome see how exciting learning can be when it’s built for you!  \n\n\n\n\nRegister
URL:https://www.ethelwalker.org/event/curious-minds-math-and-science-at-walkers/
LOCATION:Connecticut
CATEGORIES:Admission
END:VEVENT
BEGIN:VEVENT
DTSTART;TZID=America/New_York:20260115T164500
DTEND;TZID=America/New_York:20260115T180000
DTSTAMP:20260424T073800
CREATED:20260114T153338Z
LAST-MODIFIED:20260116T002136Z
UID:10004865-1768495500-1768500000@www.ethelwalker.org
SUMMARY:Middle School Basketball @ Watkinson School
DESCRIPTION:
URL:https://www.ethelwalker.org/event/middle-school-basketball-watkinson-school-3/
LOCATION:Watkinson School\, 180 Bloomfield Avenue\, Hartford\, Connecticut\, 06105
CATEGORIES:Athletic Games
END:VEVENT
BEGIN:VEVENT
DTSTART;TZID=America/New_York:20260116T160000
DTEND;TZID=America/New_York:20260116T180000
DTSTAMP:20260424T073800
CREATED:20251202T191947Z
LAST-MODIFIED:20260122T184022Z
UID:10004847-1768579200-1768586400@www.ethelwalker.org
SUMMARY:Skiing @ Sundown
DESCRIPTION:JV Slalom
URL:https://www.ethelwalker.org/event/skiing-sundown-10/
LOCATION:Ski Sundown\, 126 Ratlum Road\, New Hartford\, Connecticut\, 06057\, United States
CATEGORIES:Athletic Games
END:VEVENT
END:VCALENDAR