BEGIN:VCALENDAR
VERSION:2.0
PRODID:-//The Ethel Walker School - ECPv6.15.12//NONSGML v1.0//EN
CALSCALE:GREGORIAN
METHOD:PUBLISH
X-ORIGINAL-URL:https://www.ethelwalker.org
X-WR-CALDESC:Events for The Ethel Walker School
REFRESH-INTERVAL;VALUE=DURATION:PT1H
X-Robots-Tag:noindex
X-PUBLISHED-TTL:PT1H
BEGIN:VTIMEZONE
TZID:America/New_York
BEGIN:DAYLIGHT
TZOFFSETFROM:-0500
TZOFFSETTO:-0400
TZNAME:EDT
DTSTART:20200308T070000
END:DAYLIGHT
BEGIN:STANDARD
TZOFFSETFROM:-0400
TZOFFSETTO:-0500
TZNAME:EST
DTSTART:20201101T060000
END:STANDARD
BEGIN:DAYLIGHT
TZOFFSETFROM:-0500
TZOFFSETTO:-0400
TZNAME:EDT
DTSTART:20210314T070000
END:DAYLIGHT
BEGIN:STANDARD
TZOFFSETFROM:-0400
TZOFFSETTO:-0500
TZNAME:EST
DTSTART:20211107T060000
END:STANDARD
BEGIN:DAYLIGHT
TZOFFSETFROM:-0500
TZOFFSETTO:-0400
TZNAME:EDT
DTSTART:20220313T070000
END:DAYLIGHT
BEGIN:STANDARD
TZOFFSETFROM:-0400
TZOFFSETTO:-0500
TZNAME:EST
DTSTART:20221106T060000
END:STANDARD
BEGIN:DAYLIGHT
TZOFFSETFROM:-0500
TZOFFSETTO:-0400
TZNAME:EDT
DTSTART:20230312T070000
END:DAYLIGHT
BEGIN:STANDARD
TZOFFSETFROM:-0400
TZOFFSETTO:-0500
TZNAME:EST
DTSTART:20231105T060000
END:STANDARD
BEGIN:DAYLIGHT
TZOFFSETFROM:-0500
TZOFFSETTO:-0400
TZNAME:EDT
DTSTART:20240310T070000
END:DAYLIGHT
BEGIN:STANDARD
TZOFFSETFROM:-0400
TZOFFSETTO:-0500
TZNAME:EST
DTSTART:20241103T060000
END:STANDARD
BEGIN:DAYLIGHT
TZOFFSETFROM:-0500
TZOFFSETTO:-0400
TZNAME:EDT
DTSTART:20250309T070000
END:DAYLIGHT
BEGIN:STANDARD
TZOFFSETFROM:-0400
TZOFFSETTO:-0500
TZNAME:EST
DTSTART:20251102T060000
END:STANDARD
BEGIN:DAYLIGHT
TZOFFSETFROM:-0500
TZOFFSETTO:-0400
TZNAME:EDT
DTSTART:20260308T070000
END:DAYLIGHT
BEGIN:STANDARD
TZOFFSETFROM:-0400
TZOFFSETTO:-0500
TZNAME:EST
DTSTART:20261101T060000
END:STANDARD
END:VTIMEZONE
BEGIN:VEVENT
DTSTART;TZID=America/New_York:20251210T150000
DTEND;TZID=America/New_York:20251210T170000
DTSTAMP:20260422T022926
CREATED:20251027T165906Z
LAST-MODIFIED:20251207T141733Z
UID:10004761-1765378800-1765386000@www.ethelwalker.org
SUMMARY:Varsity Swimming @ Kent School
DESCRIPTION:
URL:https://www.ethelwalker.org/event/varsity-swimming-kent-school/
LOCATION:Kent School\, 1 Macedonia Road\, Kent\, Connecticut\, 06757\, United States
CATEGORIES:Athletic Games
END:VEVENT
BEGIN:VEVENT
DTSTART;TZID=America/New_York:20250920T143000
DTEND;TZID=America/New_York:20250920T160000
DTSTAMP:20260422T022926
CREATED:20250729T190814Z
LAST-MODIFIED:20251006T173840Z
UID:10004645-1758378600-1758384000@www.ethelwalker.org
SUMMARY:JV Soccer @ Kent School
DESCRIPTION:
URL:https://www.ethelwalker.org/event/jv-soccer-kent-school-3/
LOCATION:Kent School\, 1 Macedonia Road\, Kent\, Connecticut\, 06757\, United States
CATEGORIES:Athletic Games
END:VEVENT
BEGIN:VEVENT
DTSTART;TZID=America/New_York:20250920T143000
DTEND;TZID=America/New_York:20250920T160000
DTSTAMP:20260422T022926
CREATED:20250729T180546Z
LAST-MODIFIED:20250921T204745Z
UID:10004629-1758378600-1758384000@www.ethelwalker.org
SUMMARY:Varsity Soccer @ Kent School
DESCRIPTION:
URL:https://www.ethelwalker.org/event/varsity-soccer-kent-school-3/
LOCATION:Kent School\, 1 Macedonia Road\, Kent\, Connecticut\, 06757\, United States
CATEGORIES:Athletic Games
END:VEVENT
BEGIN:VEVENT
DTSTART;TZID=America/New_York:20250514T143000
DTEND;TZID=America/New_York:20250514T163000
DTSTAMP:20260422T022926
CREATED:20250224T194727Z
LAST-MODIFIED:20250514T131707Z
UID:10004446-1747233000-1747240200@www.ethelwalker.org
SUMMARY:Varsity Softball @ Kent School
DESCRIPTION:
URL:https://www.ethelwalker.org/event/varsity-softball-kent-school-2/
LOCATION:Kent School\, 1 Macedonia Road\, Kent\, Connecticut\, 06757\, United States
CATEGORIES:Athletic Games
END:VEVENT
BEGIN:VEVENT
DTSTART;TZID=America/New_York:20250514T143000
DTEND;TZID=America/New_York:20250514T160000
DTSTAMP:20260422T022926
CREATED:20250226T201611Z
LAST-MODIFIED:20250226T201642Z
UID:10004462-1747233000-1747238400@www.ethelwalker.org
SUMMARY:Varsity Tennis @ Kent School
DESCRIPTION:
URL:https://www.ethelwalker.org/event/varsity-tennis-kent-school-2/
LOCATION:Kent School\, 1 Macedonia Road\, Kent\, Connecticut\, 06757\, United States
CATEGORIES:Athletic Games
END:VEVENT
BEGIN:VEVENT
DTSTART;TZID=America/New_York:20250405T131500
DTEND;TZID=America/New_York:20250405T151500
DTSTAMP:20260422T022926
CREATED:20250224T160106Z
LAST-MODIFIED:20250404T184459Z
UID:10004415-1743858900-1743866100@www.ethelwalker.org
SUMMARY:JV Lacrosse @ Kent School
DESCRIPTION:
URL:https://www.ethelwalker.org/event/jv-lacrosse-kent-school/
LOCATION:Kent School\, 1 Macedonia Road\, Kent\, Connecticut\, 06757\, United States
CATEGORIES:Athletic Games
END:VEVENT
BEGIN:VEVENT
DTSTART;TZID=America/New_York:20250405T131500
DTEND;TZID=America/New_York:20250405T144500
DTSTAMP:20260422T022926
CREATED:20250302T181445Z
LAST-MODIFIED:20250407T145515Z
UID:10004466-1743858900-1743864300@www.ethelwalker.org
SUMMARY:Varsity Lacrosse @ Kent School
DESCRIPTION:
URL:https://www.ethelwalker.org/event/varsity-lacrosse-kent-school-2/
LOCATION:Kent School\, 1 Macedonia Road\, Kent\, Connecticut\, 06757\, United States
CATEGORIES:Athletic Games
END:VEVENT
BEGIN:VEVENT
DTSTART;TZID=America/New_York:20250115T163000
DTEND;TZID=America/New_York:20250115T180000
DTSTAMP:20260422T022926
CREATED:20241113T195028Z
LAST-MODIFIED:20250124T170455Z
UID:10004328-1736958600-1736964000@www.ethelwalker.org
SUMMARY:Varsity Basketball @ Kent School
DESCRIPTION:
URL:https://www.ethelwalker.org/event/varsity-basketball-kent-school/
LOCATION:Kent School\, 1 Macedonia Road\, Kent\, Connecticut\, 06757\, United States
CATEGORIES:Athletic Games
END:VEVENT
BEGIN:VEVENT
DTSTART;TZID=America/New_York:20250115T140000
DTEND;TZID=America/New_York:20250115T150000
DTSTAMP:20260422T022926
CREATED:20241113T194613Z
LAST-MODIFIED:20250124T174039Z
UID:10004326-1736949600-1736953200@www.ethelwalker.org
SUMMARY:Middle School Basketball @ Kent School
DESCRIPTION:
URL:https://www.ethelwalker.org/event/middle-school-basketball-kent-school/
LOCATION:Kent School\, 1 Macedonia Road\, Kent\, Connecticut\, 06757\, United States
CATEGORIES:Athletic Games
END:VEVENT
BEGIN:VEVENT
DTSTART;TZID=America/New_York:20241211T150000
DTEND;TZID=America/New_York:20241211T163000
DTSTAMP:20260422T022926
CREATED:20241113T185340Z
LAST-MODIFIED:20250124T152750Z
UID:10004307-1733929200-1733934600@www.ethelwalker.org
SUMMARY:Varsity Squash @ Kent School
DESCRIPTION:
URL:https://www.ethelwalker.org/event/varsity-squash-kent-school-2/
LOCATION:Kent School\, 1 Macedonia Road\, Kent\, Connecticut\, 06757\, United States
CATEGORIES:Athletic Games
END:VEVENT
BEGIN:VEVENT
DTSTART;TZID=America/New_York:20241023T143000
DTEND;TZID=America/New_York:20241023T160000
DTSTAMP:20260422T022926
CREATED:20240802T173726Z
LAST-MODIFIED:20240802T173749Z
UID:10004241-1729693800-1729699200@www.ethelwalker.org
SUMMARY:Varsity Volleyball @ Kent School
DESCRIPTION:
URL:https://www.ethelwalker.org/event/varsity-volleyball-kent-school/
LOCATION:Kent School\, 1 Macedonia Road\, Kent\, Connecticut\, 06757\, United States
CATEGORIES:Athletic Games
END:VEVENT
BEGIN:VEVENT
DTSTART;TZID=America/New_York:20241023T143000
DTEND;TZID=America/New_York:20241023T160000
DTSTAMP:20260422T022926
CREATED:20240802T173458Z
LAST-MODIFIED:20241101T134420Z
UID:10004239-1729693800-1729699200@www.ethelwalker.org
SUMMARY:JV Volleyball @ Kent School
DESCRIPTION:
URL:https://www.ethelwalker.org/event/jv-volleyball-kent-school/
LOCATION:Kent School\, 1 Macedonia Road\, Kent\, Connecticut\, 06757\, United States
CATEGORIES:Athletic Games
END:VEVENT
BEGIN:VEVENT
DTSTART;TZID=America/New_York:20241019T143000
DTEND;TZID=America/New_York:20241019T154500
DTSTAMP:20260422T022926
CREATED:20240802T172526Z
LAST-MODIFIED:20241020T115742Z
UID:10004235-1729348200-1729352700@www.ethelwalker.org
SUMMARY:Varsity Field Hockey @ Kent School
DESCRIPTION:
URL:https://www.ethelwalker.org/event/varsity-field-hockey-kent-school/
LOCATION:Kent School\, 1 Macedonia Road\, Kent\, Connecticut\, 06757\, United States
CATEGORIES:Athletic Games
END:VEVENT
BEGIN:VEVENT
DTSTART;TZID=America/New_York:20241012T150000
DTEND;TZID=America/New_York:20241012T160000
DTSTAMP:20260422T022926
CREATED:20240910T153120Z
LAST-MODIFIED:20240910T153147Z
UID:10004282-1728745200-1728748800@www.ethelwalker.org
SUMMARY:Cross Country @ Kent School
DESCRIPTION:
URL:https://www.ethelwalker.org/event/cross-country-kent-school/
LOCATION:Kent School\, 1 Macedonia Road\, Kent\, Connecticut\, 06757\, United States
CATEGORIES:Athletic Games
END:VEVENT
BEGIN:VEVENT
DTSTART;TZID=America/New_York:20231206T150000
DTEND;TZID=America/New_York:20231206T163000
DTSTAMP:20260422T022926
CREATED:20231029T191534Z
LAST-MODIFIED:20231206T160709Z
UID:10003809-1701874800-1701880200@www.ethelwalker.org
SUMMARY:Varsity Squash @ Kent School
DESCRIPTION:
URL:https://www.ethelwalker.org/event/varsity-squash-kent-school/
LOCATION:Kent School\, 1 Macedonia Road\, Kent\, Connecticut\, 06757\, United States
CATEGORIES:Athletic Games
END:VEVENT
BEGIN:VEVENT
DTSTART;TZID=America/New_York:20230923T140000
DTEND;TZID=America/New_York:20230923T160000
DTSTAMP:20260422T022926
CREATED:20230707T215741Z
LAST-MODIFIED:20240121T170306Z
UID:10003615-1695477600-1695484800@www.ethelwalker.org
SUMMARY:Varsity Soccer @ Kent School
DESCRIPTION:
URL:https://www.ethelwalker.org/event/varsity-soccer-kent-school/
LOCATION:Kent School\, 1 Macedonia Road\, Kent\, Connecticut\, 06757\, United States
CATEGORIES:Athletic Games
END:VEVENT
BEGIN:VEVENT
DTSTART;TZID=America/New_York:20230923T140000
DTEND;TZID=America/New_York:20230923T153000
DTSTAMP:20260422T022926
CREATED:20230707T215915Z
LAST-MODIFIED:20230928T144604Z
UID:10003663-1695477600-1695483000@www.ethelwalker.org
SUMMARY:JV Soccer @ Kent School
DESCRIPTION:
URL:https://www.ethelwalker.org/event/jv-soccer-kent-school-2/
LOCATION:Kent School\, 1 Macedonia Road\, Kent\, Connecticut\, 06757\, United States
CATEGORIES:Athletic Games
END:VEVENT
BEGIN:VEVENT
DTSTART;TZID=America/New_York:20230517T143000
DTEND;TZID=America/New_York:20230517T163000
DTSTAMP:20260422T022926
CREATED:20230224T173142Z
LAST-MODIFIED:20230224T173205Z
UID:10003522-1684333800-1684341000@www.ethelwalker.org
SUMMARY:Varsity Softball @ Kent School
DESCRIPTION:
URL:https://www.ethelwalker.org/event/varsity-softball-kent-school/
LOCATION:Kent School\, 1 Macedonia Road\, Kent\, Connecticut\, 06757\, United States
CATEGORIES:Athletic Games
END:VEVENT
BEGIN:VEVENT
DTSTART;TZID=America/New_York:20230517T143000
DTEND;TZID=America/New_York:20230517T160000
DTSTAMP:20260422T022926
CREATED:20230224T183012Z
LAST-MODIFIED:20230523T180805Z
UID:10003426-1684333800-1684339200@www.ethelwalker.org
SUMMARY:Varsity Tennis @ Kent School
DESCRIPTION:
URL:https://www.ethelwalker.org/event/varsity-tennis-kent-school/
LOCATION:Kent School\, 1 Macedonia Road\, Kent\, Connecticut\, 06757\, United States
CATEGORIES:Athletic Games
END:VEVENT
BEGIN:VEVENT
DTSTART;TZID=America/New_York:20230407T164500
DTEND;TZID=America/New_York:20230407T181500
DTSTAMP:20260422T022926
CREATED:20230224T154547Z
LAST-MODIFIED:20230412T141635Z
UID:10003402-1680885900-1680891300@www.ethelwalker.org
SUMMARY:Varsity Lacrosse @ Kent School
DESCRIPTION:
URL:https://www.ethelwalker.org/event/varsity-lacrosse-kent-school/
LOCATION:Kent School\, 1 Macedonia Road\, Kent\, Connecticut\, 06757\, United States
CATEGORIES:Athletic Games
END:VEVENT
BEGIN:VEVENT
DTSTART;TZID=America/New_York:20230111T143000
DTEND;TZID=America/New_York:20230111T160000
DTSTAMP:20260422T022926
CREATED:20221104T001533Z
LAST-MODIFIED:20230112T224105Z
UID:10003407-1673447400-1673452800@www.ethelwalker.org
SUMMARY:JV Basketball @ Kent School
DESCRIPTION:
URL:https://www.ethelwalker.org/event/jv-basketball-kent-school/
LOCATION:Kent School\, 1 Macedonia Road\, Kent\, Connecticut\, 06757\, United States
CATEGORIES:Athletic Games
END:VEVENT
BEGIN:VEVENT
DTSTART;TZID=America/New_York:20230111T143000
DTEND;TZID=America/New_York:20230111T160000
DTSTAMP:20260422T022926
CREATED:20221104T001347Z
LAST-MODIFIED:20230112T152851Z
UID:10003409-1673447400-1673452800@www.ethelwalker.org
SUMMARY:Varsity Basketball @ Kent School
DESCRIPTION:
URL:https://www.ethelwalker.org/event/varsity-basketball-kent-school-2/
LOCATION:Kent School\, 1 Macedonia Road\, Kent\, Connecticut\, 06757\, United States
CATEGORIES:Athletic Games
END:VEVENT
BEGIN:VEVENT
DTSTART;TZID=America/New_York:20221026T143000
DTEND;TZID=America/New_York:20221026T160000
DTSTAMP:20260422T022926
CREATED:20220824T164852Z
LAST-MODIFIED:20220824T164919Z
UID:10003310-1666794600-1666800000@www.ethelwalker.org
SUMMARY:Volleyball @ Kent School
DESCRIPTION:
URL:https://www.ethelwalker.org/event/volleyball-kent-school/
LOCATION:Kent School\, 1 Macedonia Road\, Kent\, Connecticut\, 06757\, United States
CATEGORIES:Athletic Games
END:VEVENT
BEGIN:VEVENT
DTSTART;TZID=America/New_York:20221022T140000
DTEND;TZID=America/New_York:20221022T153000
DTSTAMP:20260422T022926
CREATED:20220720T165921Z
LAST-MODIFIED:20221023T142848Z
UID:10003174-1666447200-1666452600@www.ethelwalker.org
SUMMARY:Varsity Field Hockey @ Kent School
DESCRIPTION:
URL:https://www.ethelwalker.org/event/varsity-field-hockey-kent-school-2/
LOCATION:Kent School\, 1 Macedonia Road\, Kent\, Connecticut\, 06757\, United States
CATEGORIES:Athletic Games
END:VEVENT
BEGIN:VEVENT
DTSTART;TZID=America/New_York:20220115T143000
DTEND;TZID=America/New_York:20220115T163000
DTSTAMP:20260422T022926
CREATED:20211120T162925Z
LAST-MODIFIED:20211230T142750Z
UID:10002937-1642257000-1642264200@www.ethelwalker.org
SUMMARY:Swimming @ Kent School
DESCRIPTION:
URL:https://www.ethelwalker.org/event/swimming-kent-school-2/
LOCATION:Kent School\, 1 Macedonia Road\, Kent\, Connecticut\, 06757\, United States
CATEGORIES:Athletic Games
END:VEVENT
BEGIN:VEVENT
DTSTART;TZID=America/New_York:20220115T143000
DTEND;TZID=America/New_York:20220115T163000
DTSTAMP:20260422T022926
CREATED:20211120T162739Z
LAST-MODIFIED:20211230T142728Z
UID:10002938-1642257000-1642264200@www.ethelwalker.org
SUMMARY:Swimming @ Kent School
DESCRIPTION:
URL:https://www.ethelwalker.org/event/swimming-kent-school/
LOCATION:Kent School\, 1 Macedonia Road\, Kent\, Connecticut\, 06757\, United States
CATEGORIES:Athletic Games
END:VEVENT
BEGIN:VEVENT
DTSTART;TZID=America/New_York:20211211T130000
DTEND;TZID=America/New_York:20211211T143000
DTSTAMP:20260422T022926
CREATED:20211118T181104Z
LAST-MODIFIED:20211208T152221Z
UID:10002922-1639227600-1639233000@www.ethelwalker.org
SUMMARY:Varsity Squash @ Kent School
DESCRIPTION:
URL:https://www.ethelwalker.org/event/varsity-squash-kent-school-3/
LOCATION:Kent School\, 1 Macedonia Road\, Kent\, Connecticut\, 06757\, United States
CATEGORIES:Athletic Games
END:VEVENT
BEGIN:VEVENT
DTSTART;TZID=America/New_York:20210925T140000
DTEND;TZID=America/New_York:20210925T160000
DTSTAMP:20260422T022926
CREATED:20210719T163320Z
LAST-MODIFIED:20210926T120253Z
UID:10002781-1632578400-1632585600@www.ethelwalker.org
SUMMARY:JV Soccer @ Kent School
DESCRIPTION:
URL:https://www.ethelwalker.org/event/jv-soccer-kent-school/
LOCATION:Kent School\, 1 Macedonia Road\, Kent\, Connecticut\, 06757\, United States
CATEGORIES:Athletic Games
END:VEVENT
BEGIN:VEVENT
DTSTART;TZID=America/New_York:20210925T140000
DTEND;TZID=America/New_York:20210925T160000
DTSTAMP:20260422T022926
CREATED:20210707T182303Z
LAST-MODIFIED:20210926T120408Z
UID:10002679-1632578400-1632585600@www.ethelwalker.org
SUMMARY:Varsity Soccer @ Kent School
DESCRIPTION:
URL:https://www.ethelwalker.org/event/varsity-soccer-kent-school-2/
LOCATION:Kent School\, 1 Macedonia Road\, Kent\, Connecticut\, 06757\, United States
CATEGORIES:Athletic Games
END:VEVENT
END:VCALENDAR